WebService-HMRC-CreateTestUser v0.01 Perl 5 v5.26.1 x86_64-linux-thread-multi
- Status
- Pass
- From
- Nigel Horne
- Dist
-
WebService-HMRC-CreateTestUser v0.01
- Platform
- Perl 5 v5.26.1 x86_64-linux-thread-multi
- Date
- 2018-10-27 15:54:18
- ID
- 901b4ed2-da00-11e8-afbf-aec3b07506ca
This distribution has been tested as part of the CPAN Testers
project, supporting the Perl programming language. See
http://wiki.cpantesters.org/ for more information or email
questions to cpan-testers-discuss@perl.org
--
Dear Nicholas Prater,
This is a computer-generated report for WebService-HMRC-CreateTestUser-0.01
on perl 5.26.1, created by CPAN-Reporter-1.2018.
Thank you for uploading your work to CPAN. Congratulations!
All tests were successful.
Sections of this report:
* Tester comments
* Program output
* Prerequisites
* Environment and other context
------------------------------
TESTER COMMENTS
------------------------------
Additional comments from tester:
this report is from an automated smoke testing program
and was not reviewed by a human for accuracy
------------------------------
PROGRAM OUTPUT
------------------------------
Output from '/usr/bin/make test':
PERL_DL_NONLAZY=1 "/home/njh/perl5/perlbrew/perls/perl-5.26.1-thread/bin/perl5.26.1" "-MExtUtils::Command::MM" "-MTest::Harness" "-e" "undef *Test::Harness::Switches; test_harness(0, 'blib/lib', 'blib/arch')" t/*.t
# Testing WebService::HMRC::CreateTestUser 0.01, Perl 5.026001, /home/njh/perl5/perlbrew/perls/perl-5.26.1-thread/bin/perl5.26.1
t/00-load.t .............. ok
t/02-hmrc-api-request.t .. ok
unable to parse api response as json: malformed JSON string, neither tag, array, object, number, string or atom, at character offset 0 (before "Can't connect to inv...") at /tmp/build/WebService-HMRC-0.01-47/blib/lib/WebService/HMRC/Response.pm line 119.
at /tmp/build/WebService-HMRC-0.01-47/blib/lib/WebService/HMRC/Response.pm line 132.
Error calling api endpoint: 500 Can't connect to invalid:80 (Name or service not known) at t/01-local-tests.t line 52.
code: INVALID_RESPONSE at t/01-local-tests.t line 52.
message: No valid JSON data received from api call. 500 Can't connect to invalid:80 (Name or service not known) at t/01-local-tests.t line 52.
unable to parse api response as json: malformed JSON string, neither tag, array, object, number, string or atom, at character offset 0 (before "Can't connect to inv...") at /tmp/build/WebService-HMRC-0.01-47/blib/lib/WebService/HMRC/Response.pm line 119.
at /tmp/build/WebService-HMRC-0.01-47/blib/lib/WebService/HMRC/Response.pm line 132.
Error calling api endpoint: 500 Can't connect to invalid:80 (Name or service not known) at t/01-local-tests.t line 61.
code: INVALID_RESPONSE at t/01-local-tests.t line 61.
message: No valid JSON data received from api call. 500 Can't connect to invalid:80 (Name or service not known) at t/01-local-tests.t line 61.
unable to parse api response as json: malformed JSON string, neither tag, array, object, number, string or atom, at character offset 0 (before "Can't connect to inv...") at /tmp/build/WebService-HMRC-0.01-47/blib/lib/WebService/HMRC/Response.pm line 119.
at /tmp/build/WebService-HMRC-0.01-47/blib/lib/WebService/HMRC/Response.pm line 132.
Error calling api endpoint: 500 Can't connect to invalid:80 (Name or service not known) at t/01-local-tests.t line 70.
code: INVALID_RESPONSE at t/01-local-tests.t line 70.
message: No valid JSON data received from api call. 500 Can't connect to invalid:80 (Name or service not known) at t/01-local-tests.t line 70.
unable to parse api response as json: malformed JSON string, neither tag, array, object, number, string or atom, at character offset 0 (before "Can't connect to inv...") at /tmp/build/WebService-HMRC-0.01-47/blib/lib/WebService/HMRC/Response.pm line 119.
at /tmp/build/WebService-HMRC-0.01-47/blib/lib/WebService/HMRC/Response.pm line 132.
Error calling api endpoint: 500 Can't connect to invalid:80 (Name or service not known) at t/01-local-tests.t line 81.
code: INVALID_RESPONSE at t/01-local-tests.t line 81.
message: No valid JSON data received from api call. 500 Can't connect to invalid:80 (Name or service not known) at t/01-local-tests.t line 81.
unable to parse api response as json: malformed JSON string, neither tag, array, object, number, string or atom, at character offset 0 (before "Can't connect to inv...") at /tmp/build/WebService-HMRC-0.01-47/blib/lib/WebService/HMRC/Response.pm line 119.
at /tmp/build/WebService-HMRC-0.01-47/blib/lib/WebService/HMRC/Response.pm line 132.
Error calling api endpoint: 500 Can't connect to invalid:80 (Name or service not known) at t/01-local-tests.t line 91.
code: INVALID_RESPONSE at t/01-local-tests.t line 91.
message: No valid JSON data received from api call. 500 Can't connect to invalid:80 (Name or service not known) at t/01-local-tests.t line 91.
unable to parse api response as json: malformed JSON string, neither tag, array, object, number, string or atom, at character offset 0 (before "Can't connect to inv...") at /tmp/build/WebService-HMRC-0.01-47/blib/lib/WebService/HMRC/Response.pm line 119.
at /tmp/build/WebService-HMRC-0.01-47/blib/lib/WebService/HMRC/Response.pm line 132.
Error calling api endpoint: 500 Can't connect to invalid:80 (Name or service not known) at t/01-local-tests.t line 101.
code: INVALID_RESPONSE at t/01-local-tests.t line 101.
message: No valid JSON data received from api call. 500 Can't connect to invalid:80 (Name or service not known) at t/01-local-tests.t line 101.
t/01-local-tests.t ....... ok
All tests successful.
Files=3, Tests=49, 1 wallclock secs ( 0.01 usr 0.01 sys + 0.59 cusr 0.04 csys = 0.65 CPU)
Result: PASS
------------------------------
PREREQUISITES
------------------------------
Prerequisite modules loaded:
requires:
Module Need Have
-------------------- ----- --------
Moose 0 2.2010
namespace::autoclean 0 0.28
perl 5.006 5.026001
WebService::HMRC 0 0.01
build_requires:
Module Need Have
-------------------- ----- --------
ExtUtils::MakeMaker 0 7.34
Test::Exception 0 0.43
Test::More 0 1.302136
configure_requires:
Module Need Have
-------------------- ----- --------
ExtUtils::MakeMaker 0 7.34
------------------------------
ENVIRONMENT AND OTHER CONTEXT
------------------------------
Environment variables:
AUTOMATED_TESTING = 1
HARNESS_OPTIONS = j10
LANG = en_GB.UTF-8
NONINTERACTIVE_TESTING = 1
PATH = /home/njh/perl5/perlbrew/bin:/home/njh/perl5/perlbrew/perls/perl-5.26.1-thread/bin:/usr/bin:/bin:/home/njh/src/njh/smoker/bin
PERL5LIB = /tmp/build/WebService-HMRC-HelloWorld-0.01-11/blib/arch:/tmp/build/WebService-HMRC-HelloWorld-0.01-11/blib/lib:/tmp/build/WebService-HMRC-VAT-0.01-24/blib/arch:/tmp/build/WebService-HMRC-VAT-0.01-24/blib/lib:/tmp/build/WebService-HMRC-0.01-47/blib/arch:/tmp/build/WebService-HMRC-0.01-47/blib/lib
PERL5OPT =
PERL5_CPANPLUS_IS_RUNNING = 29338
PERL5_CPAN_IS_RUNNING = 29338
PERLBREW_HOME = /home/njh/.perlbrew
PERLBREW_MANPATH = /home/njh/perl5/perlbrew/perls/perl-5.26.1-thread/man
PERLBREW_PATH = /home/njh/perl5/perlbrew/bin:/home/njh/perl5/perlbrew/perls/perl-5.26.1-thread/bin
PERLBREW_PERL = perl-5.26.1-thread
PERLBREW_ROOT = /home/njh/perl5/perlbrew
PERLBREW_SHELLRC_VERSION = 0.84
PERLBREW_VERSION = 0.84
PERL_MM_USE_DEFAULT = 1
SHELL = /bin/sh
TEMP = /tmp/user/1000
TMPDIR = /tmp/user/1000/testwrapper.29324
Perl special variables (and OS-specific diagnostics, for MSWin32):
$^X = /home/njh/perl5/perlbrew/perls/perl-5.26.1-thread/bin/perl5.26.1
$UID/$EUID = 1000 / 1000
$GID = 1000 4 24 25 29 30 44 46 107 112 118 1000
$EGID = 1000 4 24 25 29 30 44 46 107 112 118 1000
Perl module toolchain versions installed:
Module Have
------------------- --------
CPAN 2.16
CPAN::Meta 2.150010
Cwd 3.67
ExtUtils::CBuilder 0.280230
ExtUtils::Command 7.34
ExtUtils::Install 2.14
ExtUtils::MakeMaker 7.34
ExtUtils::Manifest 1.71
ExtUtils::ParseXS 3.35
File::Spec 3.67
JSON 2.97001
JSON::PP 2.97001
Module::Build 0.4224
Module::Signature n/a
Parse::CPAN::Meta 2.150010
Test::Harness 3.39
Test::More 1.302136
YAML 1.26
YAML::Syck 1.30
version 0.9918
--
Summary of my perl5 (revision 5 version 26 subversion 1) configuration:
Platform:
osname=linux
osvers=4.12.0-2-amd64
archname=x86_64-linux-thread-multi
uname='linux microcenter 4.12.0-2-amd64 #1 smp debian 4.12.13-1 (2017-09-19) x86_64 gnulinux '
config_args='-de -Dprefix=/home/njh/perl5/perlbrew/perls/perl-5.26.1-thread -Dusedevel -Dusethreads -Accflags=-O2 -W -Wformat=2 -Wswitch -Wshadow -Wwrite-strings -Wuninitialized -Wall -pipe -fomit-frame-pointer -pedantic -D_FORTIFY_SOURCE=2 -Wpointer-arith -Wstrict-prototypes -fstack-protector -Wstack-protector -Wextra -Wbad-function-cast -Wcast-align -Wcast-qual -Wdisabled-optimization -Wendif-labels -Wfloat-equal -Wformat-nonliteral -Winline -Wmissing-declarations -Wmissing-prototypes -Wnested-externs -Wpointer-arith -Wundef -Wformat-security -ftree-vectorize -msse -mfpmath=sse -msse2 -mssse3 -msse4.1 -msse4.2 -fdiagnostics-color=auto -mtune=native -march=native -Aeval:scriptdir=/home/njh/perl5/perlbrew/perls/perl-5.26.1-thread/bin'
hint=recommended
useposix=true
d_sigaction=define
useithreads=define
usemultiplicity=define
use64bitint=define
use64bitall=define
uselongdouble=undef
usemymalloc=n
default_inc_excludes_dot=define
bincompat5005=undef
Compiler:
cc='cc'
ccflags ='-D_REENTRANT -D_GNU_SOURCE -O2 -W -Wformat=2 -Wswitch -Wshadow -Wwrite-strings -Wuninitialized -Wall -pipe -fomit-frame-pointer -pedantic -D_FORTIFY_SOURCE=2 -Wpointer-arith -Wstrict-prototypes -fstack-protector -Wstack-protector -Wextra -Wbad-function-cast -Wcast-align -Wcast-qual -Wdisabled-optimization -Wendif-labels -Wfloat-equal -Wformat-nonliteral -Winline -Wmissing-declarations -Wmissing-prototypes -Wnested-externs -Wpointer-arith -Wundef -Wformat-security -ftree-vectorize -msse -mfpmath=sse -msse2 -mssse3 -msse4.1 -msse4.2 -fdiagnostics-color=auto -mtune=native -march=native -fwrapv -fno-strict-aliasing -fstack-protector-strong -I/usr/local/include -D_LARGEFILE_SOURCE -D_FILE_OFFSET_BITS=64'
optimize='-O2'
cppflags='-D_REENTRANT -D_GNU_SOURCE -O2 -W -Wformat=2 -Wswitch -Wshadow -Wwrite-strings -Wuninitialized -Wall -pipe -fomit-frame-pointer -pedantic -D_FORTIFY_SOURCE=2 -Wpointer-arith -Wstrict-prototypes -fstack-protector -Wstack-protector -Wextra -Wbad-function-cast -Wcast-align -Wcast-qual -Wdisabled-optimization -Wendif-labels -Wfloat-equal -Wformat-nonliteral -Winline -Wmissing-declarations -Wmissing-prototypes -Wnested-externs -Wpointer-arith -Wundef -Wformat-security -ftree-vectorize -msse -mfpmath=sse -msse2 -mssse3 -msse4.1 -msse4.2 -fdiagnostics-color=auto -mtune=native -march=native -fwrapv -fno-strict-aliasing -fstack-protector-strong -I/usr/local/include'
ccversion=''
gccversion='7.2.0'
gccosandvers=''
intsize=4
longsize=8
ptrsize=8
doublesize=8
byteorder=12345678
doublekind=3
d_longlong=define
longlongsize=8
d_longdbl=define
longdblsize=16
longdblkind=3
ivtype='long'
ivsize=8
nvtype='double'
nvsize=8
Off_t='off_t'
lseeksize=8
alignbytes=8
prototype=define
Linker and Libraries:
ld='cc'
ldflags =' -fstack-protector-strong -L/usr/local/lib'
libpth=/usr/local/lib /usr/lib/gcc/x86_64-linux-gnu/7/include-fixed /usr/include/x86_64-linux-gnu /usr/lib /lib/x86_64-linux-gnu /lib/../lib /usr/lib/x86_64-linux-gnu /usr/lib/../lib /lib
libs=-lpthread -lnsl -lgdbm -ldb -ldl -lm -lcrypt -lutil -lc -lgdbm_compat
perllibs=-lpthread -lnsl -ldl -lm -lcrypt -lutil -lc
libc=libc-2.24.so
so=so
useshrplib=false
libperl=libperl.a
gnulibc_version='2.24'
Dynamic Linking:
dlsrc=dl_dlopen.xs
dlext=so
d_dlsymun=undef
ccdlflags='-Wl,-E'
cccdlflags='-fPIC'
lddlflags='-shared -O2 -L/usr/local/lib -fstack-protector-strong'
Characteristics of this binary (from libperl):
Compile-time options:
HAS_TIMES
MULTIPLICITY
PERLIO_LAYERS
PERL_COPY_ON_WRITE
PERL_DONT_CREATE_GVSV
PERL_IMPLICIT_CONTEXT
PERL_MALLOC_WRAP
PERL_OP_PARENT
PERL_PRESERVE_IVUV
PERL_USE_DEVEL
USE_64_BIT_ALL
USE_64_BIT_INT
USE_ITHREADS
USE_LARGE_FILES
USE_LOCALE
USE_LOCALE_COLLATE
USE_LOCALE_CTYPE
USE_LOCALE_NUMERIC
USE_LOCALE_TIME
USE_PERLIO
USE_PERL_ATOF
USE_REENTRANT_API
Built under linux
Compiled at Sep 27 2017 11:53:34
%ENV:
PERL5LIB="/tmp/build/WebService-HMRC-HelloWorld-0.01-11/blib/arch:/tmp/build/WebService-HMRC-HelloWorld-0.01-11/blib/lib:/tmp/build/WebService-HMRC-VAT-0.01-24/blib/arch:/tmp/build/WebService-HMRC-VAT-0.01-24/blib/lib:/tmp/build/WebService-HMRC-0.01-47/blib/arch:/tmp/build/WebService-HMRC-0.01-47/blib/lib"
PERL5OPT=""
PERL5_CPANPLUS_IS_RUNNING="29338"
PERL5_CPAN_IS_RUNNING="29338"
PERLBREW_HOME="/home/njh/.perlbrew"
PERLBREW_MANPATH="/home/njh/perl5/perlbrew/perls/perl-5.26.1-thread/man"
PERLBREW_PATH="/home/njh/perl5/perlbrew/bin:/home/njh/perl5/perlbrew/perls/perl-5.26.1-thread/bin"
PERLBREW_PERL="perl-5.26.1-thread"
PERLBREW_ROOT="/home/njh/perl5/perlbrew"
PERLBREW_SHELLRC_VERSION="0.84"
PERLBREW_VERSION="0.84"
PERL_MM_USE_DEFAULT="1"
@INC:
/tmp/build/WebService-HMRC-HelloWorld-0.01-11/blib/arch
/tmp/build/WebService-HMRC-HelloWorld-0.01-11/blib/lib
/tmp/build/WebService-HMRC-VAT-0.01-24/blib/arch
/tmp/build/WebService-HMRC-VAT-0.01-24/blib/lib
/tmp/build/WebService-HMRC-0.01-47/blib/arch
/tmp/build/WebService-HMRC-0.01-47/blib/lib
/home/njh/perl5/perlbrew/perls/perl-5.26.1-thread/lib/site_perl/5.26.1/x86_64-linux-thread-multi
/home/njh/perl5/perlbrew/perls/perl-5.26.1-thread/lib/site_perl/5.26.1
/home/njh/perl5/perlbrew/perls/perl-5.26.1-thread/lib/5.26.1/x86_64-linux-thread-multi
/home/njh/perl5/perlbrew/perls/perl-5.26.1-thread/lib/5.26.1