Report for File-DataClass-0.73.1

Back
From: metabase:user:30ae4450-2aae-11df-837a-5e0a49663a4f
Subject: PASS File-DataClass-0.73.1 v5.20.1 
Date: 2017-06-02T12:24:00Z

This distribution has been tested as part of the CPAN Testers
project, supporting the Perl programming language.  See
http://wiki.cpantesters.org/ for more information or email
questions to cpan-testers-discuss@perl.org


--
Dear Peter Flanigan,

This is a computer-generated report for File-DataClass-0.73.1
on perl 5.20.1, created by CPAN-Reporter-1.2014.

Thank you for uploading your work to CPAN.  Congratulations!
All tests were successful.

Sections of this report:

    * Tester comments
    * Program output
    * Prerequisites
    * Environment and other context

------------------------------
TESTER COMMENTS
------------------------------

Additional comments from tester:

this report is from an automated smoke testing program
and was not reviewed by a human for accuracy

------------------------------
PROGRAM OUTPUT
------------------------------

Output from 'C:\Strawberry201\perl\bin\perl.exe ./Build test':


OS: mswin32, Host: c-9d2392d06fcb4

=== Environment variables ===

    $AUTHOR_TESTING                   undef
    $AUTOMATED_TESTING                1
    $EXTENDED_TESTING                 undef
    $NONINTERACTIVE_TESTING           undef
    $PERL_CPAN_REPORTER_CONFIG        undef
    $PERL_CR_SMOKER_CURRENT           File-DataClass-0.73.1
    $PERL5_CPAN_IS_RUNNING            1660
    $PERL5_CPANPLUS_IS_VERSION        undef
    $TEST_CRITIC                      undef
    $TEST_SPELLING                    undef

Versions for all modules listed in MYMETA.json (including optional ones):

=== Configure Requires ===

    Module          Want   Have
    ------------- ------ ------
    Module::Build 0.4004 0.4211
    version         0.88 0.9909

=== Build Requires ===

    Module          Want   Have
    ------------- ------ ------
    Module::Build 0.4004 0.4211
    version         0.88 0.9909

=== Test Requires ===

    Module             Want     Have
    ---------------- ------ --------
    Capture::Tiny      0.30     0.46
    File::Spec          any     3.48
    File::pushd        1.00    1.009
    Module::Build    0.4004   0.4211
    Module::Metadata    any 1.000024
    Path::Tiny        0.013    0.068
    Sys::Hostname       any     1.18
    Test::Deep        0.117    1.127
    Test::Requires     0.06     0.08
    Text::Diff         1.37     1.41
    version            0.88   0.9909

=== Test Recommends ===

    Module         Want     Have
    ---------- -------- --------
    CPAN::Meta 2.120900 2.142060

=== Runtime Requires ===

    Module                   Want     Have
    -------------------- -------- --------
    Cache::FastMmap          1.40     1.40
    Class::Null          2.110730 2.110730
    File::Path               2.09     2.09
    File::ReadBackwards      1.05     1.05
    Hash::Merge             0.200    0.200
    JSON::MaybeXS           1.003 1.003005
    Module::Pluggable         5.1      5.1
    Module::Runtime         0.014    0.014
    Moo                  2.000001 2.000001
    Sub::Install            0.928    0.928
    Subclass::Of            0.003    0.003
    Try::Tiny                0.22     0.22
    Type::Tiny           1.000002 1.000005
    Unexpected            v0.39.0   0.46.1
    boolean                  0.45     0.45
    namespace::autoclean     0.26     0.28
    namespace::clean         0.25     0.25

t\00report-metadata.t .. ok
t\02pod.t .............. skipped: POD test only for developers
t\03podcoverage.t ...... skipped: POD coverage test only for developers
t\05kwalitee.t ......... skipped: Kwalitee test only for developers
t\06yaml.t ............. skipped: YAML test only for developers
t\07podspelling.t ...... skipped: POD spelling test only for developers
t\10exception.t ........ ok
t\12types.t ............ ok
t\13functions.t ........ ok
t\15io.t ............... ok
t\17constraints.t ...... ok
t\20data-class.t ....... skipped: File system not supported
t\21hash-merge.t ....... skipped: File system not supported
t\50json.t ............. skipped: File system not supported
All tests successful.
Files=14, Tests=80, 14 wallclock secs ( 0.07 usr +  0.18 sys =  0.25 CPU)
Result: PASS

------------------------------
PREREQUISITES
------------------------------

Prerequisite modules loaded:

requires:

    Module               Need     Have    
    -------------------- -------- --------
    boolean              0.45     0.45    
    Cache::FastMmap      1.40     1.40    
    Class::Null          2.110730 2.110730
    File::Path           2.09     2.09    
    File::ReadBackwards  1.05     1.05    
    Hash::Merge          0.200    0.200   
    JSON::MaybeXS        1.003    1.003005
    Module::Pluggable    5.1      5.1     
    Module::Runtime      0.014    0.014   
    Moo                  2.000001 2.000001
    namespace::autoclean 0.26     0.28    
    namespace::clean     0.25     0.25    
    perl                 5.010001 5.020001
    Sub::Install         0.928    0.928   
    Subclass::Of         0.003    0.003   
    Try::Tiny            0.22     0.22    
    Type::Tiny           1.000002 1.000005
    Unexpected           v0.39.0  0.46.1  

build_requires:

    Module               Need     Have    
    -------------------- -------- --------
    Capture::Tiny        0.30     0.46    
    File::pushd          1.00     1.009   
    File::Spec           0        3.48    
    Module::Build        0.4004   0.4211  
    Module::Metadata     0        1.000024
    Path::Tiny           0.013    0.068   
    Sys::Hostname        0        1.18    
    Test::Deep           0.117    1.127   
    Test::Requires       0.06     0.08    
    Text::Diff           1.37     1.41    
    version              0.88     0.9909  

configure_requires:

    Module               Need     Have    
    -------------------- -------- --------
    Module::Build        0.4004   0.4211  
    version              0.88     0.9909  


------------------------------
ENVIRONMENT AND OTHER CONTEXT
------------------------------

Environment variables:

    AUTOMATED_TESTING = 1
    COMSPEC = C:\WINDOWS\system32\cmd.exe
    NUMBER_OF_PROCESSORS = 1
    PATH = C:\WINDOWS\system32;C:\WINDOWS;C:\WINDOWS\System32\Wbem;C:\Strawberry201\c\bin;C:\Strawberry201\perl\site\bin;C:\Strawberry201\perl\bin;C:\Git\cmd
    PERL5LIB = C:\STRAWB~1\cpan\build\Test-Deep-1.127-NlmeJo/blib/arch;C:\STRAWB~1\cpan\build\Test-Deep-1.127-NlmeJo/blib/lib;C:\STRAWB~1\cpan\build\Unexpected-0.46.1-CBYn9V/blib/arch;C:\STRAWB~1\cpan\build\Unexpected-0.46.1-CBYn9V/blib/lib;C:\STRAWB~1\cpan\build\Package-Stash-0.37-VoC2al/blib/arch;C:\STRAWB~1\cpan\build\Package-Stash-0.37-VoC2al/blib/lib;C:\STRAWB~1\cpan\build\namespace-autoclean-0.28-t5wAan/blib/arch;C:\STRAWB~1\cpan\build\namespace-autoclean-0.28-t5wAan/blib/lib;C:\STRAWB~1\cpan\build\Subclass-Of-0.003-LDPWqo/blib/arch;C:\STRAWB~1\cpan\build\Subclass-Of-0.003-LDPWqo/blib/lib;C:\STRAWB~1\cpan\build\Capture-Tiny-0.46-eHMjqj/blib/arch;C:\STRAWB~1\cpan\build\Capture-Tiny-0.46-eHMjqj/blib/lib
    PERL5OPT = 
    PERL5_CPANPLUS_IS_RUNNING = 1660
    PERL5_CPAN_IS_RUNNING = 1660
    PERL5_CPAN_IS_RUNNING_IN_RECURSION = 1864,1660
    PERL_CR_SMOKER_CURRENT = File-DataClass-0.73.1
    PERL_CR_SMOKER_RUNONCE = 1
    PERL_EXTUTILS_AUTOINSTALL = --defaultdeps
    PERL_MM_USE_DEFAULT = 1
    PROCESSOR_IDENTIFIER = x86 Family 16 Model 5 Stepping 3, AuthenticAMD
    TEMP = C:\DOCUME~1\c\LOCALS~1\Temp

Perl special variables (and OS-specific diagnostics, for MSWin32):

    $^X = C:\Strawberry201\perl\bin\perl.exe
    $UID/$EUID = 0 / 0
    $GID = 0
    $EGID = 0
    Win32::GetOSName = WinXP/.Net
    Win32::GetOSVersion = Service Pack 3, 5, 1, 2600, 2, 3, 0, 256, 1
    Win32::FsType = NTFS
    Win32::IsAdminUser = 1

Perl module toolchain versions installed:

    Module              Have    
    ------------------- --------
    CPAN                2.05    
    CPAN::Meta          2.142060
    Cwd                 3.48    
    ExtUtils::CBuilder  0.280219
    ExtUtils::Command   1.18    
    ExtUtils::Install   1.68    
    ExtUtils::MakeMaker 7.04    
    ExtUtils::Manifest  1.66    
    ExtUtils::ParseXS   3.24    
    File::Spec          3.48    
    JSON                2.90    
    JSON::PP            2.27203 
    Module::Build       0.4211  
    Module::Signature   0.78    
    Parse::CPAN::Meta   1.4414  
    Test::Harness       3.33    
    Test::More          1.001006
    YAML                1.15    
    YAML::Syck          1.29    
    version             0.9909  


--

Summary of my perl5 (revision 5 version 20 subversion 1) configuration:
   
  Platform:
    osname=MSWin32, osvers=6.3, archname=MSWin32-x86-multi-thread-64int
    uname='Win32 strawberry-perl 5.20.1.1 #1 Mon Sep 15 18:25:23 2014 i386'
    config_args='undef'
    hint=recommended, useposix=true, d_sigaction=undef
    useithreads=define, usemultiplicity=define
    use64bitint=define, use64bitall=undef, uselongdouble=undef
    usemymalloc=n, bincompat5005=undef
  Compiler:
    cc='gcc', ccflags =' -s -O2 -DWIN32  -DPERL_TEXTMODE_SCRIPTS -DPERL_IMPLICIT_CONTEXT -DPERL_IMPLICIT_SYS -DUSE_PERLIO -fwrapv -fno-strict-aliasing -mms-bitfields',
    optimize='-s -O2',
    cppflags='-DWIN32'
    ccversion='', gccversion='4.8.3', gccosandvers=''
    intsize=4, longsize=4, ptrsize=4, doublesize=8, byteorder=12345678
    d_longlong=define, longlongsize=8, d_longdbl=define, longdblsize=12
    ivtype='long long', ivsize=8, nvtype='double', nvsize=8, Off_t='long long', lseeksize=8
    alignbytes=8, prototype=define
  Linker and Libraries:
    ld='g++', ldflags ='-s -L"C:\STRAWB~1\perl\lib\CORE" -L"C:\STRAWB~1\c\lib"'
    libpth=C:\STRAWB~1\c\lib C:\STRAWB~1\c\i686-w64-mingw32\lib C:\STRAWB~1\c\lib\gcc\i686-w64-mingw32\4.8.3
    libs=-lmoldname -lkernel32 -luser32 -lgdi32 -lwinspool -lcomdlg32 -ladvapi32 -lshell32 -lole32 -loleaut32 -lnetapi32 -luuid -lws2_32 -lmpr -lwinmm -lversion -lodbc32 -lodbccp32 -lcomctl32
    perllibs=-lmoldname -lkernel32 -luser32 -lgdi32 -lwinspool -lcomdlg32 -ladvapi32 -lshell32 -lole32 -loleaut32 -lnetapi32 -luuid -lws2_32 -lmpr -lwinmm -lversion -lodbc32 -lodbccp32 -lcomctl32
    libc=, so=dll, useshrplib=true, libperl=libperl520.a
    gnulibc_version=''
  Dynamic Linking:
    dlsrc=dl_win32.xs, dlext=xs.dll, d_dlsymun=undef, ccdlflags=' '
    cccdlflags=' ', lddlflags='-mdll -s -L"C:\STRAWB~1\perl\lib\CORE" -L"C:\STRAWB~1\c\lib"'


Characteristics of this binary (from libperl): 
  Compile-time options: HAS_TIMES HAVE_INTERP_INTERN MULTIPLICITY
                        PERLIO_LAYERS PERL_DONT_CREATE_GVSV
                        PERL_HASH_FUNC_ONE_AT_A_TIME_HARD
                        PERL_IMPLICIT_CONTEXT PERL_IMPLICIT_SYS
                        PERL_MALLOC_WRAP PERL_NEW_COPY_ON_WRITE
                        PERL_PRESERVE_IVUV USE_64_BIT_INT USE_ITHREADS
                        USE_LARGE_FILES USE_LOCALE USE_LOCALE_COLLATE
                        USE_LOCALE_CTYPE USE_LOCALE_NUMERIC USE_PERLIO
                        USE_PERL_ATOF
  Built under MSWin32
  Compiled at Sep 15 2014 18:29:20
  %ENV:
    PERL5LIB="C:\STRAWB~1\cpan\build\Test-Deep-1.127-NlmeJo/blib/arch;C:\STRAWB~1\cpan\build\Test-Deep-1.127-NlmeJo/blib/lib;C:\STRAWB~1\cpan\build\Unexpected-0.46.1-CBYn9V/blib/arch;C:\STRAWB~1\cpan\build\Unexpected-0.46.1-CBYn9V/blib/lib;C:\STRAWB~1\cpan\build\Package-Stash-0.37-VoC2al/blib/arch;C:\STRAWB~1\cpan\build\Package-Stash-0.37-VoC2al/blib/lib;C:\STRAWB~1\cpan\build\namespace-autoclean-0.28-t5wAan/blib/arch;C:\STRAWB~1\cpan\build\namespace-autoclean-0.28-t5wAan/blib/lib;C:\STRAWB~1\cpan\build\Subclass-Of-0.003-LDPWqo/blib/arch;C:\STRAWB~1\cpan\build\Subclass-Of-0.003-LDPWqo/blib/lib;C:\STRAWB~1\cpan\build\Capture-Tiny-0.46-eHMjqj/blib/arch;C:\STRAWB~1\cpan\build\Capture-Tiny-0.46-eHMjqj/blib/lib"
    PERL5_CPANPLUS_IS_RUNNING="1660"
    PERL5_CPAN_IS_RUNNING="1660"
    PERL5_CPAN_IS_RUNNING_IN_RECURSION="1864,1660"
    PERL_CR_SMOKER_CURRENT="File-DataClass-0.73.1"
    PERL_CR_SMOKER_RUNONCE="1"
    PERL_EXTUTILS_AUTOINSTALL="--defaultdeps"
    PERL_MM_USE_DEFAULT="1"
  @INC:
    C:\STRAWB~1\cpan\build\Test-Deep-1.127-NlmeJo/blib/arch
    C:\STRAWB~1\cpan\build\Test-Deep-1.127-NlmeJo/blib/lib
    C:\STRAWB~1\cpan\build\Unexpected-0.46.1-CBYn9V/blib/arch
    C:\STRAWB~1\cpan\build\Unexpected-0.46.1-CBYn9V/blib/lib
    C:\STRAWB~1\cpan\build\Package-Stash-0.37-VoC2al/blib/arch
    C:\STRAWB~1\cpan\build\Package-Stash-0.37-VoC2al/blib/lib
    C:\STRAWB~1\cpan\build\namespace-autoclean-0.28-t5wAan/blib/arch
    C:\STRAWB~1\cpan\build\namespace-autoclean-0.28-t5wAan/blib/lib
    C:\STRAWB~1\cpan\build\Subclass-Of-0.003-LDPWqo/blib/arch
    C:\STRAWB~1\cpan\build\Subclass-Of-0.003-LDPWqo/blib/lib
    C:\STRAWB~1\cpan\build\Capture-Tiny-0.46-eHMjqj/blib/arch
    C:\STRAWB~1\cpan\build\Capture-Tiny-0.46-eHMjqj/blib/lib
    C:/Strawberry201/perl/site/lib
    C:/Strawberry201/perl/vendor/lib
    C:/Strawberry201/perl/lib
    .