File-Locate-Iterator v28 Perl 5 v5.31.9 x86_64-linux-ld
- Status
- Pass
- From
- Andreas J. König (ANDK)
- Dist
-
File-Locate-Iterator v28
- Platform
- Perl 5 v5.31.9 x86_64-linux-ld
- Date
- 2020-02-22 02:25:16
- ID
- 8fe9079c-551a-11ea-a46f-4d3a575ec2cb
This distribution has been tested as part of the CPAN Testers
project, supporting the Perl programming language. See
http://wiki.cpantesters.org/ for more information or email
questions to cpan-testers-discuss@perl.org
--
Dear Kevin Ryde,
This is a computer-generated report for File-Locate-Iterator-28
on perl 5.31.9, created by CPAN-Reporter-1.2018.
Thank you for uploading your work to CPAN. Congratulations!
All tests were successful.
Sections of this report:
* Tester comments
* Program output
* Prerequisites
* Environment and other context
------------------------------
TESTER COMMENTS
------------------------------
Additional comments from tester:
this report is from an automated smoke testing program
and was not reviewed by a human for accuracy
------------------------------
PROGRAM OUTPUT
------------------------------
Output from '/usr/bin/make test':
"/tmp/basesmoker-reloperl-zKaN/bin/perl" -MExtUtils::Command::MM -e 'cp_nonempty' -- Iterator.bs blib/arch/auto/File/Locate/Iterator/Iterator.bs 644
PERL_DL_NONLAZY=1 "/tmp/basesmoker-reloperl-zKaN/bin/perl" "-MExtUtils::Command::MM" "-MTest::Harness" "-e" "undef *Test::Harness::Switches; test_harness(0, 'blib/lib', 'blib/arch')" t/*.t
t/File-Locate-Iterator-base64.t ...... skipped: PerlIO::via::Base64 not available -- No such file or directory
# File samp_locatedb_qp=/home/sand/.cpan/privbuild/k93bionic/File-Locate-Iterator-28-0/t/samp.locatedb.quotedprint
t/File-Locate-Iterator-qp.t .......... ok
t/File-Locate-Iterator-subfile.t ..... skipped: PerlIO::subfile not available -- No such file or directory
t/File-Locate-Iterator-taint.t ....... skipped: due to Taint::Util not available -- Can't locate Taint/Util.pm in @INC (you may need to install the Taint::Util module) (@INC contains: t /home/sand/.cpan/privbuild/k93bionic/File-Locate-Iterator-28-0/blib/lib /home/sand/.cpan/privbuild/k93bionic/File-Locate-Iterator-28-0/blib/arch /home/sand/src/perl/repoperls/installed-perls/host/k93bionic/v5.31.9/ca05/lib/site_perl/5.31.9/x86_64-linux-ld /home/sand/src/perl/repoperls/installed-perls/host/k93bionic/v5.31.9/ca05/lib/site_perl/5.31.9 /home/sand/src/perl/repoperls/installed-perls/host/k93bionic/v5.31.9/ca05/lib/5.31.9/x86_64-linux-ld /home/sand/src/perl/repoperls/installed-perls/host/k93bionic/v5.31.9/ca05/lib/5.31.9 .) at t/File-Locate-Iterator-taint.t line 29.
t/File-Locate-Iterator-weaken.t ...... skipped: due to Test::Weaken::ExtraBits not available -- Can't locate Test/Weaken/ExtraBits.pm in @INC (you may need to install the Test::Weaken::ExtraBits module) (@INC contains: t /home/sand/.cpan/privbuild/k93bionic/File-Locate-Iterator-28-0/blib/lib /home/sand/.cpan/privbuild/k93bionic/File-Locate-Iterator-28-0/blib/arch /home/sand/src/perl/repoperls/installed-perls/host/k93bionic/v5.31.9/ca05/lib/site_perl/5.31.9/x86_64-linux-ld /home/sand/src/perl/repoperls/installed-perls/host/k93bionic/v5.31.9/ca05/lib/site_perl/5.31.9 /home/sand/src/perl/repoperls/installed-perls/host/k93bionic/v5.31.9/ca05/lib/5.31.9/x86_64-linux-ld /home/sand/src/perl/repoperls/installed-perls/host/k93bionic/v5.31.9/ca05/lib/5.31.9 .) at (eval 9) line 1.
# File samp_zeros=/home/sand/.cpan/privbuild/k93bionic/File-Locate-Iterator-28-0/t/samp.zeros, samp_locatedb=/home/sand/.cpan/privbuild/k93bionic/File-Locate-Iterator-28-0/t/samp.locatedb
# rewind(), fh_start undef
# rewind(), no mmap, fh_start 10
# database_file, use_mmap=0
# database_file, use_mmap=0no rewind
# database_fh ref, use_mmap=0
# database_fh ref, use_mmap=0no rewind
# database_fh offset, use_mmap=0
# database_fh offset, use_mmap=0no rewind
# database_fh :raw, use_mmap=0
# database_fh :raw, use_mmap=0no rewind
# database_fh string, use_mmap=0
# database_fh string, use_mmap=0no rewind
# database_file, use_mmap=if_possible
# database_file, use_mmap=if_possibleyes rewind
# database_fh ref, use_mmap=if_possible
# database_fh ref, use_mmap=if_possibleyes rewind
# database_fh offset, use_mmap=if_possible
# database_fh offset, use_mmap=if_possibleyes rewind
# database_fh :raw, use_mmap=if_possible
# database_fh :raw, use_mmap=if_possibleyes rewind
# database_fh string, use_mmap=if_possible
# database_fh string, use_mmap=if_possibleno rewind
# MyTieScalarDb FETCH
# MyTieScalarDb FETCH
# MyTieScalarDb FETCH
# MyTieScalarDb FETCH
# MyTieScalarDb FETCH
t/File-Locate-Iterator.t ............. ok
# File::Map version 0.66
# not-mmap layers: unix perlio
# mmap layers: unix perlio mmap
# _PAGESIZE is 4096
t/FileMap.t .......................... ok
t/Iterator-Simple-weaken.t ........... skipped: due to Test::Weaken::ExtraBits not available -- Can't locate Test/Weaken/ExtraBits.pm in @INC (you may need to install the Test::Weaken::ExtraBits module) (@INC contains: /home/sand/.cpan/privbuild/k93bionic/File-Locate-Iterator-28-0/blib/lib /home/sand/.cpan/privbuild/k93bionic/File-Locate-Iterator-28-0/blib/arch /home/sand/src/perl/repoperls/installed-perls/host/k93bionic/v5.31.9/ca05/lib/site_perl/5.31.9/x86_64-linux-ld /home/sand/src/perl/repoperls/installed-perls/host/k93bionic/v5.31.9/ca05/lib/site_perl/5.31.9 /home/sand/src/perl/repoperls/installed-perls/host/k93bionic/v5.31.9/ca05/lib/5.31.9/x86_64-linux-ld /home/sand/src/perl/repoperls/installed-perls/host/k93bionic/v5.31.9/ca05/lib/5.31.9 .) at (eval 9) line 1.
t/Iterator-Simple.t .................. ok
t/Iterator-weaken.t .................. skipped: due to Test::Weaken::ExtraBits not available -- Can't locate Test/Weaken/ExtraBits.pm in @INC (you may need to install the Test::Weaken::ExtraBits module) (@INC contains: t /home/sand/.cpan/privbuild/k93bionic/File-Locate-Iterator-28-0/blib/lib /home/sand/.cpan/privbuild/k93bionic/File-Locate-Iterator-28-0/blib/arch /home/sand/src/perl/repoperls/installed-perls/host/k93bionic/v5.31.9/ca05/lib/site_perl/5.31.9/x86_64-linux-ld /home/sand/src/perl/repoperls/installed-perls/host/k93bionic/v5.31.9/ca05/lib/site_perl/5.31.9 /home/sand/src/perl/repoperls/installed-perls/host/k93bionic/v5.31.9/ca05/lib/5.31.9/x86_64-linux-ld /home/sand/src/perl/repoperls/installed-perls/host/k93bionic/v5.31.9/ca05/lib/5.31.9 .) at (eval 18) line 1.
t/Iterator.t ......................... ok
Can't exec "locate": No such file or directory at t/locate-program.t line 38.
# locate --help is
# undef
t/locate-program.t ................... skipped: locate program not available
t/MooseX-Iterator-Locate-subclass.t .. ok
t/MooseX-Iterator-Locate-weaken.t .... skipped: due to Test::Weaken::ExtraBits not available -- Can't locate Test/Weaken/ExtraBits.pm in @INC (you may need to install the Test::Weaken::ExtraBits module) (@INC contains: /home/sand/.cpan/privbuild/k93bionic/File-Locate-Iterator-28-0/blib/lib /home/sand/.cpan/privbuild/k93bionic/File-Locate-Iterator-28-0/blib/arch /home/sand/src/perl/repoperls/installed-perls/host/k93bionic/v5.31.9/ca05/lib/site_perl/5.31.9/x86_64-linux-ld /home/sand/src/perl/repoperls/installed-perls/host/k93bionic/v5.31.9/ca05/lib/site_perl/5.31.9 /home/sand/src/perl/repoperls/installed-perls/host/k93bionic/v5.31.9/ca05/lib/5.31.9/x86_64-linux-ld /home/sand/src/perl/repoperls/installed-perls/host/k93bionic/v5.31.9/ca05/lib/5.31.9 .) at (eval 185) line 1.
t/MooseX-Iterator-Locate.t ........... ok
All tests successful.
Files=15, Tests=564, 2 wallclock secs ( 0.05 usr 0.08 sys + 1.31 cusr 0.25 csys = 1.69 CPU)
Result: PASS
------------------------------
PREREQUISITES
------------------------------
Prerequisite modules loaded:
requires:
Module Need Have
------------------- ----- --------
constant::defer 0 6
File::FnMatch 0 0.02
perl 5.006 5.031009
Scalar::Util 0 1.54
build_requires:
Module Need Have
------------------- ----- --------
ExtUtils::MakeMaker 0 7.44
Test::More 0 1.302171
configure_requires:
Module Need Have
------------------- ----- --------
ExtUtils::MakeMaker 0 7.44
opt_requires:
Module Need Have
------------------- ----- --------
File::Map 0.38 0.66
Iterator::Simple 0.06 0.07
PerlIO::Layers 0 0.012
------------------------------
ENVIRONMENT AND OTHER CONTEXT
------------------------------
Environment variables:
AUTOMATED_TESTING = 1
LANG = en_US.UTF-8
PATH = /home/sand/bin:/usr/local/bin:/usr/local/sbin:/usr/sbin:/usr/bin:/sbin:/bin:/usr/games:/usr/local/games:/usr/local/perl/bin:/usr/X11/bin
PERL5LIB =
PERL5OPT =
PERL5_CPANPLUS_IS_RUNNING = 3460
PERL5_CPAN_IS_RUNNING = 3460
PERL_CANARY_STABILITY_NOPROMPT = 1
PERL_MM_USE_DEFAULT = 1
PERL_USE_UNSAFE_INC = 1
SHELL = /usr/bin/zsh
TERM = screen
Perl special variables (and OS-specific diagnostics, for MSWin32):
$^X = /tmp/basesmoker-reloperl-zKaN/bin/perl
$UID/$EUID = 1005 / 1005
$GID = 1005 1005
$EGID = 1005 1005
Perl module toolchain versions installed:
Module Have
------------------- --------
CPAN 2.27
CPAN::Meta 2.150010
Cwd 3.78
ExtUtils::CBuilder 0.280234
ExtUtils::Command 7.44
ExtUtils::Install 2.14
ExtUtils::MakeMaker 7.44
ExtUtils::Manifest 1.72
ExtUtils::ParseXS 3.40
File::Spec 3.78
JSON 4.02
JSON::PP 4.04
Module::Build 0.4231
Module::Signature 0.83
Parse::CPAN::Meta 2.150010
Test::Harness 3.42
Test::More 1.302171
YAML 1.30
YAML::Syck 1.32
version 0.9924
--
Summary of my perl5 (revision 5 version 31 subversion 9) configuration:
Commit id: 41fd77f86ddaa01f1a7635e15cbfd3ccb9a4643d
Platform:
osname=linux
osvers=4.15.0-88-generic
archname=x86_64-linux-ld
uname='linux k93bionic 4.15.0-88-generic #88-ubuntu smp tue feb 11 20:11:34 utc 2020 x86_64 x86_64 x86_64 gnulinux '
config_args='-Dprefix=/home/sand/src/perl/repoperls/installed-perls/host/k93bionic/v5.31.9/ca05 -Dmyhostname=k93bionic -Dinstallusrbinperl=n -Uversiononly -Dusedevel -des -Ui_db -Dlibswanted=cl pthread socket inet nsl gdbm dbm malloc dl ld sun m crypt sec util c cposix posix ucb BSD gdbm_compat -Uuseithreads -Duselongdouble -DEBUGGING=-g'
hint=recommended
useposix=true
d_sigaction=define
useithreads=undef
usemultiplicity=undef
use64bitint=define
use64bitall=define
uselongdouble=define
usemymalloc=n
default_inc_excludes_dot=define
bincompat5005=undef
Compiler:
cc='cc'
ccflags ='-fwrapv -fno-strict-aliasing -pipe -fstack-protector-strong -I/usr/local/include -D_LARGEFILE_SOURCE -D_FILE_OFFSET_BITS=64'
optimize='-O2 -g'
cppflags='-fwrapv -fno-strict-aliasing -pipe -fstack-protector-strong -I/usr/local/include'
ccversion=''
gccversion='7.4.0'
gccosandvers=''
intsize=4
longsize=8
ptrsize=8
doublesize=8
byteorder=12345678
doublekind=3
d_longlong=define
longlongsize=8
d_longdbl=define
longdblsize=16
longdblkind=3
ivtype='long'
ivsize=8
nvtype='long double'
nvsize=16
Off_t='off_t'
lseeksize=8
alignbytes=16
prototype=define
Linker and Libraries:
ld='cc'
ldflags =' -fstack-protector-strong -L/usr/local/lib'
libpth=/usr/local/lib /usr/lib/gcc/x86_64-linux-gnu/7/include-fixed /usr/include/x86_64-linux-gnu /usr/lib /lib/x86_64-linux-gnu /lib/../lib /usr/lib/x86_64-linux-gnu /usr/lib/../lib /lib
libs=-lpthread -lnsl -ldl -lm -lcrypt -lutil -lc
perllibs=-lpthread -lnsl -ldl -lm -lcrypt -lutil -lc
libc=libc-2.27.so
so=so
useshrplib=false
libperl=libperl.a
gnulibc_version='2.27'
Dynamic Linking:
dlsrc=dl_dlopen.xs
dlext=so
d_dlsymun=undef
ccdlflags='-Wl,-E'
cccdlflags='-fPIC'
lddlflags='-shared -O2 -g -L/usr/local/lib -fstack-protector-strong'
Characteristics of this binary (from libperl):
Compile-time options:
HAS_TIMES
PERLIO_LAYERS
PERL_COPY_ON_WRITE
PERL_DONT_CREATE_GVSV
PERL_MALLOC_WRAP
PERL_OP_PARENT
PERL_PRESERVE_IVUV
PERL_USE_DEVEL
USE_64_BIT_ALL
USE_64_BIT_INT
USE_LARGE_FILES
USE_LOCALE
USE_LOCALE_COLLATE
USE_LOCALE_CTYPE
USE_LOCALE_NUMERIC
USE_LOCALE_TIME
USE_LONG_DOUBLE
USE_PERLIO
USE_PERL_ATOF
Built under linux
Compiled at Feb 21 2020 04:19:49
%ENV:
PERL5LIB=""
PERL5OPT=""
PERL5_CPANPLUS_IS_RUNNING="3460"
PERL5_CPAN_IS_RUNNING="3460"
PERL_CANARY_STABILITY_NOPROMPT="1"
PERL_MM_USE_DEFAULT="1"
PERL_USE_UNSAFE_INC="1"
@INC:
/home/sand/src/perl/repoperls/installed-perls/host/k93bionic/v5.31.9/ca05/lib/site_perl/5.31.9/x86_64-linux-ld
/home/sand/src/perl/repoperls/installed-perls/host/k93bionic/v5.31.9/ca05/lib/site_perl/5.31.9
/home/sand/src/perl/repoperls/installed-perls/host/k93bionic/v5.31.9/ca05/lib/5.31.9/x86_64-linux-ld
/home/sand/src/perl/repoperls/installed-perls/host/k93bionic/v5.31.9/ca05/lib/5.31.9
.