Net-Hadoop-Oozie v0.116 Perl 5 v5.28.3 x86_64-linux-ld

Status
Pass
From
Andreas J. König (ANDK)
Dist
Net-Hadoop-Oozie v0.116
Platform
Perl 5 v5.28.3 x86_64-linux-ld
Date
2023-11-13 08:06:34
ID
8fcb1090-81fb-11ee-bc7e-2b5cfb4a0a78
This distribution has been tested as part of the CPAN Testers
project, supporting the Perl programming language.  See
http://wiki.cpantesters.org/ for more information or email
questions to cpan-testers-discuss@perl.org


--
Dear Burak Gursoy,

This is a computer-generated report for Net-Hadoop-Oozie-0.116
on perl 5.28.3, created by CPAN-Reporter-1.2018.

Thank you for uploading your work to CPAN.  Congratulations!
All tests were successful.

Sections of this report:

    * Tester comments
    * Program output
    * Prerequisites
    * Environment and other context

------------------------------
TESTER COMMENTS
------------------------------

Additional comments from tester:

this report is from an automated smoke testing program
and was not reviewed by a human for accuracy

------------------------------
PROGRAM OUTPUT
------------------------------

Output from '/usr/bin/make test':

PERL_DL_NONLAZY=1 "/home/sand/src/perl/repoperls/installed-perls/host/k93msid/v5.28.3/fc43/bin/perl" "-MExtUtils::Command::MM" "-MTest::Harness" "-e" "undef *Test::Harness::Switches; test_harness(0, 'blib/lib', 'blib/arch')" t/*.t
t/00-compile.t .................... ok
# 
# Versions for all modules listed in MYMETA.json (including optional ones):
# 
# === Configure Requires ===
# 
#     Module              Want Have
#     ------------------- ---- ----
#     ExtUtils::MakeMaker  any 7.70
# 
# === Build Requires ===
# 
#     Module              Want Have
#     ------------------- ---- ----
#     ExtUtils::MakeMaker  any 7.70
# 
# === Test Requires ===
# 
#     Module              Want     Have
#     ------------------- ---- --------
#     ExtUtils::MakeMaker  any     7.70
#     File::Spec           any     3.75
#     IO::Handle           any     1.51
#     IPC::Open3           any     1.20
#     Test::CPAN::Meta     any     0.25
#     Test::More           any 1.302194
# 
# === Test Recommends ===
# 
#     Module         Want     Have
#     ---------- -------- --------
#     CPAN::Meta 2.120900 2.150010
# 
# === Runtime Requires ===
# 
#     Module                           Want       Have
#     -------------------------------- ---- ----------
#     CHI                               any       0.61
#     Carp                              any       1.50
#     Clone                             any       0.46
#     Constant::FromGlobal              any       0.10
#     Data::Dumper                      any      2.183
#     Date::Format                      any       2.24
#     Date::Parse                       any       2.33
#     Exporter                          any       5.73
#     Hash::Flatten                     any       1.19
#     JSON::XS                          any       4.03
#     LWP::Authen::Negotiate            any       0.08
#     LWP::UserAgent                    any       6.67
#     Moo                               any   2.005005
#     Moo::Role                         any   2.005005
#     Net::Hadoop::YARN                 any      0.203
#     Net::Hadoop::YARN::Roles::Common  any      0.203
#     Ref::Util                         any      0.204
#     Regexp::Common                    any 2017060201
#     Scalar::Util                      any       1.63
#     URI                               any       5.21
#     XML::Simple                       any       2.25
#     XML::Twig                         any       3.52
#     constant                          any       1.33
#     parent                            any      0.238
#     strict                            any       1.11
#     warnings                          any       1.42
# 
t/00-report-prereqs.t ............. ok
t/01-api.t ........................ ok
t/02-schedule-test-coordinator.t .. ok
t/03-job-information.t ............ ok
t/04-suspend.t .................... ok
t/05-standalone-wf.t .............. ok
t/06-rerun.t ...................... ok
t/07-kill.t ....................... ok
t/08-sla.t ........................ ok
t/09-judge.t ...................... ok
t/author-pod-syntax.t ............. skipped: these tests are for testing by the author
t/release-distmeta.t .............. skipped: these tests are for release candidate testing
All tests successful.
Files=13, Tests=26,  8 wallclock secs ( 0.04 usr  0.04 sys +  3.71 cusr  0.85 csys =  4.64 CPU)
Result: PASS

------------------------------
PREREQUISITES
------------------------------

Prerequisite modules loaded:

requires:

    Module                           Need  Have      
    -------------------------------- ----- ----------
    Carp                             0     1.50      
    CHI                              0     0.61      
    Clone                            0     0.46      
    constant                         0     1.33      
    Constant::FromGlobal             0     0.10      
    Data::Dumper                     0     2.183     
    Date::Format                     0     2.24      
    Date::Parse                      0     2.33      
    Exporter                         0     5.73      
    Hash::Flatten                    0     1.19      
    JSON::XS                         0     4.03      
    LWP::Authen::Negotiate           0     0.08      
    LWP::UserAgent                   0     6.67      
    Moo                              0     2.005005  
    Moo::Role                        0     2.005005  
    Net::Hadoop::YARN                0     0.203     
    Net::Hadoop::YARN::Roles::Common 0     0.203     
    parent                           0     0.238     
    perl                             5.010 5.028003  
    Ref::Util                        0     0.204     
    Regexp::Common                   0     2017060201
    Scalar::Util                     0     1.63      
    strict                           0     1.11      
    URI                              0     5.21      
    warnings                         0     1.42      
    XML::Simple                      0     2.25      
    XML::Twig                        0     3.52      

build_requires:

    Module                           Need  Have      
    -------------------------------- ----- ----------
    ExtUtils::MakeMaker              0     7.70      
    File::Spec                       0     3.75      
    IO::Handle                       0     1.51      
    IPC::Open3                       0     1.20      
    Test::CPAN::Meta                 0     0.25      
    Test::More                       0     1.302194  

configure_requires:

    Module                           Need  Have      
    -------------------------------- ----- ----------
    ExtUtils::MakeMaker              0     7.70      


------------------------------
ENVIRONMENT AND OTHER CONTEXT
------------------------------

Environment variables:

    AUTOMATED_TESTING = 1
    LANG = en_US.UTF-8
    LANGUAGE = en_US:en
    PATH = /home/sand/bin:/usr/local/bin:/usr/bin:/bin:/usr/games:/usr/local/perl/bin:/usr/X11/bin:/sbin:/usr/sbin
    PERL5LIB = 
    PERL5OPT = 
    PERL5_CPANPLUS_IS_RUNNING = 3029424
    PERL5_CPAN_IS_RUNNING = 3029424
    PERL_CANARY_STABILITY_NOPROMPT = 1
    PERL_MM_USE_DEFAULT = 1
    PERL_USE_UNSAFE_INC = 1
    SHELL = /usr/bin/zsh
    TERM = screen

Perl special variables (and OS-specific diagnostics, for MSWin32):

    $^X = /home/sand/src/perl/repoperls/installed-perls/host/k93msid/v5.28.3/fc43/bin/perl
    $UID/$EUID = 1005 / 1005
    $GID = 1005 1005
    $EGID = 1005 1005

Perl module toolchain versions installed:

    Module              Have    
    ------------------- --------
    CPAN                2.36    
    CPAN::Meta          2.150010
    Cwd                 3.75    
    ExtUtils::CBuilder  0.280236
    ExtUtils::Command   7.70    
    ExtUtils::Install   2.22    
    ExtUtils::MakeMaker 7.70    
    ExtUtils::Manifest  1.75    
    ExtUtils::ParseXS   3.51    
    File::Spec          3.75    
    JSON                4.10    
    JSON::PP            4.12    
    Module::Build       0.4231  
    Module::Signature   0.88    
    Parse::CPAN::Meta   2.150010
    Test::Harness       3.48    
    Test::More          1.302194
    YAML                1.30    
    YAML::Syck          1.34    
    version             0.9929  


--

Summary of my perl5 (revision 5 version 28 subversion 3) configuration:
  Derived from: ae49126f3ca2352fb49d7121a769189bf31e6f72
  Platform:
    osname=linux
    osvers=5.19.0-2-amd64
    archname=x86_64-linux-ld
    uname='linux k93msid 5.19.0-2-amd64 #1 smp preempt_dynamic debian 5.19.11-1 (2022-09-24) x86_64 gnulinux '
    config_args='-Dprefix=/home/sand/src/perl/repoperls/installed-perls/host/k93msid/v5.28.3/fc43 -Dmyhostname=k93msid -Dinstallusrbinperl=n -Uversiononly -Dusedevel -des -Ui_db -Dlibswanted=cl pthread socket inet nsl gdbm dbm malloc dl ld sun m crypt sec util c cposix posix ucb BSD gdbm_compat -Uuseithreads -Duselongdouble -DEBUGGING=both'
    hint=recommended
    useposix=true
    d_sigaction=define
    useithreads=undef
    usemultiplicity=undef
    use64bitint=define
    use64bitall=define
    uselongdouble=define
    usemymalloc=n
    default_inc_excludes_dot=define
    bincompat5005=undef
  Compiler:
    cc='cc'
    ccflags ='-fwrapv -DDEBUGGING -fno-strict-aliasing -pipe -fstack-protector-strong -I/usr/local/include -D_LARGEFILE_SOURCE -D_FILE_OFFSET_BITS=64 -D_FORTIFY_SOURCE=2'
    optimize='-O2 -g'
    cppflags='-fwrapv -DDEBUGGING -fno-strict-aliasing -pipe -fstack-protector-strong -I/usr/local/include'
    ccversion=''
    gccversion='12.2.0'
    gccosandvers=''
    intsize=4
    longsize=8
    ptrsize=8
    doublesize=8
    byteorder=12345678
    doublekind=3
    d_longlong=define
    longlongsize=8
    d_longdbl=define
    longdblsize=16
    longdblkind=3
    ivtype='long'
    ivsize=8
    nvtype='long double'
    nvsize=16
    Off_t='off_t'
    lseeksize=8
    alignbytes=16
    prototype=define
  Linker and Libraries:
    ld='cc'
    ldflags =' -fstack-protector-strong -L/usr/local/lib'
    libpth=/usr/local/lib /usr/include/x86_64-linux-gnu /usr/lib /lib/x86_64-linux-gnu /lib/../lib /usr/lib/x86_64-linux-gnu /usr/lib/../lib /lib /lib64 /usr/lib64
    libs=-lpthread -lnsl -ldl -lm -lcrypt -lutil -lc
    perllibs=-lpthread -lnsl -ldl -lm -lcrypt -lutil -lc
    libc=/lib/x86_64-linux-gnu/libc.so.6
    so=so
    useshrplib=false
    libperl=libperl.a
    gnulibc_version='2.35'
  Dynamic Linking:
    dlsrc=dl_dlopen.xs
    dlext=so
    d_dlsymun=undef
    ccdlflags='-Wl,-E'
    cccdlflags='-fPIC'
    lddlflags='-shared -O2 -g -L/usr/local/lib -fstack-protector-strong'


Characteristics of this binary (from libperl): 
  Compile-time options:
    DEBUGGING
    HAS_TIMES
    PERLIO_LAYERS
    PERL_COPY_ON_WRITE
    PERL_DONT_CREATE_GVSV
    PERL_MALLOC_WRAP
    PERL_OP_PARENT
    PERL_PRESERVE_IVUV
    PERL_USE_DEVEL
    USE_64_BIT_ALL
    USE_64_BIT_INT
    USE_LARGE_FILES
    USE_LOCALE
    USE_LOCALE_COLLATE
    USE_LOCALE_CTYPE
    USE_LOCALE_NUMERIC
    USE_LOCALE_TIME
    USE_LONG_DOUBLE
    USE_PERLIO
    USE_PERL_ATOF
  Locally applied patches:
    uncommitted-changes
  Built under linux
  Compiled at Dec  1 2022 14:29:54
  %ENV:
    PERL5LIB=""
    PERL5OPT=""
    PERL5_CPANPLUS_IS_RUNNING="3029424"
    PERL5_CPAN_IS_RUNNING="3029424"
    PERL_CANARY_STABILITY_NOPROMPT="1"
    PERL_MM_USE_DEFAULT="1"
    PERL_USE_UNSAFE_INC="1"
  @INC:
    /home/sand/src/perl/repoperls/installed-perls/host/k93msid/v5.28.3/fc43/lib/site_perl/5.28.3/x86_64-linux-ld
    /home/sand/src/perl/repoperls/installed-perls/host/k93msid/v5.28.3/fc43/lib/site_perl/5.28.3
    /home/sand/src/perl/repoperls/installed-perls/host/k93msid/v5.28.3/fc43/lib/5.28.3/x86_64-linux-ld
    /home/sand/src/perl/repoperls/installed-perls/host/k93msid/v5.28.3/fc43/lib/5.28.3
    .