MooseX-RelClassTypes v0.03 Perl 5 v5.26.2 amd64-freebsd-thread-multi

Status
Pass
From
Slaven Rezić (SREZIC)
Dist
MooseX-RelClassTypes v0.03
Platform
Perl 5 v5.26.2 amd64-freebsd-thread-multi
Date
2018-05-11 05:38:41
ID
8fc97826-54dd-11e8-91fb-cb9e107ddfad
This distribution has been tested as part of the CPAN Testers
project, supporting the Perl programming language.  See
http://wiki.cpantesters.org/ for more information or email
questions to cpan-testers-discuss@perl.org


--
Dear Tom Gracey,

This is a computer-generated report for MooseX-RelClassTypes-0.03
on perl 5.26.2, created by CPAN-Reporter-1.2018.

Thank you for uploading your work to CPAN.  Congratulations!
All tests were successful.

Sections of this report:

    * Tester comments
    * Program output
    * Prerequisites
    * Environment and other context

------------------------------
TESTER COMMENTS
------------------------------

Additional comments from tester:

none provided

------------------------------
PROGRAM OUTPUT
------------------------------

Output from '/usr/bin/make test':

PERL_DL_NONLAZY=1 "/usr/local/bin/perl5" "-MExtUtils::Command::MM" "-MTest::Harness" "-e" "undef *Test::Harness::Switches; test_harness(0, 'blib/lib', 'blib/arch')" t/*.t
You are overwriting a accessor (parent_rel_pack) for the parent_rel_pack attribute (defined at t/00_set_isa.t line 23) with a new accessor method for the parent_rel_pack attribute (defined at t/00_set_isa.t line 23) at /home/cpansand/.cpan/build/2018051109/Moose-2.2010-0/blib/lib/Moose/Meta/Attribute.pm line 1094.
	Moose::Meta::Attribute::_process_accessors(Moose::Meta::Attribute=HASH(0x455f40f0), "accessor", "parent_rel_pack", undef) called at /home/cpansand/.cpan/build/2018051109/Moose-2.2010-0/blib/lib/Class/MOP/Attribute.pm line 446
	Class::MOP::Attribute::install_accessors(Moose::Meta::Attribute=HASH(0x455f40f0)) called at /home/cpansand/.cpan/build/2018051109/Moose-2.2010-0/blib/lib/Moose/Meta/Attribute.pm line 1014
	Moose::Meta::Attribute::install_accessors(Moose::Meta::Attribute=HASH(0x455f40f0)) called at /home/cpansand/.cpan/build/2018051109/MooseX-RelClassTypes-0.03-0/blib/lib/MooseX/RelClassTypes.pm line 76
	Class::MOP::Class:::before("Child") called at /home/cpansand/.cpan/build/2018051109/Moose-2.2010-0/blib/lib/Class/MOP/Method/Wrapped.pm line 43
	Child::_wrapped_BUILDARGS("Child") called at /home/cpansand/.cpan/build/2018051109/Moose-2.2010-0/blib/lib/Class/MOP/Method/Wrapped.pm line 95
	Child::BUILDARGS("Child") called at /home/cpansand/.cpan/build/2018051109/Moose-2.2010-0/blib/lib/Moose/Object.pm line 22
	Moose::Object::new("Child") called at t/00_set_isa.t line 99
You are overwriting a accessor (child_rel_pack) for the child_rel_pack attribute (defined at t/00_set_isa.t line 45) with a new accessor method for the child_rel_pack attribute (defined at t/00_set_isa.t line 45) at /home/cpansand/.cpan/build/2018051109/Moose-2.2010-0/blib/lib/Moose/Meta/Attribute.pm line 1094.
	Moose::Meta::Attribute::_process_accessors(Moose::Meta::Attribute=HASH(0x455fbdb0), "accessor", "child_rel_pack", undef) called at /home/cpansand/.cpan/build/2018051109/Moose-2.2010-0/blib/lib/Class/MOP/Attribute.pm line 446
	Class::MOP::Attribute::install_accessors(Moose::Meta::Attribute=HASH(0x455fbdb0)) called at /home/cpansand/.cpan/build/2018051109/Moose-2.2010-0/blib/lib/Moose/Meta/Attribute.pm line 1014
	Moose::Meta::Attribute::install_accessors(Moose::Meta::Attribute=HASH(0x455fbdb0)) called at /home/cpansand/.cpan/build/2018051109/MooseX-RelClassTypes-0.03-0/blib/lib/MooseX/RelClassTypes.pm line 76
	Class::MOP::Class:::before("Child") called at /home/cpansand/.cpan/build/2018051109/Moose-2.2010-0/blib/lib/Class/MOP/Method/Wrapped.pm line 43
	Child::_wrapped_BUILDARGS("Child") called at /home/cpansand/.cpan/build/2018051109/Moose-2.2010-0/blib/lib/Class/MOP/Method/Wrapped.pm line 95
	Child::BUILDARGS("Child") called at /home/cpansand/.cpan/build/2018051109/Moose-2.2010-0/blib/lib/Moose/Object.pm line 22
	Moose::Object::new("Child") called at t/00_set_isa.t line 99
You are overwriting a accessor (child_rel_pack) for the child_rel_pack attribute (defined at t/00_set_isa.t line 45) with a new accessor method for the child_rel_pack attribute (defined at t/00_set_isa.t line 45) at /home/cpansand/.cpan/build/2018051109/Moose-2.2010-0/blib/lib/Moose/Meta/Attribute.pm line 1094.
	Moose::Meta::Attribute::_process_accessors(Moose::Meta::Attribute=HASH(0x455fbdb0), "accessor", "child_rel_pack", undef) called at /home/cpansand/.cpan/build/2018051109/Moose-2.2010-0/blib/lib/Class/MOP/Attribute.pm line 446
	Class::MOP::Attribute::install_accessors(Moose::Meta::Attribute=HASH(0x455fbdb0)) called at /home/cpansand/.cpan/build/2018051109/Moose-2.2010-0/blib/lib/Moose/Meta/Attribute.pm line 1014
	Moose::Meta::Attribute::install_accessors(Moose::Meta::Attribute=HASH(0x455fbdb0)) called at /home/cpansand/.cpan/build/2018051109/MooseX-RelClassTypes-0.03-0/blib/lib/MooseX/RelClassTypes.pm line 76
	Class::MOP::Class:::before("Child") called at /home/cpansand/.cpan/build/2018051109/Moose-2.2010-0/blib/lib/Class/MOP/Method/Wrapped.pm line 43
	Parent::_wrapped_BUILDARGS("Child") called at /home/cpansand/.cpan/build/2018051109/Moose-2.2010-0/blib/lib/Class/MOP/Method/Wrapped.pm line 95
	Parent::BUILDARGS("Child") called at /home/cpansand/.cpan/build/2018051109/Moose-2.2010-0/blib/lib/Class/MOP/Method/Wrapped.pm line 44
	Child::_wrapped_BUILDARGS("Child") called at /home/cpansand/.cpan/build/2018051109/Moose-2.2010-0/blib/lib/Class/MOP/Method/Wrapped.pm line 95
	Child::BUILDARGS("Child") called at /home/cpansand/.cpan/build/2018051109/Moose-2.2010-0/blib/lib/Moose/Object.pm line 22
	Moose::Object::new("Child") called at t/00_set_isa.t line 99
You are overwriting a accessor (parent_rel_pack) for the parent_rel_pack attribute (defined at t/00_set_isa.t line 23) with a new accessor method for the parent_rel_pack attribute (defined at t/00_set_isa.t line 23) at /home/cpansand/.cpan/build/2018051109/Moose-2.2010-0/blib/lib/Moose/Meta/Attribute.pm line 1094.
	Moose::Meta::Attribute::_process_accessors(Moose::Meta::Attribute=HASH(0x455f40f0), "accessor", "parent_rel_pack", undef) called at /home/cpansand/.cpan/build/2018051109/Moose-2.2010-0/blib/lib/Class/MOP/Attribute.pm line 446
	Class::MOP::Attribute::install_accessors(Moose::Meta::Attribute=HASH(0x455f40f0)) called at /home/cpansand/.cpan/build/2018051109/Moose-2.2010-0/blib/lib/Moose/Meta/Attribute.pm line 1014
	Moose::Meta::Attribute::install_accessors(Moose::Meta::Attribute=HASH(0x455f40f0)) called at /home/cpansand/.cpan/build/2018051109/MooseX-RelClassTypes-0.03-0/blib/lib/MooseX/RelClassTypes.pm line 76
	Class::MOP::Class:::before("Child") called at /home/cpansand/.cpan/build/2018051109/Moose-2.2010-0/blib/lib/Class/MOP/Method/Wrapped.pm line 43
	Parent::_wrapped_BUILDARGS("Child") called at /home/cpansand/.cpan/build/2018051109/Moose-2.2010-0/blib/lib/Class/MOP/Method/Wrapped.pm line 95
	Parent::BUILDARGS("Child") called at /home/cpansand/.cpan/build/2018051109/Moose-2.2010-0/blib/lib/Class/MOP/Method/Wrapped.pm line 44
	Child::_wrapped_BUILDARGS("Child") called at /home/cpansand/.cpan/build/2018051109/Moose-2.2010-0/blib/lib/Class/MOP/Method/Wrapped.pm line 95
	Child::BUILDARGS("Child") called at /home/cpansand/.cpan/build/2018051109/Moose-2.2010-0/blib/lib/Moose/Object.pm line 22
	Moose::Object::new("Child") called at t/00_set_isa.t line 99
t/00_set_isa.t ....... ok
You are overwriting a reader (rel_pack) for the rel_pack attribute (defined at t/01_auto_default.t line 20) with a new reader method for the rel_pack attribute (defined at t/01_auto_default.t line 20) at /home/cpansand/.cpan/build/2018051109/Moose-2.2010-0/blib/lib/Moose/Meta/Attribute.pm line 1094.
	Moose::Meta::Attribute::_process_accessors(Moose::Meta::Attribute=HASH(0x45a17dc8), "reader", "rel_pack", undef) called at /home/cpansand/.cpan/build/2018051109/Moose-2.2010-0/blib/lib/Class/MOP/Attribute.pm line 450
	Class::MOP::Attribute::install_accessors(Moose::Meta::Attribute=HASH(0x45a17dc8)) called at /home/cpansand/.cpan/build/2018051109/Moose-2.2010-0/blib/lib/Moose/Meta/Attribute.pm line 1014
	Moose::Meta::Attribute::install_accessors(Moose::Meta::Attribute=HASH(0x45a17dc8)) called at /home/cpansand/.cpan/build/2018051109/MooseX-RelClassTypes-0.03-0/blib/lib/MooseX/RelClassTypes.pm line 76
	Class::MOP::Class:::before("TestAD::NoAuto_NoDefault_WithBuilder") called at /home/cpansand/.cpan/build/2018051109/Moose-2.2010-0/blib/lib/Class/MOP/Method/Wrapped.pm line 43
	TestAD::NoAuto_NoDefault_WithBuilder::_wrapped_BUILDARGS("TestAD::NoAuto_NoDefault_WithBuilder") called at /home/cpansand/.cpan/build/2018051109/Moose-2.2010-0/blib/lib/Class/MOP/Method/Wrapped.pm line 95
	TestAD::NoAuto_NoDefault_WithBuilder::BUILDARGS("TestAD::NoAuto_NoDefault_WithBuilder") called at /home/cpansand/.cpan/build/2018051109/Moose-2.2010-0/blib/lib/Moose/Object.pm line 22
	Moose::Object::new("TestAD::NoAuto_NoDefault_WithBuilder") called at t/01_auto_default.t line 143
You are overwriting a reader (rel_pack) for the rel_pack attribute (defined at t/01_auto_default.t line 45) with a new reader method for the rel_pack attribute (defined at t/01_auto_default.t line 45) at /home/cpansand/.cpan/build/2018051109/Moose-2.2010-0/blib/lib/Moose/Meta/Attribute.pm line 1094.
	Moose::Meta::Attribute::_process_accessors(Moose::Meta::Attribute=HASH(0x45a1fbd0), "reader", "rel_pack", undef) called at /home/cpansand/.cpan/build/2018051109/Moose-2.2010-0/blib/lib/Class/MOP/Attribute.pm line 450
	Class::MOP::Attribute::install_accessors(Moose::Meta::Attribute=HASH(0x45a1fbd0)) called at /home/cpansand/.cpan/build/2018051109/Moose-2.2010-0/blib/lib/Moose/Meta/Attribute.pm line 1014
	Moose::Meta::Attribute::install_accessors(Moose::Meta::Attribute=HASH(0x45a1fbd0)) called at /home/cpansand/.cpan/build/2018051109/MooseX-RelClassTypes-0.03-0/blib/lib/MooseX/RelClassTypes.pm line 76
	Class::MOP::Class:::before("TestAD::WithAuto_NoDefault_NoBuilder") called at /home/cpansand/.cpan/build/2018051109/Moose-2.2010-0/blib/lib/Class/MOP/Method/Wrapped.pm line 43
	TestAD::WithAuto_NoDefault_NoBuilder::_wrapped_BUILDARGS("TestAD::WithAuto_NoDefault_NoBuilder") called at /home/cpansand/.cpan/build/2018051109/Moose-2.2010-0/blib/lib/Class/MOP/Method/Wrapped.pm line 95
	TestAD::WithAuto_NoDefault_NoBuilder::BUILDARGS("TestAD::WithAuto_NoDefault_NoBuilder") called at /home/cpansand/.cpan/build/2018051109/Moose-2.2010-0/blib/lib/Moose/Object.pm line 22
	Moose::Object::new("TestAD::WithAuto_NoDefault_NoBuilder") called at t/01_auto_default.t line 143
You are overwriting a reader (rel_pack) for the rel_pack attribute (defined at t/01_auto_default.t line 37) with a new reader method for the rel_pack attribute (defined at t/01_auto_default.t line 37) at /home/cpansand/.cpan/build/2018051109/Moose-2.2010-0/blib/lib/Moose/Meta/Attribute.pm line 1094.
	Moose::Meta::Attribute::_process_accessors(Moose::Meta::Attribute=HASH(0x45a1bd80), "reader", "rel_pack", undef) called at /home/cpansand/.cpan/build/2018051109/Moose-2.2010-0/blib/lib/Class/MOP/Attribute.pm line 450
	Class::MOP::Attribute::install_accessors(Moose::Meta::Attribute=HASH(0x45a1bd80)) called at /home/cpansand/.cpan/build/2018051109/Moose-2.2010-0/blib/lib/Moose/Meta/Attribute.pm line 1014
	Moose::Meta::Attribute::install_accessors(Moose::Meta::Attribute=HASH(0x45a1bd80)) called at /home/cpansand/.cpan/build/2018051109/MooseX-RelClassTypes-0.03-0/blib/lib/MooseX/RelClassTypes.pm line 76
	Class::MOP::Class:::before("TestAD::NoAuto_WithDefault_NoBuilder") called at /home/cpansand/.cpan/build/2018051109/Moose-2.2010-0/blib/lib/Class/MOP/Method/Wrapped.pm line 43
	TestAD::NoAuto_WithDefault_NoBuilder::_wrapped_BUILDARGS("TestAD::NoAuto_WithDefault_NoBuilder") called at /home/cpansand/.cpan/build/2018051109/Moose-2.2010-0/blib/lib/Class/MOP/Method/Wrapped.pm line 95
	TestAD::NoAuto_WithDefault_NoBuilder::BUILDARGS("TestAD::NoAuto_WithDefault_NoBuilder") called at /home/cpansand/.cpan/build/2018051109/Moose-2.2010-0/blib/lib/Moose/Object.pm line 22
	Moose::Object::new("TestAD::NoAuto_WithDefault_NoBuilder") called at t/01_auto_default.t line 143
You are overwriting a reader (rel_pack) for the rel_pack attribute (defined at t/01_auto_default.t line 71) with a new reader method for the rel_pack attribute (defined at t/01_auto_default.t line 71) at /home/cpansand/.cpan/build/2018051109/Moose-2.2010-0/blib/lib/Moose/Meta/Attribute.pm line 1094.
	Moose::Meta::Attribute::_process_accessors(Moose::Meta::Attribute=HASH(0x45a30c48), "reader", "rel_pack", undef) called at /home/cpansand/.cpan/build/2018051109/Moose-2.2010-0/blib/lib/Class/MOP/Attribute.pm line 450
	Class::MOP::Attribute::install_accessors(Moose::Meta::Attribute=HASH(0x45a30c48)) called at /home/cpansand/.cpan/build/2018051109/Moose-2.2010-0/blib/lib/Moose/Meta/Attribute.pm line 1014
	Moose::Meta::Attribute::install_accessors(Moose::Meta::Attribute=HASH(0x45a30c48)) called at /home/cpansand/.cpan/build/2018051109/MooseX-RelClassTypes-0.03-0/blib/lib/MooseX/RelClassTypes.pm line 76
	Class::MOP::Class:::before("TestAD::WithAuto_WithDefault_NoBuilder") called at /home/cpansand/.cpan/build/2018051109/Moose-2.2010-0/blib/lib/Class/MOP/Method/Wrapped.pm line 43
	TestAD::WithAuto_WithDefault_NoBuilder::_wrapped_BUILDARGS("TestAD::WithAuto_WithDefault_NoBuilder") called at /home/cpansand/.cpan/build/2018051109/Moose-2.2010-0/blib/lib/Class/MOP/Method/Wrapped.pm line 95
	TestAD::WithAuto_WithDefault_NoBuilder::BUILDARGS("TestAD::WithAuto_WithDefault_NoBuilder") called at /home/cpansand/.cpan/build/2018051109/Moose-2.2010-0/blib/lib/Moose/Object.pm line 22
	Moose::Object::new("TestAD::WithAuto_WithDefault_NoBuilder") called at t/01_auto_default.t line 143
You are overwriting a reader (rel_pack) for the rel_pack attribute (defined at t/01_auto_default.t line 54) with a new reader method for the rel_pack attribute (defined at t/01_auto_default.t line 54) at /home/cpansand/.cpan/build/2018051109/Moose-2.2010-0/blib/lib/Moose/Meta/Attribute.pm line 1094.
	Moose::Meta::Attribute::_process_accessors(Moose::Meta::Attribute=HASH(0x45a2cc90), "reader", "rel_pack", undef) called at /home/cpansand/.cpan/build/2018051109/Moose-2.2010-0/blib/lib/Class/MOP/Attribute.pm line 450
	Class::MOP::Attribute::install_accessors(Moose::Meta::Attribute=HASH(0x45a2cc90)) called at /home/cpansand/.cpan/build/2018051109/Moose-2.2010-0/blib/lib/Moose/Meta/Attribute.pm line 1014
	Moose::Meta::Attribute::install_accessors(Moose::Meta::Attribute=HASH(0x45a2cc90)) called at /home/cpansand/.cpan/build/2018051109/MooseX-RelClassTypes-0.03-0/blib/lib/MooseX/RelClassTypes.pm line 76
	Class::MOP::Class:::before("TestAD::WithAuto_NoDefault_WithBuilder") called at /home/cpansand/.cpan/build/2018051109/Moose-2.2010-0/blib/lib/Class/MOP/Method/Wrapped.pm line 43
	TestAD::WithAuto_NoDefault_WithBuilder::_wrapped_BUILDARGS("TestAD::WithAuto_NoDefault_WithBuilder") called at /home/cpansand/.cpan/build/2018051109/Moose-2.2010-0/blib/lib/Class/MOP/Method/Wrapped.pm line 95
	TestAD::WithAuto_NoDefault_WithBuilder::BUILDARGS("TestAD::WithAuto_NoDefault_WithBuilder") called at /home/cpansand/.cpan/build/2018051109/Moose-2.2010-0/blib/lib/Moose/Object.pm line 22
	Moose::Object::new("TestAD::WithAuto_NoDefault_WithBuilder") called at t/01_auto_default.t line 143
You are overwriting a reader (rel_pack) for the rel_pack attribute (defined at t/01_auto_default.t line 11) with a new reader method for the rel_pack attribute (defined at t/01_auto_default.t line 11) at /home/cpansand/.cpan/build/2018051109/Moose-2.2010-0/blib/lib/Moose/Meta/Attribute.pm line 1094.
	Moose::Meta::Attribute::_process_accessors(Moose::Meta::Attribute=HASH(0x45a0f840), "reader", "rel_pack", undef) called at /home/cpansand/.cpan/build/2018051109/Moose-2.2010-0/blib/lib/Class/MOP/Attribute.pm line 450
	Class::MOP::Attribute::install_accessors(Moose::Meta::Attribute=HASH(0x45a0f840)) called at /home/cpansand/.cpan/build/2018051109/Moose-2.2010-0/blib/lib/Moose/Meta/Attribute.pm line 1014
	Moose::Meta::Attribute::install_accessors(Moose::Meta::Attribute=HASH(0x45a0f840)) called at /home/cpansand/.cpan/build/2018051109/MooseX-RelClassTypes-0.03-0/blib/lib/MooseX/RelClassTypes.pm line 76
	Class::MOP::Class:::before("TestAD::NoAuto_NoDefault_NoBuilder") called at /home/cpansand/.cpan/build/2018051109/Moose-2.2010-0/blib/lib/Class/MOP/Method/Wrapped.pm line 43
	TestAD::NoAuto_NoDefault_NoBuilder::_wrapped_BUILDARGS("TestAD::NoAuto_NoDefault_NoBuilder") called at /home/cpansand/.cpan/build/2018051109/Moose-2.2010-0/blib/lib/Class/MOP/Method/Wrapped.pm line 95
	TestAD::NoAuto_NoDefault_NoBuilder::BUILDARGS("TestAD::NoAuto_NoDefault_NoBuilder") called at /home/cpansand/.cpan/build/2018051109/Moose-2.2010-0/blib/lib/Moose/Object.pm line 22
	Moose::Object::new("TestAD::NoAuto_NoDefault_NoBuilder") called at t/01_auto_default.t line 143
t/01_auto_default.t .. ok
You are overwriting a reader (rel_pack) for the rel_pack attribute (defined at t/02_parser.t line 19) with a new reader method for the rel_pack attribute (defined at t/02_parser.t line 19) at /home/cpansand/.cpan/build/2018051109/Moose-2.2010-0/blib/lib/Moose/Meta/Attribute.pm line 1094.
	Moose::Meta::Attribute::_process_accessors(Moose::Meta::Attribute=HASH(0x455ec2e8), "reader", "rel_pack", undef) called at /home/cpansand/.cpan/build/2018051109/Moose-2.2010-0/blib/lib/Class/MOP/Attribute.pm line 450
	Class::MOP::Attribute::install_accessors(Moose::Meta::Attribute=HASH(0x455ec2e8)) called at /home/cpansand/.cpan/build/2018051109/Moose-2.2010-0/blib/lib/Moose/Meta/Attribute.pm line 1014
	Moose::Meta::Attribute::install_accessors(Moose::Meta::Attribute=HASH(0x455ec2e8)) called at /home/cpansand/.cpan/build/2018051109/MooseX-RelClassTypes-0.03-0/blib/lib/MooseX/RelClassTypes.pm line 76
	Class::MOP::Class:::before("TestParser::AngleBK") called at /home/cpansand/.cpan/build/2018051109/Moose-2.2010-0/blib/lib/Class/MOP/Method/Wrapped.pm line 43
	TestParser::AngleBK::_wrapped_BUILDARGS("TestParser::AngleBK") called at /home/cpansand/.cpan/build/2018051109/Moose-2.2010-0/blib/lib/Class/MOP/Method/Wrapped.pm line 95
	TestParser::AngleBK::BUILDARGS("TestParser::AngleBK") called at /home/cpansand/.cpan/build/2018051109/Moose-2.2010-0/blib/lib/Moose/Object.pm line 22
	Moose::Object::new("TestParser::AngleBK") called at t/02_parser.t line 87
You are overwriting a reader (alt_pack) for the alt_pack attribute (defined at t/02_parser.t line 24) with a new reader method for the alt_pack attribute (defined at t/02_parser.t line 24) at /home/cpansand/.cpan/build/2018051109/Moose-2.2010-0/blib/lib/Moose/Meta/Attribute.pm line 1094.
	Moose::Meta::Attribute::_process_accessors(Moose::Meta::Attribute=HASH(0x455ec828), "reader", "alt_pack", undef) called at /home/cpansand/.cpan/build/2018051109/Moose-2.2010-0/blib/lib/Class/MOP/Attribute.pm line 450
	Class::MOP::Attribute::install_accessors(Moose::Meta::Attribute=HASH(0x455ec828)) called at /home/cpansand/.cpan/build/2018051109/Moose-2.2010-0/blib/lib/Moose/Meta/Attribute.pm line 1014
	Moose::Meta::Attribute::install_accessors(Moose::Meta::Attribute=HASH(0x455ec828)) called at /home/cpansand/.cpan/build/2018051109/MooseX-RelClassTypes-0.03-0/blib/lib/MooseX/RelClassTypes.pm line 76
	Class::MOP::Class:::before("TestParser::AngleBK") called at /home/cpansand/.cpan/build/2018051109/Moose-2.2010-0/blib/lib/Class/MOP/Method/Wrapped.pm line 43
	TestParser::AngleBK::_wrapped_BUILDARGS("TestParser::AngleBK") called at /home/cpansand/.cpan/build/2018051109/Moose-2.2010-0/blib/lib/Class/MOP/Method/Wrapped.pm line 95
	TestParser::AngleBK::BUILDARGS("TestParser::AngleBK") called at /home/cpansand/.cpan/build/2018051109/Moose-2.2010-0/blib/lib/Moose/Object.pm line 22
	Moose::Object::new("TestParser::AngleBK") called at t/02_parser.t line 87
You are overwriting a reader (alt_pack) for the alt_pack attribute (defined at t/02_parser.t line 47) with a new reader method for the alt_pack attribute (defined at t/02_parser.t line 47) at /home/cpansand/.cpan/build/2018051109/Moose-2.2010-0/blib/lib/Moose/Meta/Attribute.pm line 1094.
	Moose::Meta::Attribute::_process_accessors(Moose::Meta::Attribute=HASH(0x455f1120), "reader", "alt_pack", undef) called at /home/cpansand/.cpan/build/2018051109/Moose-2.2010-0/blib/lib/Class/MOP/Attribute.pm line 450
	Class::MOP::Attribute::install_accessors(Moose::Meta::Attribute=HASH(0x455f1120)) called at /home/cpansand/.cpan/build/2018051109/Moose-2.2010-0/blib/lib/Moose/Meta/Attribute.pm line 1014
	Moose::Meta::Attribute::install_accessors(Moose::Meta::Attribute=HASH(0x455f1120)) called at /home/cpansand/.cpan/build/2018051109/MooseX-RelClassTypes-0.03-0/blib/lib/MooseX/RelClassTypes.pm line 76
	Class::MOP::Class:::before("TestParser::RoundBK") called at /home/cpansand/.cpan/build/2018051109/Moose-2.2010-0/blib/lib/Class/MOP/Method/Wrapped.pm line 43
	TestParser::RoundBK::_wrapped_BUILDARGS("TestParser::RoundBK") called at /home/cpansand/.cpan/build/2018051109/Moose-2.2010-0/blib/lib/Class/MOP/Method/Wrapped.pm line 95
	TestParser::RoundBK::BUILDARGS("TestParser::RoundBK") called at /home/cpansand/.cpan/build/2018051109/Moose-2.2010-0/blib/lib/Moose/Object.pm line 22
	Moose::Object::new("TestParser::RoundBK") called at t/02_parser.t line 87
You are overwriting a reader (rel_pack) for the rel_pack attribute (defined at t/02_parser.t line 42) with a new reader method for the rel_pack attribute (defined at t/02_parser.t line 42) at /home/cpansand/.cpan/build/2018051109/Moose-2.2010-0/blib/lib/Moose/Meta/Attribute.pm line 1094.
	Moose::Meta::Attribute::_process_accessors(Moose::Meta::Attribute=HASH(0x455f4138), "reader", "rel_pack", undef) called at /home/cpansand/.cpan/build/2018051109/Moose-2.2010-0/blib/lib/Class/MOP/Attribute.pm line 450
	Class::MOP::Attribute::install_accessors(Moose::Meta::Attribute=HASH(0x455f4138)) called at /home/cpansand/.cpan/build/2018051109/Moose-2.2010-0/blib/lib/Moose/Meta/Attribute.pm line 1014
	Moose::Meta::Attribute::install_accessors(Moose::Meta::Attribute=HASH(0x455f4138)) called at /home/cpansand/.cpan/build/2018051109/MooseX-RelClassTypes-0.03-0/blib/lib/MooseX/RelClassTypes.pm line 76
	Class::MOP::Class:::before("TestParser::RoundBK") called at /home/cpansand/.cpan/build/2018051109/Moose-2.2010-0/blib/lib/Class/MOP/Method/Wrapped.pm line 43
	TestParser::RoundBK::_wrapped_BUILDARGS("TestParser::RoundBK") called at /home/cpansand/.cpan/build/2018051109/Moose-2.2010-0/blib/lib/Class/MOP/Method/Wrapped.pm line 95
	TestParser::RoundBK::BUILDARGS("TestParser::RoundBK") called at /home/cpansand/.cpan/build/2018051109/Moose-2.2010-0/blib/lib/Moose/Object.pm line 22
	Moose::Object::new("TestParser::RoundBK") called at t/02_parser.t line 87
t/02_parser.t ........ ok
You are overwriting a accessor (child_rel_pack) for the child_rel_pack attribute (defined at t/03_lazy.t line 32) with a new accessor method for the child_rel_pack attribute (defined at t/03_lazy.t line 32) at /home/cpansand/.cpan/build/2018051109/Moose-2.2010-0/blib/lib/Moose/Meta/Attribute.pm line 1094.
	Moose::Meta::Attribute::_process_accessors(Moose::Meta::Attribute=HASH(0x45a58bb8), "accessor", "child_rel_pack", undef) called at /home/cpansand/.cpan/build/2018051109/Moose-2.2010-0/blib/lib/Class/MOP/Attribute.pm line 446
	Class::MOP::Attribute::install_accessors(Moose::Meta::Attribute=HASH(0x45a58bb8)) called at /home/cpansand/.cpan/build/2018051109/Moose-2.2010-0/blib/lib/Moose/Meta/Attribute.pm line 1014
	Moose::Meta::Attribute::install_accessors(Moose::Meta::Attribute=HASH(0x45a58bb8)) called at /home/cpansand/.cpan/build/2018051109/MooseX-RelClassTypes-0.03-0/blib/lib/MooseX/RelClassTypes.pm line 76
	Class::MOP::Class:::before("LazyParent::Child") called at /home/cpansand/.cpan/build/2018051109/Moose-2.2010-0/blib/lib/Class/MOP/Method/Wrapped.pm line 43
	LazyParent::Child::_wrapped_BUILDARGS("LazyParent::Child") called at /home/cpansand/.cpan/build/2018051109/Moose-2.2010-0/blib/lib/Class/MOP/Method/Wrapped.pm line 95
	LazyParent::Child::BUILDARGS("LazyParent::Child") called at /home/cpansand/.cpan/build/2018051109/Moose-2.2010-0/blib/lib/Moose/Object.pm line 22
	Moose::Object::new("LazyParent::Child") called at t/03_lazy.t line 248
You are overwriting a accessor (parent_rel_pack) for the parent_rel_pack attribute (defined at t/03_lazy.t line 22) with a new accessor method for the parent_rel_pack attribute (defined at t/03_lazy.t line 22) at /home/cpansand/.cpan/build/2018051109/Moose-2.2010-0/blib/lib/Moose/Meta/Attribute.pm line 1094.
	Moose::Meta::Attribute::_process_accessors(Moose::Meta::Attribute=HASH(0x45a4a738), "accessor", "parent_rel_pack", undef) called at /home/cpansand/.cpan/build/2018051109/Moose-2.2010-0/blib/lib/Class/MOP/Attribute.pm line 446
	Class::MOP::Attribute::install_accessors(Moose::Meta::Attribute=HASH(0x45a4a738)) called at /home/cpansand/.cpan/build/2018051109/Moose-2.2010-0/blib/lib/Moose/Meta/Attribute.pm line 1014
	Moose::Meta::Attribute::install_accessors(Moose::Meta::Attribute=HASH(0x45a4a738)) called at /home/cpansand/.cpan/build/2018051109/MooseX-RelClassTypes-0.03-0/blib/lib/MooseX/RelClassTypes.pm line 76
	Class::MOP::Class:::before("LazyParent::Child") called at /home/cpansand/.cpan/build/2018051109/Moose-2.2010-0/blib/lib/Class/MOP/Method/Wrapped.pm line 43
	LazyParent::Child::_wrapped_BUILDARGS("LazyParent::Child") called at /home/cpansand/.cpan/build/2018051109/Moose-2.2010-0/blib/lib/Class/MOP/Method/Wrapped.pm line 95
	LazyParent::Child::BUILDARGS("LazyParent::Child") called at /home/cpansand/.cpan/build/2018051109/Moose-2.2010-0/blib/lib/Moose/Object.pm line 22
	Moose::Object::new("LazyParent::Child") called at t/03_lazy.t line 248
You are overwriting a accessor (child_rel_pack) for the child_rel_pack attribute (defined at t/03_lazy.t line 32) with a new accessor method for the child_rel_pack attribute (defined at t/03_lazy.t line 32) at /home/cpansand/.cpan/build/2018051109/Moose-2.2010-0/blib/lib/Moose/Meta/Attribute.pm line 1094.
	Moose::Meta::Attribute::_process_accessors(Moose::Meta::Attribute=HASH(0x45a58bb8), "accessor", "child_rel_pack", undef) called at /home/cpansand/.cpan/build/2018051109/Moose-2.2010-0/blib/lib/Class/MOP/Attribute.pm line 446
	Class::MOP::Attribute::install_accessors(Moose::Meta::Attribute=HASH(0x45a58bb8)) called at /home/cpansand/.cpan/build/2018051109/Moose-2.2010-0/blib/lib/Moose/Meta/Attribute.pm line 1014
	Moose::Meta::Attribute::install_accessors(Moose::Meta::Attribute=HASH(0x45a58bb8)) called at /home/cpansand/.cpan/build/2018051109/MooseX-RelClassTypes-0.03-0/blib/lib/MooseX/RelClassTypes.pm line 76
	Class::MOP::Class:::before("LazyParent::Child") called at /home/cpansand/.cpan/build/2018051109/Moose-2.2010-0/blib/lib/Class/MOP/Method/Wrapped.pm line 43
	LazyParent::Parent::_wrapped_BUILDARGS("LazyParent::Child") called at /home/cpansand/.cpan/build/2018051109/Moose-2.2010-0/blib/lib/Class/MOP/Method/Wrapped.pm line 95
	LazyParent::Parent::BUILDARGS("LazyParent::Child") called at /home/cpansand/.cpan/build/2018051109/Moose-2.2010-0/blib/lib/Class/MOP/Method/Wrapped.pm line 44
	LazyParent::Child::_wrapped_BUILDARGS("LazyParent::Child") called at /home/cpansand/.cpan/build/2018051109/Moose-2.2010-0/blib/lib/Class/MOP/Method/Wrapped.pm line 95
	LazyParent::Child::BUILDARGS("LazyParent::Child") called at /home/cpansand/.cpan/build/2018051109/Moose-2.2010-0/blib/lib/Moose/Object.pm line 22
	Moose::Object::new("LazyParent::Child") called at t/03_lazy.t line 248
You are overwriting a accessor (parent_rel_pack) for the parent_rel_pack attribute (defined at t/03_lazy.t line 22) with a new accessor method for the parent_rel_pack attribute (defined at t/03_lazy.t line 22) at /home/cpansand/.cpan/build/2018051109/Moose-2.2010-0/blib/lib/Moose/Meta/Attribute.pm line 1094.
	Moose::Meta::Attribute::_process_accessors(Moose::Meta::Attribute=HASH(0x45a4a738), "accessor", "parent_rel_pack", undef) called at /home/cpansand/.cpan/build/2018051109/Moose-2.2010-0/blib/lib/Class/MOP/Attribute.pm line 446
	Class::MOP::Attribute::install_accessors(Moose::Meta::Attribute=HASH(0x45a4a738)) called at /home/cpansand/.cpan/build/2018051109/Moose-2.2010-0/blib/lib/Moose/Meta/Attribute.pm line 1014
	Moose::Meta::Attribute::install_accessors(Moose::Meta::Attribute=HASH(0x45a4a738)) called at /home/cpansand/.cpan/build/2018051109/MooseX-RelClassTypes-0.03-0/blib/lib/MooseX/RelClassTypes.pm line 76
	Class::MOP::Class:::before("LazyParent::Child") called at /home/cpansand/.cpan/build/2018051109/Moose-2.2010-0/blib/lib/Class/MOP/Method/Wrapped.pm line 43
	LazyParent::Parent::_wrapped_BUILDARGS("LazyParent::Child") called at /home/cpansand/.cpan/build/2018051109/Moose-2.2010-0/blib/lib/Class/MOP/Method/Wrapped.pm line 95
	LazyParent::Parent::BUILDARGS("LazyParent::Child") called at /home/cpansand/.cpan/build/2018051109/Moose-2.2010-0/blib/lib/Class/MOP/Method/Wrapped.pm line 44
	LazyParent::Child::_wrapped_BUILDARGS("LazyParent::Child") called at /home/cpansand/.cpan/build/2018051109/Moose-2.2010-0/blib/lib/Class/MOP/Method/Wrapped.pm line 95
	LazyParent::Child::BUILDARGS("LazyParent::Child") called at /home/cpansand/.cpan/build/2018051109/Moose-2.2010-0/blib/lib/Moose/Object.pm line 22
	Moose::Object::new("LazyParent::Child") called at t/03_lazy.t line 248
You are overwriting a accessor (child_rel_pack) for the child_rel_pack attribute (defined at t/03_lazy.t line 86) with a new accessor method for the child_rel_pack attribute (defined at t/03_lazy.t line 86) at /home/cpansand/.cpan/build/2018051109/Moose-2.2010-0/blib/lib/Moose/Meta/Attribute.pm line 1094.
	Moose::Meta::Attribute::_process_accessors(Moose::Meta::Attribute=HASH(0x45a5de10), "accessor", "child_rel_pack", undef) called at /home/cpansand/.cpan/build/2018051109/Moose-2.2010-0/blib/lib/Class/MOP/Attribute.pm line 446
	Class::MOP::Attribute::install_accessors(Moose::Meta::Attribute=HASH(0x45a5de10)) called at /home/cpansand/.cpan/build/2018051109/Moose-2.2010-0/blib/lib/Moose/Meta/Attribute.pm line 1014
	Moose::Meta::Attribute::install_accessors(Moose::Meta::Attribute=HASH(0x45a5de10)) called at /home/cpansand/.cpan/build/2018051109/MooseX-RelClassTypes-0.03-0/blib/lib/MooseX/RelClassTypes.pm line 76
	Class::MOP::Class:::before("LazyChild::Child") called at /home/cpansand/.cpan/build/2018051109/Moose-2.2010-0/blib/lib/Class/MOP/Method/Wrapped.pm line 43
	LazyChild::Child::_wrapped_BUILDARGS("LazyChild::Child") called at /home/cpansand/.cpan/build/2018051109/Moose-2.2010-0/blib/lib/Class/MOP/Method/Wrapped.pm line 95
	LazyChild::Child::BUILDARGS("LazyChild::Child") called at /home/cpansand/.cpan/build/2018051109/Moose-2.2010-0/blib/lib/Moose/Object.pm line 22
	Moose::Object::new("LazyChild::Child") called at t/03_lazy.t line 248
You are overwriting a accessor (parent_rel_pack) for the parent_rel_pack attribute (defined at t/03_lazy.t line 66) with a new accessor method for the parent_rel_pack attribute (defined at t/03_lazy.t line 66) at /home/cpansand/.cpan/build/2018051109/Moose-2.2010-0/blib/lib/Moose/Meta/Attribute.pm line 1094.
	Moose::Meta::Attribute::_process_accessors(Moose::Meta::Attribute=HASH(0x451eaaf8), "accessor", "parent_rel_pack", undef) called at /home/cpansand/.cpan/build/2018051109/Moose-2.2010-0/blib/lib/Class/MOP/Attribute.pm line 446
	Class::MOP::Attribute::install_accessors(Moose::Meta::Attribute=HASH(0x451eaaf8)) called at /home/cpansand/.cpan/build/2018051109/Moose-2.2010-0/blib/lib/Moose/Meta/Attribute.pm line 1014
	Moose::Meta::Attribute::install_accessors(Moose::Meta::Attribute=HASH(0x451eaaf8)) called at /home/cpansand/.cpan/build/2018051109/MooseX-RelClassTypes-0.03-0/blib/lib/MooseX/RelClassTypes.pm line 76
	Class::MOP::Class:::before("LazyChild::Child") called at /home/cpansand/.cpan/build/2018051109/Moose-2.2010-0/blib/lib/Class/MOP/Method/Wrapped.pm line 43
	LazyChild::Child::_wrapped_BUILDARGS("LazyChild::Child") called at /home/cpansand/.cpan/build/2018051109/Moose-2.2010-0/blib/lib/Class/MOP/Method/Wrapped.pm line 95
	LazyChild::Child::BUILDARGS("LazyChild::Child") called at /home/cpansand/.cpan/build/2018051109/Moose-2.2010-0/blib/lib/Moose/Object.pm line 22
	Moose::Object::new("LazyChild::Child") called at t/03_lazy.t line 248
You are overwriting a accessor (child_rel_pack) for the child_rel_pack attribute (defined at t/03_lazy.t line 86) with a new accessor method for the child_rel_pack attribute (defined at t/03_lazy.t line 86) at /home/cpansand/.cpan/build/2018051109/Moose-2.2010-0/blib/lib/Moose/Meta/Attribute.pm line 1094.
	Moose::Meta::Attribute::_process_accessors(Moose::Meta::Attribute=HASH(0x45a5de10), "accessor", "child_rel_pack", undef) called at /home/cpansand/.cpan/build/2018051109/Moose-2.2010-0/blib/lib/Class/MOP/Attribute.pm line 446
	Class::MOP::Attribute::install_accessors(Moose::Meta::Attribute=HASH(0x45a5de10)) called at /home/cpansand/.cpan/build/2018051109/Moose-2.2010-0/blib/lib/Moose/Meta/Attribute.pm line 1014
	Moose::Meta::Attribute::install_accessors(Moose::Meta::Attribute=HASH(0x45a5de10)) called at /home/cpansand/.cpan/build/2018051109/MooseX-RelClassTypes-0.03-0/blib/lib/MooseX/RelClassTypes.pm line 76
	Class::MOP::Class:::before("LazyChild::Child") called at /home/cpansand/.cpan/build/2018051109/Moose-2.2010-0/blib/lib/Class/MOP/Method/Wrapped.pm line 43
	LazyChild::Parent::_wrapped_BUILDARGS("LazyChild::Child") called at /home/cpansand/.cpan/build/2018051109/Moose-2.2010-0/blib/lib/Class/MOP/Method/Wrapped.pm line 95
	LazyChild::Parent::BUILDARGS("LazyChild::Child") called at /home/cpansand/.cpan/build/2018051109/Moose-2.2010-0/blib/lib/Class/MOP/Method/Wrapped.pm line 44
	LazyChild::Child::_wrapped_BUILDARGS("LazyChild::Child") called at /home/cpansand/.cpan/build/2018051109/Moose-2.2010-0/blib/lib/Class/MOP/Method/Wrapped.pm line 95
	LazyChild::Child::BUILDARGS("LazyChild::Child") called at /home/cpansand/.cpan/build/2018051109/Moose-2.2010-0/blib/lib/Moose/Object.pm line 22
	Moose::Object::new("LazyChild::Child") called at t/03_lazy.t line 248
You are overwriting a accessor (parent_rel_pack) for the parent_rel_pack attribute (defined at t/03_lazy.t line 66) with a new accessor method for the parent_rel_pack attribute (defined at t/03_lazy.t line 66) at /home/cpansand/.cpan/build/2018051109/Moose-2.2010-0/blib/lib/Moose/Meta/Attribute.pm line 1094.
	Moose::Meta::Attribute::_process_accessors(Moose::Meta::Attribute=HASH(0x451eaaf8), "accessor", "parent_rel_pack", undef) called at /home/cpansand/.cpan/build/2018051109/Moose-2.2010-0/blib/lib/Class/MOP/Attribute.pm line 446
	Class::MOP::Attribute::install_accessors(Moose::Meta::Attribute=HASH(0x451eaaf8)) called at /home/cpansand/.cpan/build/2018051109/Moose-2.2010-0/blib/lib/Moose/Meta/Attribute.pm line 1014
	Moose::Meta::Attribute::install_accessors(Moose::Meta::Attribute=HASH(0x451eaaf8)) called at /home/cpansand/.cpan/build/2018051109/MooseX-RelClassTypes-0.03-0/blib/lib/MooseX/RelClassTypes.pm line 76
	Class::MOP::Class:::before("LazyChild::Child") called at /home/cpansand/.cpan/build/2018051109/Moose-2.2010-0/blib/lib/Class/MOP/Method/Wrapped.pm line 43
	LazyChild::Parent::_wrapped_BUILDARGS("LazyChild::Child") called at /home/cpansand/.cpan/build/2018051109/Moose-2.2010-0/blib/lib/Class/MOP/Method/Wrapped.pm line 95
	LazyChild::Parent::BUILDARGS("LazyChild::Child") called at /home/cpansand/.cpan/build/2018051109/Moose-2.2010-0/blib/lib/Class/MOP/Method/Wrapped.pm line 44
	LazyChild::Child::_wrapped_BUILDARGS("LazyChild::Child") called at /home/cpansand/.cpan/build/2018051109/Moose-2.2010-0/blib/lib/Class/MOP/Method/Wrapped.pm line 95
	LazyChild::Child::BUILDARGS("LazyChild::Child") called at /home/cpansand/.cpan/build/2018051109/Moose-2.2010-0/blib/lib/Moose/Object.pm line 22
	Moose::Object::new("LazyChild::Child") called at t/03_lazy.t line 248
You are overwriting a accessor (child_rel_pack) for the child_rel_pack attribute (defined at t/03_lazy.t line 129) with a new accessor method for the child_rel_pack attribute (defined at t/03_lazy.t line 129) at /home/cpansand/.cpan/build/2018051109/Moose-2.2010-0/blib/lib/Moose/Meta/Attribute.pm line 1094.
	Moose::Meta::Attribute::_process_accessors(Moose::Meta::Attribute=HASH(0x45a7bd68), "accessor", "child_rel_pack", undef) called at /home/cpansand/.cpan/build/2018051109/Moose-2.2010-0/blib/lib/Class/MOP/Attribute.pm line 446
	Class::MOP::Attribute::install_accessors(Moose::Meta::Attribute=HASH(0x45a7bd68)) called at /home/cpansand/.cpan/build/2018051109/Moose-2.2010-0/blib/lib/Moose/Meta/Attribute.pm line 1014
	Moose::Meta::Attribute::install_accessors(Moose::Meta::Attribute=HASH(0x45a7bd68)) called at /home/cpansand/.cpan/build/2018051109/MooseX-RelClassTypes-0.03-0/blib/lib/MooseX/RelClassTypes.pm line 76
	Class::MOP::Class:::before("LazyParam::Child") called at /home/cpansand/.cpan/build/2018051109/Moose-2.2010-0/blib/lib/Class/MOP/Method/Wrapped.pm line 43
	LazyParam::Child::_wrapped_BUILDARGS("LazyParam::Child") called at /home/cpansand/.cpan/build/2018051109/Moose-2.2010-0/blib/lib/Class/MOP/Method/Wrapped.pm line 95
	LazyParam::Child::BUILDARGS("LazyParam::Child") called at /home/cpansand/.cpan/build/2018051109/Moose-2.2010-0/blib/lib/Moose/Object.pm line 22
	Moose::Object::new("LazyParam::Child") called at t/03_lazy.t line 248
You are overwriting a accessor (parent_rel_pack) for the parent_rel_pack attribute (defined at t/03_lazy.t line 117) with a new accessor method for the parent_rel_pack attribute (defined at t/03_lazy.t line 117) at /home/cpansand/.cpan/build/2018051109/Moose-2.2010-0/blib/lib/Moose/Meta/Attribute.pm line 1094.
	Moose::Meta::Attribute::_process_accessors(Moose::Meta::Attribute=HASH(0x45a6ecd8), "accessor", "parent_rel_pack", undef) called at /home/cpansand/.cpan/build/2018051109/Moose-2.2010-0/blib/lib/Class/MOP/Attribute.pm line 446
	Class::MOP::Attribute::install_accessors(Moose::Meta::Attribute=HASH(0x45a6ecd8)) called at /home/cpansand/.cpan/build/2018051109/Moose-2.2010-0/blib/lib/Moose/Meta/Attribute.pm line 1014
	Moose::Meta::Attribute::install_accessors(Moose::Meta::Attribute=HASH(0x45a6ecd8)) called at /home/cpansand/.cpan/build/2018051109/MooseX-RelClassTypes-0.03-0/blib/lib/MooseX/RelClassTypes.pm line 76
	Class::MOP::Class:::before("LazyParam::Child") called at /home/cpansand/.cpan/build/2018051109/Moose-2.2010-0/blib/lib/Class/MOP/Method/Wrapped.pm line 43
	LazyParam::Child::_wrapped_BUILDARGS("LazyParam::Child") called at /home/cpansand/.cpan/build/2018051109/Moose-2.2010-0/blib/lib/Class/MOP/Method/Wrapped.pm line 95
	LazyParam::Child::BUILDARGS("LazyParam::Child") called at /home/cpansand/.cpan/build/2018051109/Moose-2.2010-0/blib/lib/Moose/Object.pm line 22
	Moose::Object::new("LazyParam::Child") called at t/03_lazy.t line 248
You are overwriting a accessor (child_rel_pack) for the child_rel_pack attribute (defined at t/03_lazy.t line 129) with a new accessor method for the child_rel_pack attribute (defined at t/03_lazy.t line 129) at /home/cpansand/.cpan/build/2018051109/Moose-2.2010-0/blib/lib/Moose/Meta/Attribute.pm line 1094.
	Moose::Meta::Attribute::_process_accessors(Moose::Meta::Attribute=HASH(0x45a7bd68), "accessor", "child_rel_pack", undef) called at /home/cpansand/.cpan/build/2018051109/Moose-2.2010-0/blib/lib/Class/MOP/Attribute.pm line 446
	Class::MOP::Attribute::install_accessors(Moose::Meta::Attribute=HASH(0x45a7bd68)) called at /home/cpansand/.cpan/build/2018051109/Moose-2.2010-0/blib/lib/Moose/Meta/Attribute.pm line 1014
	Moose::Meta::Attribute::install_accessors(Moose::Meta::Attribute=HASH(0x45a7bd68)) called at /home/cpansand/.cpan/build/2018051109/MooseX-RelClassTypes-0.03-0/blib/lib/MooseX/RelClassTypes.pm line 76
	Class::MOP::Class:::before("LazyParam::Child") called at /home/cpansand/.cpan/build/2018051109/Moose-2.2010-0/blib/lib/Class/MOP/Method/Wrapped.pm line 43
	LazyParam::Parent::_wrapped_BUILDARGS("LazyParam::Child") called at /home/cpansand/.cpan/build/2018051109/Moose-2.2010-0/blib/lib/Class/MOP/Method/Wrapped.pm line 95
	LazyParam::Parent::BUILDARGS("LazyParam::Child") called at /home/cpansand/.cpan/build/2018051109/Moose-2.2010-0/blib/lib/Class/MOP/Method/Wrapped.pm line 44
	LazyParam::Child::_wrapped_BUILDARGS("LazyParam::Child") called at /home/cpansand/.cpan/build/2018051109/Moose-2.2010-0/blib/lib/Class/MOP/Method/Wrapped.pm line 95
	LazyParam::Child::BUILDARGS("LazyParam::Child") called at /home/cpansand/.cpan/build/2018051109/Moose-2.2010-0/blib/lib/Moose/Object.pm line 22
	Moose::Object::new("LazyParam::Child") called at t/03_lazy.t line 248
You are overwriting a accessor (parent_rel_pack) for the parent_rel_pack attribute (defined at t/03_lazy.t line 117) with a new accessor method for the parent_rel_pack attribute (defined at t/03_lazy.t line 117) at /home/cpansand/.cpan/build/2018051109/Moose-2.2010-0/blib/lib/Moose/Meta/Attribute.pm line 1094.
	Moose::Meta::Attribute::_process_accessors(Moose::Meta::Attribute=HASH(0x45a6ecd8), "accessor", "parent_rel_pack", undef) called at /home/cpansand/.cpan/build/2018051109/Moose-2.2010-0/blib/lib/Class/MOP/Attribute.pm line 446
	Class::MOP::Attribute::install_accessors(Moose::Meta::Attribute=HASH(0x45a6ecd8)) called at /home/cpansand/.cpan/build/2018051109/Moose-2.2010-0/blib/lib/Moose/Meta/Attribute.pm line 1014
	Moose::Meta::Attribute::install_accessors(Moose::Meta::Attribute=HASH(0x45a6ecd8)) called at /home/cpansand/.cpan/build/2018051109/MooseX-RelClassTypes-0.03-0/blib/lib/MooseX/RelClassTypes.pm line 76
	Class::MOP::Class:::before("LazyParam::Child") called at /home/cpansand/.cpan/build/2018051109/Moose-2.2010-0/blib/lib/Class/MOP/Method/Wrapped.pm line 43
	LazyParam::Parent::_wrapped_BUILDARGS("LazyParam::Child") called at /home/cpansand/.cpan/build/2018051109/Moose-2.2010-0/blib/lib/Class/MOP/Method/Wrapped.pm line 95
	LazyParam::Parent::BUILDARGS("LazyParam::Child") called at /home/cpansand/.cpan/build/2018051109/Moose-2.2010-0/blib/lib/Class/MOP/Method/Wrapped.pm line 44
	LazyParam::Child::_wrapped_BUILDARGS("LazyParam::Child") called at /home/cpansand/.cpan/build/2018051109/Moose-2.2010-0/blib/lib/Class/MOP/Method/Wrapped.pm line 95
	LazyParam::Child::BUILDARGS("LazyParam::Child") called at /home/cpansand/.cpan/build/2018051109/Moose-2.2010-0/blib/lib/Moose/Object.pm line 22
	Moose::Object::new("LazyParam::Child") called at t/03_lazy.t line 248
You are overwriting a accessor (parent_rel_pack) for the parent_rel_pack attribute (defined at t/03_lazy.t line 177) with a new accessor method for the parent_rel_pack attribute (defined at t/03_lazy.t line 177) at /home/cpansand/.cpan/build/2018051109/Moose-2.2010-0/blib/lib/Moose/Meta/Attribute.pm line 1094.
	Moose::Meta::Attribute::_process_accessors(Moose::Meta::Attribute=HASH(0x451fd3d8), "accessor", "parent_rel_pack", undef) called at /home/cpansand/.cpan/build/2018051109/Moose-2.2010-0/blib/lib/Class/MOP/Attribute.pm line 446
	Class::MOP::Attribute::install_accessors(Moose::Meta::Attribute=HASH(0x451fd3d8)) called at /home/cpansand/.cpan/build/2018051109/Moose-2.2010-0/blib/lib/Moose/Meta/Attribute.pm line 1014
	Moose::Meta::Attribute::install_accessors(Moose::Meta::Attribute=HASH(0x451fd3d8)) called at /home/cpansand/.cpan/build/2018051109/MooseX-RelClassTypes-0.03-0/blib/lib/MooseX/RelClassTypes.pm line 76
	Class::MOP::Class:::before("LazyAll::Child") called at /home/cpansand/.cpan/build/2018051109/Moose-2.2010-0/blib/lib/Class/MOP/Method/Wrapped.pm line 43
	LazyAll::Child::_wrapped_BUILDARGS("LazyAll::Child") called at /home/cpansand/.cpan/build/2018051109/Moose-2.2010-0/blib/lib/Class/MOP/Method/Wrapped.pm line 95
	LazyAll::Child::BUILDARGS("LazyAll::Child") called at /home/cpansand/.cpan/build/2018051109/Moose-2.2010-0/blib/lib/Moose/Object.pm line 22
	Moose::Object::new("LazyAll::Child") called at t/03_lazy.t line 248
You are overwriting a accessor (child_rel_pack) for the child_rel_pack attribute (defined at t/03_lazy.t line 194) with a new accessor method for the child_rel_pack attribute (defined at t/03_lazy.t line 194) at /home/cpansand/.cpan/build/2018051109/Moose-2.2010-0/blib/lib/Moose/Meta/Attribute.pm line 1094.
	Moose::Meta::Attribute::_process_accessors(Moose::Meta::Attribute=HASH(0x45a2f678), "accessor", "child_rel_pack", undef) called at /home/cpansand/.cpan/build/2018051109/Moose-2.2010-0/blib/lib/Class/MOP/Attribute.pm line 446
	Class::MOP::Attribute::install_accessors(Moose::Meta::Attribute=HASH(0x45a2f678)) called at /home/cpansand/.cpan/build/2018051109/Moose-2.2010-0/blib/lib/Moose/Meta/Attribute.pm line 1014
	Moose::Meta::Attribute::install_accessors(Moose::Meta::Attribute=HASH(0x45a2f678)) called at /home/cpansand/.cpan/build/2018051109/MooseX-RelClassTypes-0.03-0/blib/lib/MooseX/RelClassTypes.pm line 76
	Class::MOP::Class:::before("LazyAll::Child") called at /home/cpansand/.cpan/build/2018051109/Moose-2.2010-0/blib/lib/Class/MOP/Method/Wrapped.pm line 43
	LazyAll::Child::_wrapped_BUILDARGS("LazyAll::Child") called at /home/cpansand/.cpan/build/2018051109/Moose-2.2010-0/blib/lib/Class/MOP/Method/Wrapped.pm line 95
	LazyAll::Child::BUILDARGS("LazyAll::Child") called at /home/cpansand/.cpan/build/2018051109/Moose-2.2010-0/blib/lib/Moose/Object.pm line 22
	Moose::Object::new("LazyAll::Child") called at t/03_lazy.t line 248
You are overwriting a accessor (parent_rel_pack) for the parent_rel_pack attribute (defined at t/03_lazy.t line 177) with a new accessor method for the parent_rel_pack attribute (defined at t/03_lazy.t line 177) at /home/cpansand/.cpan/build/2018051109/Moose-2.2010-0/blib/lib/Moose/Meta/Attribute.pm line 1094.
	Moose::Meta::Attribute::_process_accessors(Moose::Meta::Attribute=HASH(0x451fd3d8), "accessor", "parent_rel_pack", undef) called at /home/cpansand/.cpan/build/2018051109/Moose-2.2010-0/blib/lib/Class/MOP/Attribute.pm line 446
	Class::MOP::Attribute::install_accessors(Moose::Meta::Attribute=HASH(0x451fd3d8)) called at /home/cpansand/.cpan/build/2018051109/Moose-2.2010-0/blib/lib/Moose/Meta/Attribute.pm line 1014
	Moose::Meta::Attribute::install_accessors(Moose::Meta::Attribute=HASH(0x451fd3d8)) called at /home/cpansand/.cpan/build/2018051109/MooseX-RelClassTypes-0.03-0/blib/lib/MooseX/RelClassTypes.pm line 76
	Class::MOP::Class:::before("LazyAll::Child") called at /home/cpansand/.cpan/build/2018051109/Moose-2.2010-0/blib/lib/Class/MOP/Method/Wrapped.pm line 43
	LazyAll::Parent::_wrapped_BUILDARGS("LazyAll::Child") called at /home/cpansand/.cpan/build/2018051109/Moose-2.2010-0/blib/lib/Class/MOP/Method/Wrapped.pm line 95
	LazyAll::Parent::BUILDARGS("LazyAll::Child") called at /home/cpansand/.cpan/build/2018051109/Moose-2.2010-0/blib/lib/Class/MOP/Method/Wrapped.pm line 44
	LazyAll::Child::_wrapped_BUILDARGS("LazyAll::Child") called at /home/cpansand/.cpan/build/2018051109/Moose-2.2010-0/blib/lib/Class/MOP/Method/Wrapped.pm line 95
	LazyAll::Child::BUILDARGS("LazyAll::Child") called at /home/cpansand/.cpan/build/2018051109/Moose-2.2010-0/blib/lib/Moose/Object.pm line 22
	Moose::Object::new("LazyAll::Child") called at t/03_lazy.t line 248
You are overwriting a accessor (child_rel_pack) for the child_rel_pack attribute (defined at t/03_lazy.t line 194) with a new accessor method for the child_rel_pack attribute (defined at t/03_lazy.t line 194) at /home/cpansand/.cpan/build/2018051109/Moose-2.2010-0/blib/lib/Moose/Meta/Attribute.pm line 1094.
	Moose::Meta::Attribute::_process_accessors(Moose::Meta::Attribute=HASH(0x45a2f678), "accessor", "child_rel_pack", undef) called at /home/cpansand/.cpan/build/2018051109/Moose-2.2010-0/blib/lib/Class/MOP/Attribute.pm line 446
	Class::MOP::Attribute::install_accessors(Moose::Meta::Attribute=HASH(0x45a2f678)) called at /home/cpansand/.cpan/build/2018051109/Moose-2.2010-0/blib/lib/Moose/Meta/Attribute.pm line 1014
	Moose::Meta::Attribute::install_accessors(Moose::Meta::Attribute=HASH(0x45a2f678)) called at /home/cpansand/.cpan/build/2018051109/MooseX-RelClassTypes-0.03-0/blib/lib/MooseX/RelClassTypes.pm line 76
	Class::MOP::Class:::before("LazyAll::Child") called at /home/cpansand/.cpan/build/2018051109/Moose-2.2010-0/blib/lib/Class/MOP/Method/Wrapped.pm line 43
	LazyAll::Parent::_wrapped_BUILDARGS("LazyAll::Child") called at /home/cpansand/.cpan/build/2018051109/Moose-2.2010-0/blib/lib/Class/MOP/Method/Wrapped.pm line 95
	LazyAll::Parent::BUILDARGS("LazyAll::Child") called at /home/cpansand/.cpan/build/2018051109/Moose-2.2010-0/blib/lib/Class/MOP/Method/Wrapped.pm line 44
	LazyAll::Child::_wrapped_BUILDARGS("LazyAll::Child") called at /home/cpansand/.cpan/build/2018051109/Moose-2.2010-0/blib/lib/Class/MOP/Method/Wrapped.pm line 95
	LazyAll::Child::BUILDARGS("LazyAll::Child") called at /home/cpansand/.cpan/build/2018051109/Moose-2.2010-0/blib/lib/Moose/Object.pm line 22
	Moose::Object::new("LazyAll::Child") called at t/03_lazy.t line 248
t/03_lazy.t .......... ok
All tests successful.
Files=4, Tests=56,  2 wallclock secs ( 0.07 usr  0.01 sys +  1.51 cusr  0.55 csys =  2.14 CPU)
Result: PASS

------------------------------
PREREQUISITES
------------------------------

Prerequisite modules loaded:

requires:

    Module                      Need Have    
    --------------------------- ---- --------
    Carp                        0    1.42    
    Clone                       0    0.39    
    Module::Runtime             0    0.016   
    Moose                       0    2.2010  
    MooseX::Role::Parameterized 0    1.10    

build_requires:

    Module                      Need Have    
    --------------------------- ---- --------
    ExtUtils::MakeMaker         0    7.24    
    Test::More                  0    1.302073

configure_requires:

    Module                      Need Have    
    --------------------------- ---- --------
    ExtUtils::MakeMaker         0    7.24    


------------------------------
ENVIRONMENT AND OTHER CONTEXT
------------------------------

Environment variables:

    PATH = /usr/local/bin:/usr/bin:/bin:/usr/local/sbin:/usr/sbin:/sbin:/home/cpansand/bin/sh:/home/cpansand/bin:/usr/games:/home/cpansand/devel:/home/eserte/src/srezic-misc/scripts
    PERL5LIB = /home/cpansand/.cpan/build/2018051109/MooseX-Role-Parameterized-1.10-0/blib/arch:/home/cpansand/.cpan/build/2018051109/MooseX-Role-Parameterized-1.10-0/blib/lib:/home/cpansand/.cpan/build/2018051109/MooseX-Role-WithOverloading-0.17-0/blib/arch:/home/cpansand/.cpan/build/2018051109/MooseX-Role-WithOverloading-0.17-0/blib/lib:/home/cpansand/.cpan/build/2018051109/aliased-0.34-0/blib/arch:/home/cpansand/.cpan/build/2018051109/aliased-0.34-0/blib/lib:/home/cpansand/.cpan/build/2018051109/Module-Build-Tiny-0.039-0/blib/arch:/home/cpansand/.cpan/build/2018051109/Module-Build-Tiny-0.039-0/blib/lib:/home/cpansand/.cpan/build/2018051109/ExtUtils-InstallPaths-0.012-0/blib/arch:/home/cpansand/.cpan/build/2018051109/ExtUtils-InstallPaths-0.012-0/blib/lib:/home/cpansand/.cpan/build/2018051109/ExtUtils-Helpers-0.026-0/blib/arch:/home/cpansand/.cpan/build/2018051109/ExtUtils-Helpers-0.026-0/blib/lib:/home/cpansand/.cpan/build/2018051109/ExtUtils-Config-0.008-0/blib/arch:/home/cpansand/.cpan/build/2018051109/ExtUtils-Config-0.008-0/blib/lib:/home/cpansand/.cpan/build/2018051109/Moose-2.2010-0/blib/arch:/home/cpansand/.cpan/build/2018051109/Moose-2.2010-0/blib/lib:/home/cpansand/.cpan/build/2018051109/Test-Requires-0.10-0/blib/arch:/home/cpansand/.cpan/build/2018051109/Test-Requires-0.10-0/blib/lib:/home/cpansand/.cpan/build/2018051109/Test-CleanNamespaces-0.22-0/blib/arch:/home/cpansand/.cpan/build/2018051109/Test-CleanNamespaces-0.22-0/blib/lib:/home/cpansand/.cpan/build/2018051109/File-pushd-1.014-0/blib/arch:/home/cpansand/.cpan/build/2018051109/File-pushd-1.014-0/blib/lib:/home/cpansand/.cpan/build/2018051109/Package-DeprecationManager-0.17-0/blib/arch:/home/cpansand/.cpan/build/2018051109/Package-DeprecationManager-0.17-0/blib/lib:/home/cpansand/.cpan/build/2018051109/Test-Warnings-0.026-0/blib/arch:/home/cpansand/.cpan/build/2018051109/Test-Warnings-0.026-0/blib/lib:/home/cpansand/.cpan/build/2018051109/Sub-Name-0.21-0/blib/arch:/home/cpansand/.cpan/build/2018051109/Sub-Name-0.21-0/blib/lib:/home/cpansand/.cpan/build/2018051109/Module-Runtime-Conflicts-0.003-0/blib/arch:/home/cpansand/.cpan/build/2018051109/Module-Runtime-Conflicts-0.003-0/blib/lib:/home/cpansand/.cpan/build/2018051109/Devel-OverloadInfo-0.005-0/blib/arch:/home/cpansand/.cpan/build/2018051109/Devel-OverloadInfo-0.005-0/blib/lib:/home/cpansand/.cpan/build/2018051109/Devel-GlobalDestruction-0.14-0/blib/arch:/home/cpansand/.cpan/build/2018051109/Devel-GlobalDestruction-0.14-0/blib/lib:/home/cpansand/.cpan/build/2018051109/Class-Load-XS-0.10-0/blib/arch:/home/cpansand/.cpan/build/2018051109/Class-Load-XS-0.10-0/blib/lib:/home/cpansand/.cpan/build/2018051109/Class-Load-0.24-0/blib/arch:/home/cpansand/.cpan/build/2018051109/Class-Load-0.24-0/blib/lib:/home/cpansand/.cpan/build/2018051109/Test-Needs-0.002005-0/blib/arch:/home/cpansand/.cpan/build/2018051109/Test-Needs-0.002005-0/blib/lib:/home/cpansand/.cpan/build/2018051109/Test-Fatal-0.014-0/blib/arch:/home/cpansand/.cpan/build/2018051109/Test-Fatal-0.014-0/blib/lib:/home/cpansand/.cpan/build/2018051109/CPAN-Meta-Check-0.014-0/blib/arch:/home/cpansand/.cpan/build/2018051109/CPAN-Meta-Check-0.014-0/blib/lib:/home/cpansand/.cpan/build/2018051109/Test-Deep-1.128-0/blib/arch:/home/cpansand/.cpan/build/2018051109/Test-Deep-1.128-0/blib/lib:/home/cpansand/.cpan/build/2018051109/Clone-0.39-0/blib/arch:/home/cpansand/.cpan/build/2018051109/Clone-0.39-0/blib/lib:/home/cpansand/.cpan/build/2018051109/Log-ger-Manual-0.023.001-0/blib/arch:/home/cpansand/.cpan/build/2018051109/Log-ger-Manual-0.023.001-0/blib/lib:/home/cpansand/.cpan/build/2018051109/Module-Format-0.0.8-0/blib/arch:/home/cpansand/.cpan/build/2018051109/Module-Format-0.0.8-0/blib/lib:/home/cpansand/.cpan/build/2018051109/Test-Count-0.0902-0/blib/arch:/home/cpansand/.cpan/build/2018051109/Test-Count-0.0902-0/blib/lib:/home/cpansand/.cpan/build/2018051109/Parse-RecDescent-1.967015-0/blib/arch:/home/cpansand/.cpan/build/2018051109/Parse-RecDescent-1.967015-0/blib/lib:/home/cpansand/.cpan/build/2018051109/IO-stringy-2.111-0/blib/arch:/home/cpansand/.cpan/build/2018051109/IO-stringy-2.111-0/blib/lib:/home/cpansand/.cpan/build/2018051109/Module-Build-0.4224-0/blib/arch:/home/cpansand/.cpan/build/2018051109/Module-Build-0.4224-0/blib/lib
    PERL5OPT = 
    PERL5_CPANPLUS_IS_RUNNING = 40238
    PERL5_CPAN_IS_RUNNING = 40238
    PERL5_CPAN_IS_RUNNING_IN_RECURSION = 1422,40238
    PERL_BATCH = yes
    PERL_CANARY_STABILITY_NOPROMPT = 1
    PERL_CPAN_REPORTER_CONFIG = /var/tmp/cpansmoker-1023/2018050518/cpanreporter_001_config.ini
    PERL_EXTUTILS_AUTOINSTALL = --defaultdeps
    PERL_USE_UNSAFE_INC = 1
    SHELL = /bin/sh
    TMPDIR = /var/tmp/cpansmoker-1023/2018050518

Perl special variables (and OS-specific diagnostics, for MSWin32):

    $^X = /usr/local/bin/perl5
    $UID/$EUID = 1023 / 1023
    $GID = 1023 1023
    $EGID = 1023 1023

Perl module toolchain versions installed:

    Module              Have      
    ------------------- ----------
    CPAN                2.18      
    CPAN::Meta          2.150010  
    Cwd                 3.67      
    ExtUtils::CBuilder  0.280225  
    ExtUtils::Command   7.24      
    ExtUtils::Install   2.04      
    ExtUtils::MakeMaker 7.24      
    ExtUtils::Manifest  1.70      
    ExtUtils::ParseXS   3.34      
    File::Spec          3.67      
    JSON                n/a       
    JSON::PP            2.27400_02
    Module::Build       0.4224    
    Module::Signature   n/a       
    Parse::CPAN::Meta   2.150010  
    Test::Harness       3.38      
    Test::More          1.302073  
    YAML                n/a       
    YAML::Syck          1.27      
    version             0.9917    


--

Summary of my perl5 (revision 5 version 26 subversion 2) configuration:
   
  Platform:
    osname=freebsd
    osvers=11.1-release-p9
    archname=amd64-freebsd-thread-multi
    uname='freebsd 111amd64-quarterly-job-01 11.1-release-p9 freebsd 11.1-release-p9 amd64 '
    config_args='-sde -Dprefix=/usr/local -Dlibperl=libperl.so.5.26.2 -Darchlib=/usr/local/lib/perl5/5.26/mach -Dprivlib=/usr/local/lib/perl5/5.26 -Dman3dir=/usr/local/lib/perl5/5.26/perl/man/man3 -Dman1dir=/usr/local/lib/perl5/5.26/perl/man/man1 -Dsitearch=/usr/local/lib/perl5/site_perl/mach/5.26 -Dsitelib=/usr/local/lib/perl5/site_perl -Dscriptdir=/usr/local/bin -Dsiteman3dir=/usr/local/lib/perl5/site_perl/man/man3 -Dsiteman1dir=/usr/local/lib/perl5/site_perl/man/man1 -Ui_malloc -Ui_iconv -Uinstallusrbinperl -Dusenm=n -Dcc=cc -Duseshrplib -Dinc_version_list=none -Dcf_by=perl -Dcf_email=perl@FreeBSD.org -Dcf_time=Sat Apr 14 11:27:49 UTC 2018 -Alddlflags=-L/wrkdirs/usr/ports/lang/perl5.26/work/perl-5.26.2 -L/usr/local/lib/perl5/5.26/mach/CORE -lperl -Dshrpldflags=$(LDDLFLAGS:N-L/wrkdirs/usr/ports/lang/perl5.26/work/perl-5.26.2:N-L/usr/local/lib/perl5/5.26/mach/CORE:N-lperl) -Wl,-soname,$(LIBPERL:R) -Doptimize=-O2 -pipe  -fstack-protector -fno-strict-aliasing -Dusedtrace -Ui_gdbm -Dusemultiplicity=y -Duse64bitint -Dusemymalloc=n -Dusethreads=y'
    hint=recommended
    useposix=true
    d_sigaction=define
    useithreads=define
    usemultiplicity=define
    use64bitint=define
    use64bitall=define
    uselongdouble=undef
    usemymalloc=n
    default_inc_excludes_dot=define
    bincompat5005=undef
  Compiler:
    cc='cc'
    ccflags ='-DHAS_FPSETMASK -DHAS_FLOATINGPOINT_H -fno-strict-aliasing -pipe -fstack-protector-strong -I/usr/local/include -D_FORTIFY_SOURCE=2'
    optimize='-O2 -pipe -fstack-protector -fno-strict-aliasing'
    cppflags='-DHAS_FPSETMASK -DHAS_FLOATINGPOINT_H -fno-strict-aliasing -pipe -fstack-protector-strong -I/usr/local/include'
    ccversion=''
    gccversion='4.2.1 Compatible FreeBSD Clang 4.0.0 (tags/RELEASE_400/final 297347)'
    gccosandvers=''
    intsize=4
    longsize=8
    ptrsize=8
    doublesize=8
    byteorder=12345678
    doublekind=3
    d_longlong=define
    longlongsize=8
    d_longdbl=define
    longdblsize=16
    longdblkind=3
    ivtype='long'
    ivsize=8
    nvtype='double'
    nvsize=8
    Off_t='off_t'
    lseeksize=8
    alignbytes=8
    prototype=define
  Linker and Libraries:
    ld='cc'
    ldflags ='-pthread -Wl,-E  -fstack-protector-strong -L/usr/local/lib'
    libpth=/usr/lib /usr/local/lib /usr/bin/../lib/clang/4.0.0/lib /usr/lib
    libs=-lpthread -lm -lcrypt -lutil
    perllibs=-lpthread -lm -lcrypt -lutil
    libc=
    so=so
    useshrplib=true
    libperl=libperl.so.5.26.2
    gnulibc_version=''
  Dynamic Linking:
    dlsrc=dl_dlopen.xs
    dlext=so
    d_dlsymun=undef
    ccdlflags='  -Wl,-R/usr/local/lib/perl5/5.26/mach/CORE'
    cccdlflags='-DPIC -fPIC'
    lddlflags='-shared  -L/usr/local/lib/perl5/5.26/mach/CORE -lperl -L/usr/local/lib -fstack-protector-strong'


Characteristics of this binary (from libperl): 
  Compile-time options:
    HAS_TIMES
    MULTIPLICITY
    PERLIO_LAYERS
    PERL_COPY_ON_WRITE
    PERL_DONT_CREATE_GVSV
    PERL_IMPLICIT_CONTEXT
    PERL_MALLOC_WRAP
    PERL_OP_PARENT
    PERL_PRESERVE_IVUV
    USE_64_BIT_ALL
    USE_64_BIT_INT
    USE_ITHREADS
    USE_LARGE_FILES
    USE_LOCALE
    USE_LOCALE_COLLATE
    USE_LOCALE_CTYPE
    USE_LOCALE_NUMERIC
    USE_LOCALE_TIME
    USE_PERLIO
    USE_PERL_ATOF
    USE_REENTRANT_API
  Built under freebsd
  %ENV:
    PERL5LIB="/home/cpansand/.cpan/build/2018051109/MooseX-Role-Parameterized-1.10-0/blib/arch:/home/cpansand/.cpan/build/2018051109/MooseX-Role-Parameterized-1.10-0/blib/lib:/home/cpansand/.cpan/build/2018051109/MooseX-Role-WithOverloading-0.17-0/blib/arch:/home/cpansand/.cpan/build/2018051109/MooseX-Role-WithOverloading-0.17-0/blib/lib:/home/cpansand/.cpan/build/2018051109/aliased-0.34-0/blib/arch:/home/cpansand/.cpan/build/2018051109/aliased-0.34-0/blib/lib:/home/cpansand/.cpan/build/2018051109/Module-Build-Tiny-0.039-0/blib/arch:/home/cpansand/.cpan/build/2018051109/Module-Build-Tiny-0.039-0/blib/lib:/home/cpansand/.cpan/build/2018051109/ExtUtils-InstallPaths-0.012-0/blib/arch:/home/cpansand/.cpan/build/2018051109/ExtUtils-InstallPaths-0.012-0/blib/lib:/home/cpansand/.cpan/build/2018051109/ExtUtils-Helpers-0.026-0/blib/arch:/home/cpansand/.cpan/build/2018051109/ExtUtils-Helpers-0.026-0/blib/lib:/home/cpansand/.cpan/build/2018051109/ExtUtils-Config-0.008-0/blib/arch:/home/cpansand/.cpan/build/2018051109/ExtUtils-Config-0.008-0/blib/lib:/home/cpansand/.cpan/build/2018051109/Moose-2.2010-0/blib/arch:/home/cpansand/.cpan/build/2018051109/Moose-2.2010-0/blib/lib:/home/cpansand/.cpan/build/2018051109/Test-Requires-0.10-0/blib/arch:/home/cpansand/.cpan/build/2018051109/Test-Requires-0.10-0/blib/lib:/home/cpansand/.cpan/build/2018051109/Test-CleanNamespaces-0.22-0/blib/arch:/home/cpansand/.cpan/build/2018051109/Test-CleanNamespaces-0.22-0/blib/lib:/home/cpansand/.cpan/build/2018051109/File-pushd-1.014-0/blib/arch:/home/cpansand/.cpan/build/2018051109/File-pushd-1.014-0/blib/lib:/home/cpansand/.cpan/build/2018051109/Package-DeprecationManager-0.17-0/blib/arch:/home/cpansand/.cpan/build/2018051109/Package-DeprecationManager-0.17-0/blib/lib:/home/cpansand/.cpan/build/2018051109/Test-Warnings-0.026-0/blib/arch:/home/cpansand/.cpan/build/2018051109/Test-Warnings-0.026-0/blib/lib:/home/cpansand/.cpan/build/2018051109/Sub-Name-0.21-0/blib/arch:/home/cpansand/.cpan/build/2018051109/Sub-Name-0.21-0/blib/lib:/home/cpansand/.cpan/build/2018051109/Module-Runtime-Conflicts-0.003-0/blib/arch:/home/cpansand/.cpan/build/2018051109/Module-Runtime-Conflicts-0.003-0/blib/lib:/home/cpansand/.cpan/build/2018051109/Devel-OverloadInfo-0.005-0/blib/arch:/home/cpansand/.cpan/build/2018051109/Devel-OverloadInfo-0.005-0/blib/lib:/home/cpansand/.cpan/build/2018051109/Devel-GlobalDestruction-0.14-0/blib/arch:/home/cpansand/.cpan/build/2018051109/Devel-GlobalDestruction-0.14-0/blib/lib:/home/cpansand/.cpan/build/2018051109/Class-Load-XS-0.10-0/blib/arch:/home/cpansand/.cpan/build/2018051109/Class-Load-XS-0.10-0/blib/lib:/home/cpansand/.cpan/build/2018051109/Class-Load-0.24-0/blib/arch:/home/cpansand/.cpan/build/2018051109/Class-Load-0.24-0/blib/lib:/home/cpansand/.cpan/build/2018051109/Test-Needs-0.002005-0/blib/arch:/home/cpansand/.cpan/build/2018051109/Test-Needs-0.002005-0/blib/lib:/home/cpansand/.cpan/build/2018051109/Test-Fatal-0.014-0/blib/arch:/home/cpansand/.cpan/build/2018051109/Test-Fatal-0.014-0/blib/lib:/home/cpansand/.cpan/build/2018051109/CPAN-Meta-Check-0.014-0/blib/arch:/home/cpansand/.cpan/build/2018051109/CPAN-Meta-Check-0.014-0/blib/lib:/home/cpansand/.cpan/build/2018051109/Test-Deep-1.128-0/blib/arch:/home/cpansand/.cpan/build/2018051109/Test-Deep-1.128-0/blib/lib:/home/cpansand/.cpan/build/2018051109/Clone-0.39-0/blib/arch:/home/cpansand/.cpan/build/2018051109/Clone-0.39-0/blib/lib:/home/cpansand/.cpan/build/2018051109/Log-ger-Manual-0.023.001-0/blib/arch:/home/cpansand/.cpan/build/2018051109/Log-ger-Manual-0.023.001-0/blib/lib:/home/cpansand/.cpan/build/2018051109/Module-Format-0.0.8-0/blib/arch:/home/cpansand/.cpan/build/2018051109/Module-Format-0.0.8-0/blib/lib:/home/cpansand/.cpan/build/2018051109/Test-Count-0.0902-0/blib/arch:/home/cpansand/.cpan/build/2018051109/Test-Count-0.0902-0/blib/lib:/home/cpansand/.cpan/build/2018051109/Parse-RecDescent-1.967015-0/blib/arch:/home/cpansand/.cpan/build/2018051109/Parse-RecDescent-1.967015-0/blib/lib:/home/cpansand/.cpan/build/2018051109/IO-stringy-2.111-0/blib/arch:/home/cpansand/.cpan/build/2018051109/IO-stringy-2.111-0/blib/lib:/home/cpansand/.cpan/build/2018051109/Module-Build-0.4224-0/blib/arch:/home/cpansand/.cpan/build/2018051109/Module-Build-0.4224-0/blib/lib"
    PERL5OPT=""
    PERL5_CPANPLUS_IS_RUNNING="40238"
    PERL5_CPAN_IS_RUNNING="40238"
    PERL5_CPAN_IS_RUNNING_IN_RECURSION="1422,40238"
    PERL_BATCH="yes"
    PERL_CANARY_STABILITY_NOPROMPT="1"
    PERL_CPAN_REPORTER_CONFIG="/var/tmp/cpansmoker-1023/2018050518/cpanreporter_001_config.ini"
    PERL_EXTUTILS_AUTOINSTALL="--defaultdeps"
    PERL_USE_UNSAFE_INC="1"
  @INC:
    /home/cpansand/.cpan/build/2018051109/MooseX-Role-Parameterized-1.10-0/blib/arch
    /home/cpansand/.cpan/build/2018051109/MooseX-Role-Parameterized-1.10-0/blib/lib
    /home/cpansand/.cpan/build/2018051109/MooseX-Role-WithOverloading-0.17-0/blib/arch
    /home/cpansand/.cpan/build/2018051109/MooseX-Role-WithOverloading-0.17-0/blib/lib
    /home/cpansand/.cpan/build/2018051109/aliased-0.34-0/blib/arch
    /home/cpansand/.cpan/build/2018051109/aliased-0.34-0/blib/lib
    /home/cpansand/.cpan/build/2018051109/Module-Build-Tiny-0.039-0/blib/arch
    /home/cpansand/.cpan/build/2018051109/Module-Build-Tiny-0.039-0/blib/lib
    /home/cpansand/.cpan/build/2018051109/ExtUtils-InstallPaths-0.012-0/blib/arch
    /home/cpansand/.cpan/build/2018051109/ExtUtils-InstallPaths-0.012-0/blib/lib
    /home/cpansand/.cpan/build/2018051109/ExtUtils-Helpers-0.026-0/blib/arch
    /home/cpansand/.cpan/build/2018051109/ExtUtils-Helpers-0.026-0/blib/lib
    /home/cpansand/.cpan/build/2018051109/ExtUtils-Config-0.008-0/blib/arch
    /home/cpansand/.cpan/build/2018051109/ExtUtils-Config-0.008-0/blib/lib
    /home/cpansand/.cpan/build/2018051109/Moose-2.2010-0/blib/arch
    /home/cpansand/.cpan/build/2018051109/Moose-2.2010-0/blib/lib
    /home/cpansand/.cpan/build/2018051109/Test-Requires-0.10-0/blib/arch
    /home/cpansand/.cpan/build/2018051109/Test-Requires-0.10-0/blib/lib
    /home/cpansand/.cpan/build/2018051109/Test-CleanNamespaces-0.22-0/blib/arch
    /home/cpansand/.cpan/build/2018051109/Test-CleanNamespaces-0.22-0/blib/lib
    /home/cpansand/.cpan/build/2018051109/File-pushd-1.014-0/blib/arch
    /home/cpansand/.cpan/build/2018051109/File-pushd-1.014-0/blib/lib
    /home/cpansand/.cpan/build/2018051109/Package-DeprecationManager-0.17-0/blib/arch
    /home/cpansand/.cpan/build/2018051109/Package-DeprecationManager-0.17-0/blib/lib
    /home/cpansand/.cpan/build/2018051109/Test-Warnings-0.026-0/blib/arch
    /home/cpansand/.cpan/build/2018051109/Test-Warnings-0.026-0/blib/lib
    /home/cpansand/.cpan/build/2018051109/Sub-Name-0.21-0/blib/arch
    /home/cpansand/.cpan/build/2018051109/Sub-Name-0.21-0/blib/lib
    /home/cpansand/.cpan/build/2018051109/Module-Runtime-Conflicts-0.003-0/blib/arch
    /home/cpansand/.cpan/build/2018051109/Module-Runtime-Conflicts-0.003-0/blib/lib
    /home/cpansand/.cpan/build/2018051109/Devel-OverloadInfo-0.005-0/blib/arch
    /home/cpansand/.cpan/build/2018051109/Devel-OverloadInfo-0.005-0/blib/lib
    /home/cpansand/.cpan/build/2018051109/Devel-GlobalDestruction-0.14-0/blib/arch
    /home/cpansand/.cpan/build/2018051109/Devel-GlobalDestruction-0.14-0/blib/lib
    /home/cpansand/.cpan/build/2018051109/Class-Load-XS-0.10-0/blib/arch
    /home/cpansand/.cpan/build/2018051109/Class-Load-XS-0.10-0/blib/lib
    /home/cpansand/.cpan/build/2018051109/Class-Load-0.24-0/blib/arch
    /home/cpansand/.cpan/build/2018051109/Class-Load-0.24-0/blib/lib
    /home/cpansand/.cpan/build/2018051109/Test-Needs-0.002005-0/blib/arch
    /home/cpansand/.cpan/build/2018051109/Test-Needs-0.002005-0/blib/lib
    /home/cpansand/.cpan/build/2018051109/Test-Fatal-0.014-0/blib/arch
    /home/cpansand/.cpan/build/2018051109/Test-Fatal-0.014-0/blib/lib
    /home/cpansand/.cpan/build/2018051109/CPAN-Meta-Check-0.014-0/blib/arch
    /home/cpansand/.cpan/build/2018051109/CPAN-Meta-Check-0.014-0/blib/lib
    /home/cpansand/.cpan/build/2018051109/Test-Deep-1.128-0/blib/arch
    /home/cpansand/.cpan/build/2018051109/Test-Deep-1.128-0/blib/lib
    /home/cpansand/.cpan/build/2018051109/Clone-0.39-0/blib/arch
    /home/cpansand/.cpan/build/2018051109/Clone-0.39-0/blib/lib
    /home/cpansand/.cpan/build/2018051109/Log-ger-Manual-0.023.001-0/blib/arch
    /home/cpansand/.cpan/build/2018051109/Log-ger-Manual-0.023.001-0/blib/lib
    /home/cpansand/.cpan/build/2018051109/Module-Format-0.0.8-0/blib/arch
    /home/cpansand/.cpan/build/2018051109/Module-Format-0.0.8-0/blib/lib
    /home/cpansand/.cpan/build/2018051109/Test-Count-0.0902-0/blib/arch
    /home/cpansand/.cpan/build/2018051109/Test-Count-0.0902-0/blib/lib
    /home/cpansand/.cpan/build/2018051109/Parse-RecDescent-1.967015-0/blib/arch
    /home/cpansand/.cpan/build/2018051109/Parse-RecDescent-1.967015-0/blib/lib
    /home/cpansand/.cpan/build/2018051109/IO-stringy-2.111-0/blib/arch
    /home/cpansand/.cpan/build/2018051109/IO-stringy-2.111-0/blib/lib
    /home/cpansand/.cpan/build/2018051109/Module-Build-0.4224-0/blib/arch
    /home/cpansand/.cpan/build/2018051109/Module-Build-0.4224-0/blib/lib
    /usr/local/lib/perl5/site_perl/mach/5.26
    /usr/local/lib/perl5/site_perl
    /usr/local/lib/perl5/5.26/mach
    /usr/local/lib/perl5/5.26
    .