Catalyst-View-HTML-Zoom v0.003 Perl 5 v5.38.2 x86_64-linux

Status
Pass
From
Andreas J. König (ANDK)
Dist
Catalyst-View-HTML-Zoom v0.003
Platform
Perl 5 v5.38.2 x86_64-linux
Date
2023-12-06 23:09:52
ID
8fc4228c-948c-11ee-b48b-cf0df32b7e3c
This distribution has been tested as part of the CPAN Testers
project, supporting the Perl programming language.  See
http://wiki.cpantesters.org/ for more information or email
questions to cpan-testers-discuss@perl.org


--
Dear Oliver Charles,

This is a computer-generated report for Catalyst-View-HTML-Zoom-0.003
on perl 5.38.2, created by CPAN-Reporter-1.2019.

Thank you for uploading your work to CPAN.  Congratulations!
All tests were successful.

Sections of this report:

    * Tester comments
    * Program output
    * Prerequisites
    * Environment and other context

------------------------------
TESTER COMMENTS
------------------------------

Additional comments from tester:

this report is from an automated smoke testing program
and was not reviewed by a human for accuracy

------------------------------
PROGRAM OUTPUT
------------------------------

Output from '/usr/bin/make test':

PERL_DL_NONLAZY=1 "/tmp/basesmoker-reloperl-8hMG/bin/perl" "-MExtUtils::Command::MM" "-MTest::Harness" "-e" "undef *Test::Harness::Switches; test_harness(0, 'blib/lib', 'blib/arch')" t/*.t
t/00-load.t ............... ok
t/author-pod-coverage.t ... skipped: these tests are for testing by the author
t/author-pod.t ............ skipped: these tests are for testing by the author
Class::MOP::load_class is deprecated at /home/sand/src/perl/repoperls/installed-perls/host/k93focal/v5.38.2/b254/lib/site_perl/5.38.2/x86_64-linux/Class/MOP.pm line 69, <ARGV> line 1.
	Class::MOP::load_class("TestAppAltRoot::View::HTML::Root") called at /tmp/loop_over_bdir-2052-LtJjV2/Catalyst-View-HTML-Zoom-0.003-0/blib/lib/Catalyst/View/HTML/Zoom.pm line 138
	Catalyst::View::HTML::Zoom::_zoomer_class_from_context(TestAppAltRoot::View::HTML=HASH(0x55aa44c4df38), TestAppAltRoot=HASH(0x55aa44cadc50)) called at /tmp/loop_over_bdir-2052-LtJjV2/Catalyst-View-HTML-Zoom-0.003-0/blib/lib/Catalyst/View/HTML/Zoom.pm line 90
	Catalyst::View::HTML::Zoom::_build_renderer_from_zoomer_class(TestAppAltRoot::View::HTML=HASH(0x55aa44c4df38), TestAppAltRoot=HASH(0x55aa44cadc50)) called at /tmp/loop_over_bdir-2052-LtJjV2/Catalyst-View-HTML-Zoom-0.003-0/blib/lib/Catalyst/View/HTML/Zoom.pm line 76
	Catalyst::View::HTML::Zoom::_build_renderer_from(TestAppAltRoot::View::HTML=HASH(0x55aa44c4df38), TestAppAltRoot=HASH(0x55aa44cadc50), undef) called at /tmp/loop_over_bdir-2052-LtJjV2/Catalyst-View-HTML-Zoom-0.003-0/blib/lib/Catalyst/View/HTML/Zoom.pm line 67
	Catalyst::View::HTML::Zoom::render(TestAppAltRoot::View::HTML=HASH(0x55aa44c4df38), TestAppAltRoot=HASH(0x55aa44cadc50), "/main") called at /tmp/loop_over_bdir-2052-LtJjV2/Catalyst-View-HTML-Zoom-0.003-0/blib/lib/Catalyst/View/HTML/Zoom.pm line 41
	Catalyst::View::HTML::Zoom::process(TestAppAltRoot::View::HTML=HASH(0x55aa44c4df38), TestAppAltRoot=HASH(0x55aa44cadc50)) called at /home/sand/src/perl/repoperls/installed-perls/host/k93focal/v5.38.2/b254/lib/site_perl/5.38.2/Catalyst/Action.pm line 374
	Catalyst::Action::execute(Catalyst::Action=HASH(0x55aa44e08000), TestAppAltRoot::View::HTML=HASH(0x55aa44c4df38), TestAppAltRoot=HASH(0x55aa44cadc50)) called at /home/sand/src/perl/repoperls/installed-perls/host/k93focal/v5.38.2/b254/lib/site_perl/5.38.2/Catalyst.pm line 2067
	eval {...} called at /home/sand/src/perl/repoperls/installed-perls/host/k93focal/v5.38.2/b254/lib/site_perl/5.38.2/Catalyst.pm line 2067
	Catalyst::execute(TestAppAltRoot=HASH(0x55aa44cadc50), TestAppAltRoot::View::HTML=HASH(0x55aa44c4df38), Catalyst::Action=HASH(0x55aa44e08000)) called at /home/sand/src/perl/repoperls/installed-perls/host/k93focal/v5.38.2/b254/lib/site_perl/5.38.2/Catalyst/Action.pm line 366
	Catalyst::Action::dispatch(Catalyst::Action=HASH(0x55aa44e08000), TestAppAltRoot=HASH(0x55aa44cadc50)) called at /home/sand/src/perl/repoperls/installed-perls/host/k93focal/v5.38.2/b254/lib/site_perl/5.38.2/Catalyst/Dispatcher.pm line 261
	Catalyst::Dispatcher::_do_forward(Catalyst::Dispatcher=HASH(0x55aa43b404f0), "forward", TestAppAltRoot=HASH(0x55aa44cadc50), TestAppAltRoot::View::HTML=HASH(0x55aa44c4df38)) called at /home/sand/src/perl/repoperls/installed-perls/host/k93focal/v5.38.2/b254/lib/site_perl/5.38.2/Catalyst/Dispatcher.pm line 241
	Catalyst::Dispatcher::forward(Catalyst::Dispatcher=HASH(0x55aa43b404f0), TestAppAltRoot=HASH(0x55aa44cadc50), TestAppAltRoot::View::HTML=HASH(0x55aa44c4df38)) called at /home/sand/src/perl/repoperls/installed-perls/host/k93focal/v5.38.2/b254/lib/site_perl/5.38.2/Catalyst.pm line 489
	Catalyst::forward(TestAppAltRoot=HASH(0x55aa44cadc50), TestAppAltRoot::View::HTML=HASH(0x55aa44c4df38)) called at /home/sand/src/perl/repoperls/installed-perls/host/k93focal/v5.38.2/b254/lib/site_perl/5.38.2/Catalyst/Action/RenderView.pm line 57
	Catalyst::Action::RenderView::execute(Catalyst::Action::RenderView=HASH(0x55aa44cad7a0), TestAppAltRoot::Controller::Root=HASH(0x55aa44c4dfc8), TestAppAltRoot=HASH(0x55aa44cadc50)) called at /home/sand/src/perl/repoperls/installed-perls/host/k93focal/v5.38.2/b254/lib/site_perl/5.38.2/Catalyst.pm line 2067
	eval {...} called at /home/sand/src/perl/repoperls/installed-perls/host/k93focal/v5.38.2/b254/lib/site_perl/5.38.2/Catalyst.pm line 2067
	Catalyst::execute(TestAppAltRoot=HASH(0x55aa44cadc50), "TestAppAltRoot::Controller::Root", Catalyst::Action::RenderView=HASH(0x55aa44cad7a0)) called at /home/sand/src/perl/repoperls/installed-perls/host/k93focal/v5.38.2/b254/lib/site_perl/5.38.2/Catalyst/Action.pm line 368
	Catalyst::Action::dispatch(Catalyst::Action::RenderView=HASH(0x55aa44cad7a0), TestAppAltRoot=HASH(0x55aa44cadc50)) called at /home/sand/src/perl/repoperls/installed-perls/host/k93focal/v5.38.2/b254/lib/site_perl/5.38.2/Catalyst/Controller.pm line 188
	Catalyst::Controller::_END(TestAppAltRoot::Controller::Root=HASH(0x55aa44c4dfc8), TestAppAltRoot=HASH(0x55aa44cadc50)) called at /home/sand/src/perl/repoperls/installed-perls/host/k93focal/v5.38.2/b254/lib/site_perl/5.38.2/Catalyst/Action.pm line 374
	Catalyst::Action::execute(Catalyst::Action=HASH(0x55aa44cab4a8), TestAppAltRoot::Controller::Root=HASH(0x55aa44c4dfc8), TestAppAltRoot=HASH(0x55aa44cadc50)) called at /home/sand/src/perl/repoperls/installed-perls/host/k93focal/v5.38.2/b254/lib/site_perl/5.38.2/Catalyst.pm line 2067
	eval {...} called at /home/sand/src/perl/repoperls/installed-perls/host/k93focal/v5.38.2/b254/lib/site_perl/5.38.2/Catalyst.pm line 2067
	Catalyst::execute(TestAppAltRoot=HASH(0x55aa44cadc50), "TestAppAltRoot::Controller::Root", Catalyst::Action=HASH(0x55aa44cab4a8)) called at /home/sand/src/perl/repoperls/installed-perls/host/k93focal/v5.38.2/b254/lib/site_perl/5.38.2/Catalyst/Action.pm line 368
	Catalyst::Action::dispatch(Catalyst::Action=HASH(0x55aa44cab4a8), TestAppAltRoot=HASH(0x55aa44cadc50)) called at /home/sand/src/perl/repoperls/installed-perls/host/k93focal/v5.38.2/b254/lib/site_perl/5.38.2/Catalyst/Dispatcher.pm line 261
	Catalyst::Dispatcher::_do_forward(Catalyst::Dispatcher=HASH(0x55aa43b404f0), "forward", TestAppAltRoot=HASH(0x55aa44cadc50), "_END") called at /home/sand/src/perl/repoperls/installed-perls/host/k93focal/v5.38.2/b254/lib/site_perl/5.38.2/Catalyst/Dispatcher.pm line 241
	Catalyst::Dispatcher::forward(Catalyst::Dispatcher=HASH(0x55aa43b404f0), TestAppAltRoot=HASH(0x55aa44cadc50), "_END") called at /home/sand/src/perl/repoperls/installed-perls/host/k93focal/v5.38.2/b254/lib/site_perl/5.38.2/Catalyst.pm line 489
	Catalyst::forward(TestAppAltRoot=HASH(0x55aa44cadc50), "_END") called at /home/sand/src/perl/repoperls/installed-perls/host/k93focal/v5.38.2/b254/lib/site_perl/5.38.2/Catalyst/Controller.pm line 137
	Catalyst::Controller::_DISPATCH(TestAppAltRoot::Controller::Root=HASH(0x55aa44c4dfc8), TestAppAltRoot=HASH(0x55aa44cadc50)) called at /home/sand/src/perl/repoperls/installed-perls/host/k93focal/v5.38.2/b254/lib/site_perl/5.38.2/Catalyst/Action.pm line 374
	Catalyst::Action::execute(Catalyst::Action=HASH(0x55aa44ca4018), TestAppAltRoot::Controller::Root=HASH(0x55aa44c4dfc8), TestAppAltRoot=HASH(0x55aa44cadc50)) called at /home/sand/src/perl/repoperls/installed-perls/host/k93focal/v5.38.2/b254/lib/site_perl/5.38.2/Catalyst.pm line 2067
	eval {...} called at /home/sand/src/perl/repoperls/installed-perls/host/k93focal/v5.38.2/b254/lib/site_perl/5.38.2/Catalyst.pm line 2067
	Catalyst::execute(TestAppAltRoot=HASH(0x55aa44cadc50), "TestAppAltRoot::Controller::Root", Catalyst::Action=HASH(0x55aa44ca4018)) called at /home/sand/src/perl/repoperls/installed-perls/host/k93focal/v5.38.2/b254/lib/site_perl/5.38.2/Catalyst/Action.pm line 368
	Catalyst::Action::dispatch(Catalyst::Action=HASH(0x55aa44ca4018), TestAppAltRoot=HASH(0x55aa44cadc50)) called at /home/sand/src/perl/repoperls/installed-perls/host/k93focal/v5.38.2/b254/lib/site_perl/5.38.2/Catalyst/Dispatcher.pm line 261
	Catalyst::Dispatcher::_do_forward(Catalyst::Dispatcher=HASH(0x55aa43b404f0), "forward", TestAppAltRoot=HASH(0x55aa44cadc50), "//_DISPATCH") called at /home/sand/src/perl/repoperls/installed-perls/host/k93focal/v5.38.2/b254/lib/site_perl/5.38.2/Catalyst/Dispatcher.pm line 241
	Catalyst::Dispatcher::forward(Catalyst::Dispatcher=HASH(0x55aa43b404f0), TestAppAltRoot=HASH(0x55aa44cadc50), "//_DISPATCH") called at /home/sand/src/perl/repoperls/installed-perls/host/k93focal/v5.38.2/b254/lib/site_perl/5.38.2/Catalyst.pm line 489
	Catalyst::forward(TestAppAltRoot=HASH(0x55aa44cadc50), "//_DISPATCH") called at /home/sand/src/perl/repoperls/installed-perls/host/k93focal/v5.38.2/b254/lib/site_perl/5.38.2/Catalyst/Dispatcher.pm line 107
	Catalyst::Dispatcher::dispatch(Catalyst::Dispatcher=HASH(0x55aa43b404f0), TestAppAltRoot=HASH(0x55aa44cadc50)) called at /home/sand/src/perl/repoperls/installed-perls/host/k93focal/v5.38.2/b254/lib/site_perl/5.38.2/Catalyst.pm line 2013
	Catalyst::dispatch(TestAppAltRoot=HASH(0x55aa44cadc50)) called at /home/sand/src/perl/repoperls/installed-perls/host/k93focal/v5.38.2/b254/lib/site_perl/5.38.2/x86_64-linux/Class/MOP/Method/Wrapped.pm line 56
	TestAppAltRoot::_wrapped_dispatch(TestAppAltRoot=HASH(0x55aa44cadc50)) called at /home/sand/src/perl/repoperls/installed-perls/host/k93focal/v5.38.2/b254/lib/site_perl/5.38.2/x86_64-linux/Class/MOP/Method/Wrapped.pm line 97
	TestAppAltRoot::dispatch(TestAppAltRoot=HASH(0x55aa44cadc50)) called at /home/sand/src/perl/repoperls/installed-perls/host/k93focal/v5.38.2/b254/lib/site_perl/5.38.2/Catalyst.pm line 2419
	Catalyst::try {...} () called at /home/sand/src/perl/repoperls/installed-perls/host/k93focal/v5.38.2/b254/lib/site_perl/5.38.2/Try/Tiny.pm line 102
	eval {...} called at /home/sand/src/perl/repoperls/installed-perls/host/k93focal/v5.38.2/b254/lib/site_perl/5.38.2/Try/Tiny.pm line 93
	Try::Tiny::try(CODE(0x55aa44df7000), Try::Tiny::Catch=REF(0x55aa44df6e68)) called at /home/sand/src/perl/repoperls/installed-perls/host/k93focal/v5.38.2/b254/lib/site_perl/5.38.2/Catalyst.pm line 2428
	Catalyst::handle_request("TestAppAltRoot", "env", HASH(0x55aa422addf8), "response_cb", CODE(0x55aa44df6ec8)) called at /home/sand/src/perl/repoperls/installed-perls/host/k93focal/v5.38.2/b254/lib/site_perl/5.38.2/Catalyst/Engine.pm line 807
	Catalyst::Engine::__ANON__(CODE(0x55aa44df6ec8)) called at /home/sand/src/perl/repoperls/installed-perls/host/k93focal/v5.38.2/b254/lib/site_perl/5.38.2/Plack/Middleware/HTTPExceptions.pm line 32
	Plack::Middleware::HTTPExceptions::try {...} () called at /home/sand/src/perl/repoperls/installed-perls/host/k93focal/v5.38.2/b254/lib/site_perl/5.38.2/Try/Tiny.pm line 102
	eval {...} called at /home/sand/src/perl/repoperls/installed-perls/host/k93focal/v5.38.2/b254/lib/site_perl/5.38.2/Try/Tiny.pm line 93
	Try::Tiny::try(CODE(0x55aa44db62d8), Try::Tiny::Catch=REF(0x55aa422c8138)) called at /home/sand/src/perl/repoperls/installed-perls/host/k93focal/v5.38.2/b254/lib/site_perl/5.38.2/Plack/Middleware/HTTPExceptions.pm line 41
	Plack::Middleware::HTTPExceptions::__ANON__(CODE(0x55aa44c50158)) called at /home/sand/src/perl/repoperls/installed-perls/host/k93focal/v5.38.2/b254/lib/site_perl/5.38.2/Plack/Util.pm line 339
	Plack::Util::__ANON__(CODE(0x55aa44c4de90)) called at /home/sand/src/perl/repoperls/installed-perls/host/k93focal/v5.38.2/b254/lib/site_perl/5.38.2/Plack/Util.pm line 339
	Plack::Util::__ANON__(CODE(0x55aa44b7ffe8)) called at /home/sand/src/perl/repoperls/installed-perls/host/k93focal/v5.38.2/b254/lib/site_perl/5.38.2/Plack/Util.pm line 339
	Plack::Util::__ANON__(CODE(0x55aa44b9d538)) called at /home/sand/src/perl/repoperls/installed-perls/host/k93focal/v5.38.2/b254/lib/site_perl/5.38.2/HTTP/Message/PSGI.pm line 100
	HTTP::Message::PSGI::res_from_psgi(CODE(0x55aa44da7e48)) called at /home/sand/src/perl/repoperls/installed-perls/host/k93focal/v5.38.2/b254/lib/site_perl/5.38.2/HTTP/Message/PSGI.pm line 157
	HTTP::Response::from_psgi("HTTP::Response", CODE(0x55aa44da7e48)) called at /home/sand/src/perl/repoperls/installed-perls/host/k93focal/v5.38.2/b254/lib/site_perl/5.38.2/Plack/Test/MockHTTP.pm line 24
	Plack::Test::MockHTTP::try {...} () called at /home/sand/src/perl/repoperls/installed-perls/host/k93focal/v5.38.2/b254/lib/site_perl/5.38.2/Try/Tiny.pm line 100
	eval {...} called at /home/sand/src/perl/repoperls/installed-perls/host/k93focal/v5.38.2/b254/lib/site_perl/5.38.2/Try/Tiny.pm line 93
	Try::Tiny::try(CODE(0x55aa44d6dba0), Try::Tiny::Catch=REF(0x55aa44d7dd80)) called at /home/sand/src/perl/repoperls/installed-perls/host/k93focal/v5.38.2/b254/lib/site_perl/5.38.2/Plack/Test/MockHTTP.pm line 27
	Plack::Test::MockHTTP::request(Plack::Test::MockHTTP=HASH(0x55aa422c7d60), HTTP::Request=HASH(0x55aa422c7928)) called at /home/sand/src/perl/repoperls/installed-perls/host/k93focal/v5.38.2/b254/lib/site_perl/5.38.2/Plack/Test.pm line 38
	Plack::Test::__ANON__(HTTP::Request=HASH(0x55aa422c7928)) called at /home/sand/src/perl/repoperls/installed-perls/host/k93focal/v5.38.2/b254/lib/site_perl/5.38.2/Catalyst/Test.pm line 290
	Catalyst::Test::__ANON__(CODE(0x55aa422c7ce8)) called at /home/sand/src/perl/repoperls/installed-perls/host/k93focal/v5.38.2/b254/lib/site_perl/5.38.2/Plack/Test.pm line 38
	Plack::Test::test_psgi("mangle_response", CODE(0x55aa43b28770), "app", CODE(0x55aa422a8e98), "app", CODE(0x55aa44cabe38), "client", CODE(0x55aa422c7b80)) called at /home/sand/src/perl/repoperls/installed-perls/host/k93focal/v5.38.2/b254/lib/site_perl/5.38.2/Catalyst/Test.pm line 293
	Catalyst::Test::_request(HASH(0x55aa44d6dd08), "/") called at /home/sand/src/perl/repoperls/installed-perls/host/k93focal/v5.38.2/b254/lib/site_perl/5.38.2/Catalyst/Test.pm line 336
	Catalyst::Test::_local_request("TestAppAltRoot", "/") called at /home/sand/src/perl/repoperls/installed-perls/host/k93focal/v5.38.2/b254/lib/site_perl/5.38.2/Catalyst/Test.pm line 32
	Catalyst::Test::__ANON__("/") called at /home/sand/src/perl/repoperls/installed-perls/host/k93focal/v5.38.2/b254/lib/site_perl/5.38.2/Catalyst/Test.pm line 72
	Catalyst::Test::__ANON__("/") called at t/live-test-alt-root.t line 14
t/live-test-alt-root.t .... ok
Class::MOP::load_class is deprecated at /home/sand/src/perl/repoperls/installed-perls/host/k93focal/v5.38.2/b254/lib/site_perl/5.38.2/x86_64-linux/Class/MOP.pm line 69, <ARGV> line 1.
	Class::MOP::load_class("TestApp::View::HTML::Root") called at /tmp/loop_over_bdir-2052-LtJjV2/Catalyst-View-HTML-Zoom-0.003-0/blib/lib/Catalyst/View/HTML/Zoom.pm line 138
	Catalyst::View::HTML::Zoom::_zoomer_class_from_context(TestApp::View::HTML=HASH(0x559bf8784778), TestApp=HASH(0x559bf88d9d50)) called at /tmp/loop_over_bdir-2052-LtJjV2/Catalyst-View-HTML-Zoom-0.003-0/blib/lib/Catalyst/View/HTML/Zoom.pm line 90
	Catalyst::View::HTML::Zoom::_build_renderer_from_zoomer_class(TestApp::View::HTML=HASH(0x559bf8784778), TestApp=HASH(0x559bf88d9d50)) called at /tmp/loop_over_bdir-2052-LtJjV2/Catalyst-View-HTML-Zoom-0.003-0/blib/lib/Catalyst/View/HTML/Zoom.pm line 76
	Catalyst::View::HTML::Zoom::_build_renderer_from(TestApp::View::HTML=HASH(0x559bf8784778), TestApp=HASH(0x559bf88d9d50), undef) called at /tmp/loop_over_bdir-2052-LtJjV2/Catalyst-View-HTML-Zoom-0.003-0/blib/lib/Catalyst/View/HTML/Zoom.pm line 67
	Catalyst::View::HTML::Zoom::render(TestApp::View::HTML=HASH(0x559bf8784778), TestApp=HASH(0x559bf88d9d50), "/main") called at /tmp/loop_over_bdir-2052-LtJjV2/Catalyst-View-HTML-Zoom-0.003-0/blib/lib/Catalyst/View/HTML/Zoom.pm line 41
	Catalyst::View::HTML::Zoom::process(TestApp::View::HTML=HASH(0x559bf8784778), TestApp=HASH(0x559bf88d9d50)) called at /home/sand/src/perl/repoperls/installed-perls/host/k93focal/v5.38.2/b254/lib/site_perl/5.38.2/Catalyst/Action.pm line 374
	Catalyst::Action::execute(Catalyst::Action=HASH(0x559bf896c3c8), TestApp::View::HTML=HASH(0x559bf8784778), TestApp=HASH(0x559bf88d9d50)) called at /home/sand/src/perl/repoperls/installed-perls/host/k93focal/v5.38.2/b254/lib/site_perl/5.38.2/Catalyst.pm line 2067
	eval {...} called at /home/sand/src/perl/repoperls/installed-perls/host/k93focal/v5.38.2/b254/lib/site_perl/5.38.2/Catalyst.pm line 2067
	Catalyst::execute(TestApp=HASH(0x559bf88d9d50), TestApp::View::HTML=HASH(0x559bf8784778), Catalyst::Action=HASH(0x559bf896c3c8)) called at /home/sand/src/perl/repoperls/installed-perls/host/k93focal/v5.38.2/b254/lib/site_perl/5.38.2/Catalyst/Action.pm line 366
	Catalyst::Action::dispatch(Catalyst::Action=HASH(0x559bf896c3c8), TestApp=HASH(0x559bf88d9d50)) called at /home/sand/src/perl/repoperls/installed-perls/host/k93focal/v5.38.2/b254/lib/site_perl/5.38.2/Catalyst/Dispatcher.pm line 261
	Catalyst::Dispatcher::_do_forward(Catalyst::Dispatcher=HASH(0x559bf7667d58), "forward", TestApp=HASH(0x559bf88d9d50), TestApp::View::HTML=HASH(0x559bf8784778)) called at /home/sand/src/perl/repoperls/installed-perls/host/k93focal/v5.38.2/b254/lib/site_perl/5.38.2/Catalyst/Dispatcher.pm line 241
	Catalyst::Dispatcher::forward(Catalyst::Dispatcher=HASH(0x559bf7667d58), TestApp=HASH(0x559bf88d9d50), TestApp::View::HTML=HASH(0x559bf8784778)) called at /home/sand/src/perl/repoperls/installed-perls/host/k93focal/v5.38.2/b254/lib/site_perl/5.38.2/Catalyst.pm line 489
	Catalyst::forward(TestApp=HASH(0x559bf88d9d50), TestApp::View::HTML=HASH(0x559bf8784778)) called at /home/sand/src/perl/repoperls/installed-perls/host/k93focal/v5.38.2/b254/lib/site_perl/5.38.2/Catalyst/Action/RenderView.pm line 57
	Catalyst::Action::RenderView::execute(Catalyst::Action::RenderView=HASH(0x559bf8806e58), TestApp::Controller::Root=HASH(0x559bf87b8028), TestApp=HASH(0x559bf88d9d50)) called at /home/sand/src/perl/repoperls/installed-perls/host/k93focal/v5.38.2/b254/lib/site_perl/5.38.2/Catalyst.pm line 2067
	eval {...} called at /home/sand/src/perl/repoperls/installed-perls/host/k93focal/v5.38.2/b254/lib/site_perl/5.38.2/Catalyst.pm line 2067
	Catalyst::execute(TestApp=HASH(0x559bf88d9d50), "TestApp::Controller::Root", Catalyst::Action::RenderView=HASH(0x559bf8806e58)) called at /home/sand/src/perl/repoperls/installed-perls/host/k93focal/v5.38.2/b254/lib/site_perl/5.38.2/Catalyst/Action.pm line 368
	Catalyst::Action::dispatch(Catalyst::Action::RenderView=HASH(0x559bf8806e58), TestApp=HASH(0x559bf88d9d50)) called at /home/sand/src/perl/repoperls/installed-perls/host/k93focal/v5.38.2/b254/lib/site_perl/5.38.2/Catalyst/Controller.pm line 188
	Catalyst::Controller::_END(TestApp::Controller::Root=HASH(0x559bf87b8028), TestApp=HASH(0x559bf88d9d50)) called at /home/sand/src/perl/repoperls/installed-perls/host/k93focal/v5.38.2/b254/lib/site_perl/5.38.2/Catalyst/Action.pm line 374
	Catalyst::Action::execute(Catalyst::Action=HASH(0x559bf88064c8), TestApp::Controller::Root=HASH(0x559bf87b8028), TestApp=HASH(0x559bf88d9d50)) called at /home/sand/src/perl/repoperls/installed-perls/host/k93focal/v5.38.2/b254/lib/site_perl/5.38.2/Catalyst.pm line 2067
	eval {...} called at /home/sand/src/perl/repoperls/installed-perls/host/k93focal/v5.38.2/b254/lib/site_perl/5.38.2/Catalyst.pm line 2067
	Catalyst::execute(TestApp=HASH(0x559bf88d9d50), "TestApp::Controller::Root", Catalyst::Action=HASH(0x559bf88064c8)) called at /home/sand/src/perl/repoperls/installed-perls/host/k93focal/v5.38.2/b254/lib/site_perl/5.38.2/Catalyst/Action.pm line 368
	Catalyst::Action::dispatch(Catalyst::Action=HASH(0x559bf88064c8), TestApp=HASH(0x559bf88d9d50)) called at /home/sand/src/perl/repoperls/installed-perls/host/k93focal/v5.38.2/b254/lib/site_perl/5.38.2/Catalyst/Dispatcher.pm line 261
	Catalyst::Dispatcher::_do_forward(Catalyst::Dispatcher=HASH(0x559bf7667d58), "forward", TestApp=HASH(0x559bf88d9d50), "_END") called at /home/sand/src/perl/repoperls/installed-perls/host/k93focal/v5.38.2/b254/lib/site_perl/5.38.2/Catalyst/Dispatcher.pm line 241
	Catalyst::Dispatcher::forward(Catalyst::Dispatcher=HASH(0x559bf7667d58), TestApp=HASH(0x559bf88d9d50), "_END") called at /home/sand/src/perl/repoperls/installed-perls/host/k93focal/v5.38.2/b254/lib/site_perl/5.38.2/Catalyst.pm line 489
	Catalyst::forward(TestApp=HASH(0x559bf88d9d50), "_END") called at /home/sand/src/perl/repoperls/installed-perls/host/k93focal/v5.38.2/b254/lib/site_perl/5.38.2/Catalyst/Controller.pm line 137
	Catalyst::Controller::_DISPATCH(TestApp::Controller::Root=HASH(0x559bf87b8028), TestApp=HASH(0x559bf88d9d50)) called at /home/sand/src/perl/repoperls/installed-perls/host/k93focal/v5.38.2/b254/lib/site_perl/5.38.2/Catalyst/Action.pm line 374
	Catalyst::Action::execute(Catalyst::Action=HASH(0x559bf8806318), TestApp::Controller::Root=HASH(0x559bf87b8028), TestApp=HASH(0x559bf88d9d50)) called at /home/sand/src/perl/repoperls/installed-perls/host/k93focal/v5.38.2/b254/lib/site_perl/5.38.2/Catalyst.pm line 2067
	eval {...} called at /home/sand/src/perl/repoperls/installed-perls/host/k93focal/v5.38.2/b254/lib/site_perl/5.38.2/Catalyst.pm line 2067
	Catalyst::execute(TestApp=HASH(0x559bf88d9d50), "TestApp::Controller::Root", Catalyst::Action=HASH(0x559bf8806318)) called at /home/sand/src/perl/repoperls/installed-perls/host/k93focal/v5.38.2/b254/lib/site_perl/5.38.2/Catalyst/Action.pm line 368
	Catalyst::Action::dispatch(Catalyst::Action=HASH(0x559bf8806318), TestApp=HASH(0x559bf88d9d50)) called at /home/sand/src/perl/repoperls/installed-perls/host/k93focal/v5.38.2/b254/lib/site_perl/5.38.2/Catalyst/Dispatcher.pm line 261
	Catalyst::Dispatcher::_do_forward(Catalyst::Dispatcher=HASH(0x559bf7667d58), "forward", TestApp=HASH(0x559bf88d9d50), "//_DISPATCH") called at /home/sand/src/perl/repoperls/installed-perls/host/k93focal/v5.38.2/b254/lib/site_perl/5.38.2/Catalyst/Dispatcher.pm line 241
	Catalyst::Dispatcher::forward(Catalyst::Dispatcher=HASH(0x559bf7667d58), TestApp=HASH(0x559bf88d9d50), "//_DISPATCH") called at /home/sand/src/perl/repoperls/installed-perls/host/k93focal/v5.38.2/b254/lib/site_perl/5.38.2/Catalyst.pm line 489
	Catalyst::forward(TestApp=HASH(0x559bf88d9d50), "//_DISPATCH") called at /home/sand/src/perl/repoperls/installed-perls/host/k93focal/v5.38.2/b254/lib/site_perl/5.38.2/Catalyst/Dispatcher.pm line 107
	Catalyst::Dispatcher::dispatch(Catalyst::Dispatcher=HASH(0x559bf7667d58), TestApp=HASH(0x559bf88d9d50)) called at /home/sand/src/perl/repoperls/installed-perls/host/k93focal/v5.38.2/b254/lib/site_perl/5.38.2/Catalyst.pm line 2013
	Catalyst::dispatch(TestApp=HASH(0x559bf88d9d50)) called at /home/sand/src/perl/repoperls/installed-perls/host/k93focal/v5.38.2/b254/lib/site_perl/5.38.2/x86_64-linux/Class/MOP/Method/Wrapped.pm line 56
	TestApp::_wrapped_dispatch(TestApp=HASH(0x559bf88d9d50)) called at /home/sand/src/perl/repoperls/installed-perls/host/k93focal/v5.38.2/b254/lib/site_perl/5.38.2/x86_64-linux/Class/MOP/Method/Wrapped.pm line 97
	TestApp::dispatch(TestApp=HASH(0x559bf88d9d50)) called at /home/sand/src/perl/repoperls/installed-perls/host/k93focal/v5.38.2/b254/lib/site_perl/5.38.2/Catalyst.pm line 2419
	Catalyst::try {...} () called at /home/sand/src/perl/repoperls/installed-perls/host/k93focal/v5.38.2/b254/lib/site_perl/5.38.2/Try/Tiny.pm line 102
	eval {...} called at /home/sand/src/perl/repoperls/installed-perls/host/k93focal/v5.38.2/b254/lib/site_perl/5.38.2/Try/Tiny.pm line 93
	Try::Tiny::try(CODE(0x559bf8958618), Try::Tiny::Catch=REF(0x559bf8957e68)) called at /home/sand/src/perl/repoperls/installed-perls/host/k93focal/v5.38.2/b254/lib/site_perl/5.38.2/Catalyst.pm line 2428
	Catalyst::handle_request("TestApp", "env", HASH(0x559bf8704b78), "response_cb", CODE(0x559bf89584e0)) called at /home/sand/src/perl/repoperls/installed-perls/host/k93focal/v5.38.2/b254/lib/site_perl/5.38.2/Catalyst/Engine.pm line 807
	Catalyst::Engine::__ANON__(CODE(0x559bf89584e0)) called at /home/sand/src/perl/repoperls/installed-perls/host/k93focal/v5.38.2/b254/lib/site_perl/5.38.2/Plack/Middleware/HTTPExceptions.pm line 32
	Plack::Middleware::HTTPExceptions::try {...} () called at /home/sand/src/perl/repoperls/installed-perls/host/k93focal/v5.38.2/b254/lib/site_perl/5.38.2/Try/Tiny.pm line 102
	eval {...} called at /home/sand/src/perl/repoperls/installed-perls/host/k93focal/v5.38.2/b254/lib/site_perl/5.38.2/Try/Tiny.pm line 93
	Try::Tiny::try(CODE(0x559bf8911c68), Try::Tiny::Catch=REF(0x559bf8692880)) called at /home/sand/src/perl/repoperls/installed-perls/host/k93focal/v5.38.2/b254/lib/site_perl/5.38.2/Plack/Middleware/HTTPExceptions.pm line 41
	Plack::Middleware::HTTPExceptions::__ANON__(CODE(0x559bf86a63c0)) called at /home/sand/src/perl/repoperls/installed-perls/host/k93focal/v5.38.2/b254/lib/site_perl/5.38.2/Plack/Util.pm line 339
	Plack::Util::__ANON__(CODE(0x559bf87757d0)) called at /home/sand/src/perl/repoperls/installed-perls/host/k93focal/v5.38.2/b254/lib/site_perl/5.38.2/Plack/Util.pm line 339
	Plack::Util::__ANON__(CODE(0x559bf86927c0)) called at /home/sand/src/perl/repoperls/installed-perls/host/k93focal/v5.38.2/b254/lib/site_perl/5.38.2/Plack/Util.pm line 339
	Plack::Util::__ANON__(CODE(0x559bf89380e0)) called at /home/sand/src/perl/repoperls/installed-perls/host/k93focal/v5.38.2/b254/lib/site_perl/5.38.2/HTTP/Message/PSGI.pm line 100
	HTTP::Message::PSGI::res_from_psgi(CODE(0x559bf89073c0)) called at /home/sand/src/perl/repoperls/installed-perls/host/k93focal/v5.38.2/b254/lib/site_perl/5.38.2/HTTP/Message/PSGI.pm line 157
	HTTP::Response::from_psgi("HTTP::Response", CODE(0x559bf89073c0)) called at /home/sand/src/perl/repoperls/installed-perls/host/k93focal/v5.38.2/b254/lib/site_perl/5.38.2/Plack/Test/MockHTTP.pm line 24
	Plack::Test::MockHTTP::try {...} () called at /home/sand/src/perl/repoperls/installed-perls/host/k93focal/v5.38.2/b254/lib/site_perl/5.38.2/Try/Tiny.pm line 100
	eval {...} called at /home/sand/src/perl/repoperls/installed-perls/host/k93focal/v5.38.2/b254/lib/site_perl/5.38.2/Try/Tiny.pm line 93
	Try::Tiny::try(CODE(0x559bf889c3e8), Try::Tiny::Catch=REF(0x559bf88ee6a0)) called at /home/sand/src/perl/repoperls/installed-perls/host/k93focal/v5.38.2/b254/lib/site_perl/5.38.2/Plack/Test/MockHTTP.pm line 27
	Plack::Test::MockHTTP::request(Plack::Test::MockHTTP=HASH(0x559bf88fe320), HTTP::Request=HASH(0x559bf88fdee8)) called at /home/sand/src/perl/repoperls/installed-perls/host/k93focal/v5.38.2/b254/lib/site_perl/5.38.2/Plack/Test.pm line 38
	Plack::Test::__ANON__(HTTP::Request=HASH(0x559bf88fdee8)) called at /home/sand/src/perl/repoperls/installed-perls/host/k93focal/v5.38.2/b254/lib/site_perl/5.38.2/Catalyst/Test.pm line 290
	Catalyst::Test::__ANON__(CODE(0x559bf88fe2a8)) called at /home/sand/src/perl/repoperls/installed-perls/host/k93focal/v5.38.2/b254/lib/site_perl/5.38.2/Plack/Test.pm line 38
	Plack::Test::test_psgi("app", CODE(0x559bf5dcd720), "mangle_response", CODE(0x559bf764fb20), "app", CODE(0x559bf8806ba0), "client", CODE(0x559bf88fe140)) called at /home/sand/src/perl/repoperls/installed-perls/host/k93focal/v5.38.2/b254/lib/site_perl/5.38.2/Catalyst/Test.pm line 293
	Catalyst::Test::_request(HASH(0x559bf88d9fd8), "/") called at /home/sand/src/perl/repoperls/installed-perls/host/k93focal/v5.38.2/b254/lib/site_perl/5.38.2/Catalyst/Test.pm line 336
	Catalyst::Test::_local_request("TestApp", "/") called at /home/sand/src/perl/repoperls/installed-perls/host/k93focal/v5.38.2/b254/lib/site_perl/5.38.2/Catalyst/Test.pm line 32
	Catalyst::Test::__ANON__("/") called at /home/sand/src/perl/repoperls/installed-perls/host/k93focal/v5.38.2/b254/lib/site_perl/5.38.2/Catalyst/Test.pm line 72
	Catalyst::Test::__ANON__("/") called at t/live-test.t line 14
t/live-test.t ............. ok
t/release-pod-coverage.t .. skipped: these tests are for release candidate testing
t/release-pod-syntax.t .... skipped: these tests are for release candidate testing
All tests successful.
Files=7, Tests=17,  3 wallclock secs ( 0.03 usr  0.02 sys +  2.07 cusr  0.42 csys =  2.54 CPU)
Result: PASS

------------------------------
PREREQUISITES
------------------------------

Prerequisite modules loaded:

requires:

    Module                       Need  Have    
    ---------------------------- ----- --------
    Class::MOP                   1.12  2.2206  
    HTML::Zoom                   0.009 0.009009
    Moose                        1.21  2.2206  
    namespace::autoclean         0.09  0.29    
    Path::Class                  0.23  0.37    

build_requires:

    Module                       Need  Have    
    ---------------------------- ----- --------
    Catalyst::Action::RenderView 0.14  0.16    
    Catalyst::Runtime            5.8   5.90131 
    Test::More                   0.96  1.302197

configure_requires:

    Module                       Need  Have    
    ---------------------------- ----- --------
    ExtUtils::MakeMaker          6.31  7.70    


------------------------------
ENVIRONMENT AND OTHER CONTEXT
------------------------------

Environment variables:

    AUTOMATED_TESTING = 1
    LANG = en_US.UTF-8
    PATH = /home/sand/bin:/usr/local/bin:/usr/local/sbin:/usr/sbin:/usr/bin:/sbin:/bin:/usr/games:/usr/local/games:/snap/bin:/usr/local/perl/bin:/usr/X11/bin
    PERL = /tmp/basesmoker-reloperl-8hMG/bin/perl
    PERL5LIB = /tmp/loop_over_bdir-2052-LtJjV2/MP3-PodcastFetch-1.05-0/blib/arch:/tmp/loop_over_bdir-2052-LtJjV2/MP3-PodcastFetch-1.05-0/blib/lib:/tmp/loop_over_bdir-2052-LtJjV2/CGI-Application-NetNewsIface-0.0204-0/blib/arch:/tmp/loop_over_bdir-2052-LtJjV2/CGI-Application-NetNewsIface-0.0204-0/blib/lib:/tmp/loop_over_bdir-2052-LtJjV2/Business-Shipping-DataFiles-1.02-0/blib/arch:/tmp/loop_over_bdir-2052-LtJjV2/Business-Shipping-DataFiles-1.02-0/blib/lib:/tmp/loop_over_bdir-2052-LtJjV2/App-nrun-v1.1.2-0/blib/arch:/tmp/loop_over_bdir-2052-LtJjV2/App-nrun-v1.1.2-0/blib/lib:/tmp/loop_over_bdir-2052-LtJjV2/Net-Async-WebService-lxd-0.03-0/blib/arch:/tmp/loop_over_bdir-2052-LtJjV2/Net-Async-WebService-lxd-0.03-0/blib/lib:/tmp/loop_over_bdir-2052-LtJjV2/downsexta-0/blib/arch:/tmp/loop_over_bdir-2052-LtJjV2/downsexta-0/blib/lib:/tmp/loop_over_bdir-2052-LtJjV2/js-app-0.13-0/blib/arch:/tmp/loop_over_bdir-2052-LtJjV2/js-app-0.13-0/blib/lib:/tmp/loop_over_bdir-2052-LtJjV2/RackMan-1.19-0/blib/arch:/tmp/loop_over_bdir-2052-LtJjV2/RackMan-1.19-0/blib/lib:/tmp/loop_over_bdir-2052-LtJjV2/Captive-Portal-4.10-0/blib/arch:/tmp/loop_over_bdir-2052-LtJjV2/Captive-Portal-4.10-0/blib/lib:/tmp/loop_over_bdir-2052-LtJjV2/LCFG-Build-Tools-0.9.30-0/blib/arch:/tmp/loop_over_bdir-2052-LtJjV2/LCFG-Build-Tools-0.9.30-0/blib/lib:/tmp/loop_over_bdir-2052-LtJjV2/EJBCA-CrlPublish-0.60-0/blib/arch:/tmp/loop_over_bdir-2052-LtJjV2/EJBCA-CrlPublish-0.60-0/blib/lib:/tmp/loop_over_bdir-2052-LtJjV2/Net-OpenVPN-DDNS-0.1-0/blib/arch:/tmp/loop_over_bdir-2052-LtJjV2/Net-OpenVPN-DDNS-0.1-0/blib/lib:/tmp/loop_over_bdir-2052-LtJjV2/Lemonldap-NG-Cli-0.2-0/blib/arch:/tmp/loop_over_bdir-2052-LtJjV2/Lemonldap-NG-Cli-0.2-0/blib/lib:/tmp/loop_over_bdir-2052-LtJjV2/Alien-SNMP-MIBDEV-2.020000-0/blib/arch:/tmp/loop_over_bdir-2052-LtJjV2/Alien-SNMP-MIBDEV-2.020000-0/blib/lib:/tmp/loop_over_bdir-2052-LtJjV2/Linux-InitFS-0.2-0/blib/arch:/tmp/loop_over_bdir-2052-LtJjV2/Linux-InitFS-0.2-0/blib/lib:/tmp/loop_over_bdir-2052-LtJjV2/makepp-1.19-0/blib/arch:/tmp/loop_over_bdir-2052-LtJjV2/makepp-1.19-0/blib/lib:/tmp/loop_over_bdir-2052-LtJjV2/Net-ISP-Balance-1.31-0/blib/arch:/tmp/loop_over_bdir-2052-LtJjV2/Net-ISP-Balance-1.31-0/blib/lib:/tmp/loop_over_bdir-2052-LtJjV2/dta-tokwrap-0.98-0/blib/arch:/tmp/loop_over_bdir-2052-LtJjV2/dta-tokwrap-0.98-0/blib/lib:/tmp/loop_over_bdir-2052-LtJjV2/ProjectBuilder-0.14.1-0/blib/arch:/tmp/loop_over_bdir-2052-LtJjV2/ProjectBuilder-0.14.1-0/blib/lib:/tmp/loop_over_bdir-2052-LtJjV2/Dpkg-1.22.1-0/blib/arch:/tmp/loop_over_bdir-2052-LtJjV2/Dpkg-1.22.1-0/blib/lib:/tmp/loop_over_bdir-2052-LtJjV2/App-oo_modulino_zsh_completion_helper-0.04-0/blib/arch:/tmp/loop_over_bdir-2052-LtJjV2/App-oo_modulino_zsh_completion_helper-0.04-0/blib/lib:/tmp/loop_over_bdir-2052-LtJjV2/HTML-Menu-TreeView-1.22-0/blib/arch:/tmp/loop_over_bdir-2052-LtJjV2/HTML-Menu-TreeView-1.22-0/blib/lib:/tmp/loop_over_bdir-2052-LtJjV2/LCFG-Build-Skeleton-0.5.0-0/blib/arch:/tmp/loop_over_bdir-2052-LtJjV2/LCFG-Build-Skeleton-0.5.0-0/blib/lib:/tmp/loop_over_bdir-2052-LtJjV2/AllKnowingDNS-1.7-0/blib/arch:/tmp/loop_over_bdir-2052-LtJjV2/AllKnowingDNS-1.7-0/blib/lib:/tmp/loop_over_bdir-2052-LtJjV2/mmds-1.902-0/blib/arch:/tmp/loop_over_bdir-2052-LtJjV2/mmds-1.902-0/blib/lib:/tmp/loop_over_bdir-2052-LtJjV2/Simulation-Automate-1.0.1-0/blib/arch:/tmp/loop_over_bdir-2052-LtJjV2/Simulation-Automate-1.0.1-0/blib/lib:/tmp/loop_over_bdir-2052-LtJjV2/App-rmcd-0.280-0/blib/arch:/tmp/loop_over_bdir-2052-LtJjV2/App-rmcd-0.280-0/blib/lib:/tmp/loop_over_bdir-2052-LtJjV2/WWW-Mechanize-Chrome-DOMops-0.06-0/blib/arch:/tmp/loop_over_bdir-2052-LtJjV2/WWW-Mechanize-Chrome-DOMops-0.06-0/blib/lib:/tmp/loop_over_bdir-2052-LtJjV2/NoZone-1.3-0/blib/arch:/tmp/loop_over_bdir-2052-LtJjV2/NoZone-1.3-0/blib/lib:/tmp/loop_over_bdir-2052-LtJjV2/Debian-Packages-0.03-0/blib/arch:/tmp/loop_over_bdir-2052-LtJjV2/Debian-Packages-0.03-0/blib/lib:/tmp/loop_over_bdir-2052-LtJjV2/Lingua-BioYaTeA-0.11-0/blib/arch:/tmp/loop_over_bdir-2052-LtJjV2/Lingua-BioYaTeA-0.11-0/blib/lib:/tmp/loop_over_bdir-2052-LtJjV2/Lingua-YaTeA-0.626-0/blib/arch:/tmp/loop_over_bdir-2052-LtJjV2/Lingua-YaTeA-0.626-0/blib/lib:/tmp/loop_over_bdir-2052-LtJjV2/Devel-Required-0.16-0/blib/arch:/tmp/loop_over_bdir-2052-LtJjV2/Devel-Required-0.16-0/blib/lib:/tmp/loop_over_bdir-2052-LtJjV2/LiquidWeb-Storm-CLI-1.03-0/blib/arch:/tmp/loop_over_bdir-2052-LtJjV2/LiquidWeb-Storm-CLI-1.03-0/blib/lib:/tmp/loop_over_bdir-2052-LtJjV2/perl-Hardware-UPS-Perl-0.43-0/blib/arch:/tmp/loop_over_bdir-2052-LtJjV2/perl-Hardware-UPS-Perl-0.43-0/blib/lib:/tmp/loop_over_bdir-2052-LtJjV2/Sysync-0.35-0/blib/arch:/tmp/loop_over_bdir-2052-LtJjV2/Sysync-0.35-0/blib/lib
    PERL5OPT = 
    PERL5_CPANPLUS_IS_RUNNING = 2060
    PERL5_CPAN_IS_RUNNING = 2060
    PERL_CANARY_STABILITY_NOPROMPT = 1
    PERL_MM_USE_DEFAULT = 1
    PERL_USE_UNSAFE_INC = 1
    SHELL = /usr/bin/zsh
    TERM = screen

Perl special variables (and OS-specific diagnostics, for MSWin32):

    $^X = /tmp/basesmoker-reloperl-8hMG/bin/perl
    $UID/$EUID = 1005 / 1005
    $GID = 1005 1005
    $EGID = 1005 1005

Perl module toolchain versions installed:

    Module              Have    
    ------------------- --------
    CPAN                2.36    
    CPAN::Meta          2.150010
    Cwd                 3.89    
    ExtUtils::CBuilder  0.280238
    ExtUtils::Command   7.70    
    ExtUtils::Install   2.22    
    ExtUtils::MakeMaker 7.70    
    ExtUtils::Manifest  1.75    
    ExtUtils::ParseXS   3.51    
    File::Spec          3.88    
    JSON                4.10    
    JSON::PP            4.16    
    Module::Build       0.4234  
    Module::Signature   0.88    
    Parse::CPAN::Meta   2.150010
    Test2               1.302197
    Test::Harness       3.48    
    Test::More          1.302197
    YAML                1.30    
    YAML::Syck          1.34    
    version             0.9930  


--

Summary of my perl5 (revision 5 version 38 subversion 2) configuration:
  Commit id: 55dd2f792ffc8cefe614350a411f785374281b24
  Platform:
    osname=linux
    osvers=5.4.0-167-generic
    archname=x86_64-linux
    uname='linux k93focal 5.4.0-167-generic #184-ubuntu smp tue oct 31 09:21:49 utc 2023 x86_64 x86_64 x86_64 gnulinux '
    config_args='-Dprefix=/home/sand/src/perl/repoperls/installed-perls/host/k93focal/v5.38.2/b254 -Dmyhostname=k93focal -Dinstallusrbinperl=n -Uversiononly -Dusedevel -des -Ui_db -Dlibswanted=cl pthread socket inet nsl gdbm dbm malloc dl ld sun m crypt sec util c cposix posix ucb BSD gdbm_compat -Uuseithreads -Uuselongdouble -DEBUGGING=both'
    hint=recommended
    useposix=true
    d_sigaction=define
    useithreads=undef
    usemultiplicity=undef
    use64bitint=define
    use64bitall=define
    uselongdouble=undef
    usemymalloc=n
    default_inc_excludes_dot=define
  Compiler:
    cc='cc'
    ccflags ='-fwrapv -DDEBUGGING -fno-strict-aliasing -pipe -fstack-protector-strong -I/usr/local/include -D_LARGEFILE_SOURCE -D_FILE_OFFSET_BITS=64'
    optimize='-O2 -g'
    cppflags='-fwrapv -DDEBUGGING -fno-strict-aliasing -pipe -fstack-protector-strong -I/usr/local/include'
    ccversion=''
    gccversion='9.4.0'
    gccosandvers=''
    intsize=4
    longsize=8
    ptrsize=8
    doublesize=8
    byteorder=12345678
    doublekind=3
    d_longlong=define
    longlongsize=8
    d_longdbl=define
    longdblsize=16
    longdblkind=3
    ivtype='long'
    ivsize=8
    nvtype='double'
    nvsize=8
    Off_t='off_t'
    lseeksize=8
    alignbytes=8
    prototype=define
  Linker and Libraries:
    ld='cc'
    ldflags =' -fstack-protector-strong -L/usr/local/lib'
    libpth=/usr/local/lib /usr/lib/x86_64-linux-gnu /usr/lib /usr/lib64
    libs=-lpthread -lnsl -ldl -lm -lcrypt -lutil -lc
    perllibs=-lpthread -lnsl -ldl -lm -lcrypt -lutil -lc
    libc=libc-2.31.so
    so=so
    useshrplib=false
    libperl=libperl.a
    gnulibc_version='2.31'
  Dynamic Linking:
    dlsrc=dl_dlopen.xs
    dlext=so
    d_dlsymun=undef
    ccdlflags='-Wl,-E'
    cccdlflags='-fPIC'
    lddlflags='-shared -O2 -g -L/usr/local/lib -fstack-protector-strong'


Characteristics of this binary (from libperl): 
  Compile-time options:
    DEBUGGING
    HAS_LONG_DOUBLE
    HAS_STRTOLD
    HAS_TIMES
    PERLIO_LAYERS
    PERL_COPY_ON_WRITE
    PERL_DONT_CREATE_GVSV
    PERL_HASH_FUNC_SIPHASH13
    PERL_HASH_USE_SBOX32
    PERL_MALLOC_WRAP
    PERL_OP_PARENT
    PERL_PRESERVE_IVUV
    PERL_USE_DEVEL
    PERL_USE_SAFE_PUTENV
    USE_64_BIT_ALL
    USE_64_BIT_INT
    USE_LARGE_FILES
    USE_LOCALE
    USE_LOCALE_COLLATE
    USE_LOCALE_CTYPE
    USE_LOCALE_NUMERIC
    USE_LOCALE_TIME
    USE_PERLIO
    USE_PERL_ATOF
  Built under linux
  Compiled at Nov 29 2023 18:51:30
  %ENV:
    PERL="/tmp/basesmoker-reloperl-8hMG/bin/perl"
    PERL5LIB="/tmp/loop_over_bdir-2052-LtJjV2/MP3-PodcastFetch-1.05-0/blib/arch:/tmp/loop_over_bdir-2052-LtJjV2/MP3-PodcastFetch-1.05-0/blib/lib:/tmp/loop_over_bdir-2052-LtJjV2/CGI-Application-NetNewsIface-0.0204-0/blib/arch:/tmp/loop_over_bdir-2052-LtJjV2/CGI-Application-NetNewsIface-0.0204-0/blib/lib:/tmp/loop_over_bdir-2052-LtJjV2/Business-Shipping-DataFiles-1.02-0/blib/arch:/tmp/loop_over_bdir-2052-LtJjV2/Business-Shipping-DataFiles-1.02-0/blib/lib:/tmp/loop_over_bdir-2052-LtJjV2/App-nrun-v1.1.2-0/blib/arch:/tmp/loop_over_bdir-2052-LtJjV2/App-nrun-v1.1.2-0/blib/lib:/tmp/loop_over_bdir-2052-LtJjV2/Net-Async-WebService-lxd-0.03-0/blib/arch:/tmp/loop_over_bdir-2052-LtJjV2/Net-Async-WebService-lxd-0.03-0/blib/lib:/tmp/loop_over_bdir-2052-LtJjV2/downsexta-0/blib/arch:/tmp/loop_over_bdir-2052-LtJjV2/downsexta-0/blib/lib:/tmp/loop_over_bdir-2052-LtJjV2/js-app-0.13-0/blib/arch:/tmp/loop_over_bdir-2052-LtJjV2/js-app-0.13-0/blib/lib:/tmp/loop_over_bdir-2052-LtJjV2/RackMan-1.19-0/blib/arch:/tmp/loop_over_bdir-2052-LtJjV2/RackMan-1.19-0/blib/lib:/tmp/loop_over_bdir-2052-LtJjV2/Captive-Portal-4.10-0/blib/arch:/tmp/loop_over_bdir-2052-LtJjV2/Captive-Portal-4.10-0/blib/lib:/tmp/loop_over_bdir-2052-LtJjV2/LCFG-Build-Tools-0.9.30-0/blib/arch:/tmp/loop_over_bdir-2052-LtJjV2/LCFG-Build-Tools-0.9.30-0/blib/lib:/tmp/loop_over_bdir-2052-LtJjV2/EJBCA-CrlPublish-0.60-0/blib/arch:/tmp/loop_over_bdir-2052-LtJjV2/EJBCA-CrlPublish-0.60-0/blib/lib:/tmp/loop_over_bdir-2052-LtJjV2/Net-OpenVPN-DDNS-0.1-0/blib/arch:/tmp/loop_over_bdir-2052-LtJjV2/Net-OpenVPN-DDNS-0.1-0/blib/lib:/tmp/loop_over_bdir-2052-LtJjV2/Lemonldap-NG-Cli-0.2-0/blib/arch:/tmp/loop_over_bdir-2052-LtJjV2/Lemonldap-NG-Cli-0.2-0/blib/lib:/tmp/loop_over_bdir-2052-LtJjV2/Alien-SNMP-MIBDEV-2.020000-0/blib/arch:/tmp/loop_over_bdir-2052-LtJjV2/Alien-SNMP-MIBDEV-2.020000-0/blib/lib:/tmp/loop_over_bdir-2052-LtJjV2/Linux-InitFS-0.2-0/blib/arch:/tmp/loop_over_bdir-2052-LtJjV2/Linux-InitFS-0.2-0/blib/lib:/tmp/loop_over_bdir-2052-LtJjV2/makepp-1.19-0/blib/arch:/tmp/loop_over_bdir-2052-LtJjV2/makepp-1.19-0/blib/lib:/tmp/loop_over_bdir-2052-LtJjV2/Net-ISP-Balance-1.31-0/blib/arch:/tmp/loop_over_bdir-2052-LtJjV2/Net-ISP-Balance-1.31-0/blib/lib:/tmp/loop_over_bdir-2052-LtJjV2/dta-tokwrap-0.98-0/blib/arch:/tmp/loop_over_bdir-2052-LtJjV2/dta-tokwrap-0.98-0/blib/lib:/tmp/loop_over_bdir-2052-LtJjV2/ProjectBuilder-0.14.1-0/blib/arch:/tmp/loop_over_bdir-2052-LtJjV2/ProjectBuilder-0.14.1-0/blib/lib:/tmp/loop_over_bdir-2052-LtJjV2/Dpkg-1.22.1-0/blib/arch:/tmp/loop_over_bdir-2052-LtJjV2/Dpkg-1.22.1-0/blib/lib:/tmp/loop_over_bdir-2052-LtJjV2/App-oo_modulino_zsh_completion_helper-0.04-0/blib/arch:/tmp/loop_over_bdir-2052-LtJjV2/App-oo_modulino_zsh_completion_helper-0.04-0/blib/lib:/tmp/loop_over_bdir-2052-LtJjV2/HTML-Menu-TreeView-1.22-0/blib/arch:/tmp/loop_over_bdir-2052-LtJjV2/HTML-Menu-TreeView-1.22-0/blib/lib:/tmp/loop_over_bdir-2052-LtJjV2/LCFG-Build-Skeleton-0.5.0-0/blib/arch:/tmp/loop_over_bdir-2052-LtJjV2/LCFG-Build-Skeleton-0.5.0-0/blib/lib:/tmp/loop_over_bdir-2052-LtJjV2/AllKnowingDNS-1.7-0/blib/arch:/tmp/loop_over_bdir-2052-LtJjV2/AllKnowingDNS-1.7-0/blib/lib:/tmp/loop_over_bdir-2052-LtJjV2/mmds-1.902-0/blib/arch:/tmp/loop_over_bdir-2052-LtJjV2/mmds-1.902-0/blib/lib:/tmp/loop_over_bdir-2052-LtJjV2/Simulation-Automate-1.0.1-0/blib/arch:/tmp/loop_over_bdir-2052-LtJjV2/Simulation-Automate-1.0.1-0/blib/lib:/tmp/loop_over_bdir-2052-LtJjV2/App-rmcd-0.280-0/blib/arch:/tmp/loop_over_bdir-2052-LtJjV2/App-rmcd-0.280-0/blib/lib:/tmp/loop_over_bdir-2052-LtJjV2/WWW-Mechanize-Chrome-DOMops-0.06-0/blib/arch:/tmp/loop_over_bdir-2052-LtJjV2/WWW-Mechanize-Chrome-DOMops-0.06-0/blib/lib:/tmp/loop_over_bdir-2052-LtJjV2/NoZone-1.3-0/blib/arch:/tmp/loop_over_bdir-2052-LtJjV2/NoZone-1.3-0/blib/lib:/tmp/loop_over_bdir-2052-LtJjV2/Debian-Packages-0.03-0/blib/arch:/tmp/loop_over_bdir-2052-LtJjV2/Debian-Packages-0.03-0/blib/lib:/tmp/loop_over_bdir-2052-LtJjV2/Lingua-BioYaTeA-0.11-0/blib/arch:/tmp/loop_over_bdir-2052-LtJjV2/Lingua-BioYaTeA-0.11-0/blib/lib:/tmp/loop_over_bdir-2052-LtJjV2/Lingua-YaTeA-0.626-0/blib/arch:/tmp/loop_over_bdir-2052-LtJjV2/Lingua-YaTeA-0.626-0/blib/lib:/tmp/loop_over_bdir-2052-LtJjV2/Devel-Required-0.16-0/blib/arch:/tmp/loop_over_bdir-2052-LtJjV2/Devel-Required-0.16-0/blib/lib:/tmp/loop_over_bdir-2052-LtJjV2/LiquidWeb-Storm-CLI-1.03-0/blib/arch:/tmp/loop_over_bdir-2052-LtJjV2/LiquidWeb-Storm-CLI-1.03-0/blib/lib:/tmp/loop_over_bdir-2052-LtJjV2/perl-Hardware-UPS-Perl-0.43-0/blib/arch:/tmp/loop_over_bdir-2052-LtJjV2/perl-Hardware-UPS-Perl-0.43-0/blib/lib:/tmp/loop_over_bdir-2052-LtJjV2/Sysync-0.35-0/blib/arch:/tmp/loop_over_bdir-2052-LtJjV2/Sysync-0.35-0/blib/lib"
    PERL5OPT=""
    PERL5_CPANPLUS_IS_RUNNING="2060"
    PERL5_CPAN_IS_RUNNING="2060"
    PERL_CANARY_STABILITY_NOPROMPT="1"
    PERL_MM_USE_DEFAULT="1"
    PERL_USE_UNSAFE_INC="1"
  @INC:
    /tmp/loop_over_bdir-2052-LtJjV2/MP3-PodcastFetch-1.05-0/blib/arch
    /tmp/loop_over_bdir-2052-LtJjV2/MP3-PodcastFetch-1.05-0/blib/lib
    /tmp/loop_over_bdir-2052-LtJjV2/CGI-Application-NetNewsIface-0.0204-0/blib/arch
    /tmp/loop_over_bdir-2052-LtJjV2/CGI-Application-NetNewsIface-0.0204-0/blib/lib
    /tmp/loop_over_bdir-2052-LtJjV2/Business-Shipping-DataFiles-1.02-0/blib/arch
    /tmp/loop_over_bdir-2052-LtJjV2/Business-Shipping-DataFiles-1.02-0/blib/lib
    /tmp/loop_over_bdir-2052-LtJjV2/App-nrun-v1.1.2-0/blib/arch
    /tmp/loop_over_bdir-2052-LtJjV2/App-nrun-v1.1.2-0/blib/lib
    /tmp/loop_over_bdir-2052-LtJjV2/Net-Async-WebService-lxd-0.03-0/blib/arch
    /tmp/loop_over_bdir-2052-LtJjV2/Net-Async-WebService-lxd-0.03-0/blib/lib
    /tmp/loop_over_bdir-2052-LtJjV2/downsexta-0/blib/arch
    /tmp/loop_over_bdir-2052-LtJjV2/downsexta-0/blib/lib
    /tmp/loop_over_bdir-2052-LtJjV2/js-app-0.13-0/blib/arch
    /tmp/loop_over_bdir-2052-LtJjV2/js-app-0.13-0/blib/lib
    /tmp/loop_over_bdir-2052-LtJjV2/RackMan-1.19-0/blib/arch
    /tmp/loop_over_bdir-2052-LtJjV2/RackMan-1.19-0/blib/lib
    /tmp/loop_over_bdir-2052-LtJjV2/Captive-Portal-4.10-0/blib/arch
    /tmp/loop_over_bdir-2052-LtJjV2/Captive-Portal-4.10-0/blib/lib
    /tmp/loop_over_bdir-2052-LtJjV2/LCFG-Build-Tools-0.9.30-0/blib/arch
    /tmp/loop_over_bdir-2052-LtJjV2/LCFG-Build-Tools-0.9.30-0/blib/lib
    /tmp/loop_over_bdir-2052-LtJjV2/EJBCA-CrlPublish-0.60-0/blib/arch
    /tmp/loop_over_bdir-2052-LtJjV2/EJBCA-CrlPublish-0.60-0/blib/lib
    /tmp/loop_over_bdir-2052-LtJjV2/Net-OpenVPN-DDNS-0.1-0/blib/arch
    /tmp/loop_over_bdir-2052-LtJjV2/Net-OpenVPN-DDNS-0.1-0/blib/lib
    /tmp/loop_over_bdir-2052-LtJjV2/Lemonldap-NG-Cli-0.2-0/blib/arch
    /tmp/loop_over_bdir-2052-LtJjV2/Lemonldap-NG-Cli-0.2-0/blib/lib
    /tmp/loop_over_bdir-2052-LtJjV2/Alien-SNMP-MIBDEV-2.020000-0/blib/arch
    /tmp/loop_over_bdir-2052-LtJjV2/Alien-SNMP-MIBDEV-2.020000-0/blib/lib
    /tmp/loop_over_bdir-2052-LtJjV2/Linux-InitFS-0.2-0/blib/arch
    /tmp/loop_over_bdir-2052-LtJjV2/Linux-InitFS-0.2-0/blib/lib
    /tmp/loop_over_bdir-2052-LtJjV2/makepp-1.19-0/blib/arch
    /tmp/loop_over_bdir-2052-LtJjV2/makepp-1.19-0/blib/lib
    /tmp/loop_over_bdir-2052-LtJjV2/Net-ISP-Balance-1.31-0/blib/arch
    /tmp/loop_over_bdir-2052-LtJjV2/Net-ISP-Balance-1.31-0/blib/lib
    /tmp/loop_over_bdir-2052-LtJjV2/dta-tokwrap-0.98-0/blib/arch
    /tmp/loop_over_bdir-2052-LtJjV2/dta-tokwrap-0.98-0/blib/lib
    /tmp/loop_over_bdir-2052-LtJjV2/ProjectBuilder-0.14.1-0/blib/arch
    /tmp/loop_over_bdir-2052-LtJjV2/ProjectBuilder-0.14.1-0/blib/lib
    /tmp/loop_over_bdir-2052-LtJjV2/Dpkg-1.22.1-0/blib/arch
    /tmp/loop_over_bdir-2052-LtJjV2/Dpkg-1.22.1-0/blib/lib
    /tmp/loop_over_bdir-2052-LtJjV2/App-oo_modulino_zsh_completion_helper-0.04-0/blib/arch
    /tmp/loop_over_bdir-2052-LtJjV2/App-oo_modulino_zsh_completion_helper-0.04-0/blib/lib
    /tmp/loop_over_bdir-2052-LtJjV2/HTML-Menu-TreeView-1.22-0/blib/arch
    /tmp/loop_over_bdir-2052-LtJjV2/HTML-Menu-TreeView-1.22-0/blib/lib
    /tmp/loop_over_bdir-2052-LtJjV2/LCFG-Build-Skeleton-0.5.0-0/blib/arch
    /tmp/loop_over_bdir-2052-LtJjV2/LCFG-Build-Skeleton-0.5.0-0/blib/lib
    /tmp/loop_over_bdir-2052-LtJjV2/AllKnowingDNS-1.7-0/blib/arch
    /tmp/loop_over_bdir-2052-LtJjV2/AllKnowingDNS-1.7-0/blib/lib
    /tmp/loop_over_bdir-2052-LtJjV2/mmds-1.902-0/blib/arch
    /tmp/loop_over_bdir-2052-LtJjV2/mmds-1.902-0/blib/lib
    /tmp/loop_over_bdir-2052-LtJjV2/Simulation-Automate-1.0.1-0/blib/arch
    /tmp/loop_over_bdir-2052-LtJjV2/Simulation-Automate-1.0.1-0/blib/lib
    /tmp/loop_over_bdir-2052-LtJjV2/App-rmcd-0.280-0/blib/arch
    /tmp/loop_over_bdir-2052-LtJjV2/App-rmcd-0.280-0/blib/lib
    /tmp/loop_over_bdir-2052-LtJjV2/WWW-Mechanize-Chrome-DOMops-0.06-0/blib/arch
    /tmp/loop_over_bdir-2052-LtJjV2/WWW-Mechanize-Chrome-DOMops-0.06-0/blib/lib
    /tmp/loop_over_bdir-2052-LtJjV2/NoZone-1.3-0/blib/arch
    /tmp/loop_over_bdir-2052-LtJjV2/NoZone-1.3-0/blib/lib
    /tmp/loop_over_bdir-2052-LtJjV2/Debian-Packages-0.03-0/blib/arch
    /tmp/loop_over_bdir-2052-LtJjV2/Debian-Packages-0.03-0/blib/lib
    /tmp/loop_over_bdir-2052-LtJjV2/Lingua-BioYaTeA-0.11-0/blib/arch
    /tmp/loop_over_bdir-2052-LtJjV2/Lingua-BioYaTeA-0.11-0/blib/lib
    /tmp/loop_over_bdir-2052-LtJjV2/Lingua-YaTeA-0.626-0/blib/arch
    /tmp/loop_over_bdir-2052-LtJjV2/Lingua-YaTeA-0.626-0/blib/lib
    /tmp/loop_over_bdir-2052-LtJjV2/Devel-Required-0.16-0/blib/arch
    /tmp/loop_over_bdir-2052-LtJjV2/Devel-Required-0.16-0/blib/lib
    /tmp/loop_over_bdir-2052-LtJjV2/LiquidWeb-Storm-CLI-1.03-0/blib/arch
    /tmp/loop_over_bdir-2052-LtJjV2/LiquidWeb-Storm-CLI-1.03-0/blib/lib
    /tmp/loop_over_bdir-2052-LtJjV2/perl-Hardware-UPS-Perl-0.43-0/blib/arch
    /tmp/loop_over_bdir-2052-LtJjV2/perl-Hardware-UPS-Perl-0.43-0/blib/lib
    /tmp/loop_over_bdir-2052-LtJjV2/Sysync-0.35-0/blib/arch
    /tmp/loop_over_bdir-2052-LtJjV2/Sysync-0.35-0/blib/lib
    /home/sand/src/perl/repoperls/installed-perls/host/k93focal/v5.38.2/b254/lib/site_perl/5.38.2/x86_64-linux
    /home/sand/src/perl/repoperls/installed-perls/host/k93focal/v5.38.2/b254/lib/site_perl/5.38.2
    /home/sand/src/perl/repoperls/installed-perls/host/k93focal/v5.38.2/b254/lib/5.38.2/x86_64-linux
    /home/sand/src/perl/repoperls/installed-perls/host/k93focal/v5.38.2/b254/lib/5.38.2
    .