Report for File-Dropbox-0.5

Back
From: metabase:user:320bfe00-2aae-11df-837a-5e0a49663a4f
Subject: PASS File-Dropbox-0.5 v5.19.7 GNU/Linux
Date: 2013-12-18T07:54:02Z

This distribution has been tested as part of the CPAN Testers
project, supporting the Perl programming language.  See
http://wiki.cpantesters.org/ for more information or email
questions to cpan-testers-discuss@perl.org


--
Dear Alexander Nazarov,

This is a computer-generated report for File-Dropbox-0.5
on perl 5.19.7, created by CPAN-Reporter-1.2010.

Thank you for uploading your work to CPAN.  Congratulations!
All tests were successful.

Sections of this report:

    * Tester comments
    * Program output
    * Prerequisites
    * Environment and other context

------------------------------
TESTER COMMENTS
------------------------------

Additional comments from tester:

this report is from an automated smoke testing program
and was not reviewed by a human for accuracy

------------------------------
PROGRAM OUTPUT
------------------------------

Output from './Build test':

given is experimental at /tmp/loop_over_bdir-6543-K26K3w/File-Dropbox-0.5-CRtjuh/blib/lib/File/Dropbox.pm line 93.
when is experimental at /tmp/loop_over_bdir-6543-K26K3w/File-Dropbox-0.5-CRtjuh/blib/lib/File/Dropbox.pm line 94.
when is experimental at /tmp/loop_over_bdir-6543-K26K3w/File-Dropbox-0.5-CRtjuh/blib/lib/File/Dropbox.pm line 96.
when is experimental at /tmp/loop_over_bdir-6543-K26K3w/File-Dropbox-0.5-CRtjuh/blib/lib/File/Dropbox.pm line 101.
when is experimental at /tmp/loop_over_bdir-6543-K26K3w/File-Dropbox-0.5-CRtjuh/blib/lib/File/Dropbox.pm line 108.
given is experimental at /tmp/loop_over_bdir-6543-K26K3w/File-Dropbox-0.5-CRtjuh/blib/lib/File/Dropbox.pm line 216.
when is experimental at /tmp/loop_over_bdir-6543-K26K3w/File-Dropbox-0.5-CRtjuh/blib/lib/File/Dropbox.pm line 217.
when is experimental at /tmp/loop_over_bdir-6543-K26K3w/File-Dropbox-0.5-CRtjuh/blib/lib/File/Dropbox.pm line 221.
when is experimental at /tmp/loop_over_bdir-6543-K26K3w/File-Dropbox-0.5-CRtjuh/blib/lib/File/Dropbox.pm line 225.
given is experimental at /tmp/loop_over_bdir-6543-K26K3w/File-Dropbox-0.5-CRtjuh/blib/lib/File/Dropbox.pm line 307.
when is experimental at /tmp/loop_over_bdir-6543-K26K3w/File-Dropbox-0.5-CRtjuh/blib/lib/File/Dropbox.pm line 308.
when is experimental at /tmp/loop_over_bdir-6543-K26K3w/File-Dropbox-0.5-CRtjuh/blib/lib/File/Dropbox.pm line 310.
when is experimental at /tmp/loop_over_bdir-6543-K26K3w/File-Dropbox-0.5-CRtjuh/blib/lib/File/Dropbox.pm line 314.
given is experimental at /tmp/loop_over_bdir-6543-K26K3w/File-Dropbox-0.5-CRtjuh/blib/lib/File/Dropbox.pm line 409.
when is experimental at /tmp/loop_over_bdir-6543-K26K3w/File-Dropbox-0.5-CRtjuh/blib/lib/File/Dropbox.pm line 410.
when is experimental at /tmp/loop_over_bdir-6543-K26K3w/File-Dropbox-0.5-CRtjuh/blib/lib/File/Dropbox.pm line 415.
when is experimental at /tmp/loop_over_bdir-6543-K26K3w/File-Dropbox-0.5-CRtjuh/blib/lib/File/Dropbox.pm line 420.
when is experimental at /tmp/loop_over_bdir-6543-K26K3w/File-Dropbox-0.5-CRtjuh/blib/lib/File/Dropbox.pm line 427.
when is experimental at /tmp/loop_over_bdir-6543-K26K3w/File-Dropbox-0.5-CRtjuh/blib/lib/File/Dropbox.pm line 433.
when is experimental at /tmp/loop_over_bdir-6543-K26K3w/File-Dropbox-0.5-CRtjuh/blib/lib/File/Dropbox.pm line 438.
given is experimental at /tmp/loop_over_bdir-6543-K26K3w/File-Dropbox-0.5-CRtjuh/blib/lib/File/Dropbox.pm line 471.
when is experimental at /tmp/loop_over_bdir-6543-K26K3w/File-Dropbox-0.5-CRtjuh/blib/lib/File/Dropbox.pm line 472.
when is experimental at /tmp/loop_over_bdir-6543-K26K3w/File-Dropbox-0.5-CRtjuh/blib/lib/File/Dropbox.pm line 477.
when is experimental at /tmp/loop_over_bdir-6543-K26K3w/File-Dropbox-0.5-CRtjuh/blib/lib/File/Dropbox.pm line 482.
when is experimental at /tmp/loop_over_bdir-6543-K26K3w/File-Dropbox-0.5-CRtjuh/blib/lib/File/Dropbox.pm line 487.
when is experimental at /tmp/loop_over_bdir-6543-K26K3w/File-Dropbox-0.5-CRtjuh/blib/lib/File/Dropbox.pm line 494.
when is experimental at /tmp/loop_over_bdir-6543-K26K3w/File-Dropbox-0.5-CRtjuh/blib/lib/File/Dropbox.pm line 500.
when is experimental at /tmp/loop_over_bdir-6543-K26K3w/File-Dropbox-0.5-CRtjuh/blib/lib/File/Dropbox.pm line 504.
given is experimental at /tmp/loop_over_bdir-6543-K26K3w/File-Dropbox-0.5-CRtjuh/blib/lib/File/Dropbox.pm line 561.
when is experimental at /tmp/loop_over_bdir-6543-K26K3w/File-Dropbox-0.5-CRtjuh/blib/lib/File/Dropbox.pm line 562.
when is experimental at /tmp/loop_over_bdir-6543-K26K3w/File-Dropbox-0.5-CRtjuh/blib/lib/File/Dropbox.pm line 567.
when is experimental at /tmp/loop_over_bdir-6543-K26K3w/File-Dropbox-0.5-CRtjuh/blib/lib/File/Dropbox.pm line 572.
when is experimental at /tmp/loop_over_bdir-6543-K26K3w/File-Dropbox-0.5-CRtjuh/blib/lib/File/Dropbox.pm line 579.
when is experimental at /tmp/loop_over_bdir-6543-K26K3w/File-Dropbox-0.5-CRtjuh/blib/lib/File/Dropbox.pm line 585.
when is experimental at /tmp/loop_over_bdir-6543-K26K3w/File-Dropbox-0.5-CRtjuh/blib/lib/File/Dropbox.pm line 590.
t/01-basic.t ..... ok
given is experimental at /tmp/loop_over_bdir-6543-K26K3w/File-Dropbox-0.5-CRtjuh/blib/lib/File/Dropbox.pm line 93.
when is experimental at /tmp/loop_over_bdir-6543-K26K3w/File-Dropbox-0.5-CRtjuh/blib/lib/File/Dropbox.pm line 94.
when is experimental at /tmp/loop_over_bdir-6543-K26K3w/File-Dropbox-0.5-CRtjuh/blib/lib/File/Dropbox.pm line 96.
when is experimental at /tmp/loop_over_bdir-6543-K26K3w/File-Dropbox-0.5-CRtjuh/blib/lib/File/Dropbox.pm line 101.
when is experimental at /tmp/loop_over_bdir-6543-K26K3w/File-Dropbox-0.5-CRtjuh/blib/lib/File/Dropbox.pm line 108.
given is experimental at /tmp/loop_over_bdir-6543-K26K3w/File-Dropbox-0.5-CRtjuh/blib/lib/File/Dropbox.pm line 216.
when is experimental at /tmp/loop_over_bdir-6543-K26K3w/File-Dropbox-0.5-CRtjuh/blib/lib/File/Dropbox.pm line 217.
when is experimental at /tmp/loop_over_bdir-6543-K26K3w/File-Dropbox-0.5-CRtjuh/blib/lib/File/Dropbox.pm line 221.
when is experimental at /tmp/loop_over_bdir-6543-K26K3w/File-Dropbox-0.5-CRtjuh/blib/lib/File/Dropbox.pm line 225.
given is experimental at /tmp/loop_over_bdir-6543-K26K3w/File-Dropbox-0.5-CRtjuh/blib/lib/File/Dropbox.pm line 307.
when is experimental at /tmp/loop_over_bdir-6543-K26K3w/File-Dropbox-0.5-CRtjuh/blib/lib/File/Dropbox.pm line 308.
when is experimental at /tmp/loop_over_bdir-6543-K26K3w/File-Dropbox-0.5-CRtjuh/blib/lib/File/Dropbox.pm line 310.
when is experimental at /tmp/loop_over_bdir-6543-K26K3w/File-Dropbox-0.5-CRtjuh/blib/lib/File/Dropbox.pm line 314.
given is experimental at /tmp/loop_over_bdir-6543-K26K3w/File-Dropbox-0.5-CRtjuh/blib/lib/File/Dropbox.pm line 409.
when is experimental at /tmp/loop_over_bdir-6543-K26K3w/File-Dropbox-0.5-CRtjuh/blib/lib/File/Dropbox.pm line 410.
when is experimental at /tmp/loop_over_bdir-6543-K26K3w/File-Dropbox-0.5-CRtjuh/blib/lib/File/Dropbox.pm line 415.
when is experimental at /tmp/loop_over_bdir-6543-K26K3w/File-Dropbox-0.5-CRtjuh/blib/lib/File/Dropbox.pm line 420.
when is experimental at /tmp/loop_over_bdir-6543-K26K3w/File-Dropbox-0.5-CRtjuh/blib/lib/File/Dropbox.pm line 427.
when is experimental at /tmp/loop_over_bdir-6543-K26K3w/File-Dropbox-0.5-CRtjuh/blib/lib/File/Dropbox.pm line 433.
when is experimental at /tmp/loop_over_bdir-6543-K26K3w/File-Dropbox-0.5-CRtjuh/blib/lib/File/Dropbox.pm line 438.
given is experimental at /tmp/loop_over_bdir-6543-K26K3w/File-Dropbox-0.5-CRtjuh/blib/lib/File/Dropbox.pm line 471.
when is experimental at /tmp/loop_over_bdir-6543-K26K3w/File-Dropbox-0.5-CRtjuh/blib/lib/File/Dropbox.pm line 472.
when is experimental at /tmp/loop_over_bdir-6543-K26K3w/File-Dropbox-0.5-CRtjuh/blib/lib/File/Dropbox.pm line 477.
when is experimental at /tmp/loop_over_bdir-6543-K26K3w/File-Dropbox-0.5-CRtjuh/blib/lib/File/Dropbox.pm line 482.
when is experimental at /tmp/loop_over_bdir-6543-K26K3w/File-Dropbox-0.5-CRtjuh/blib/lib/File/Dropbox.pm line 487.
when is experimental at /tmp/loop_over_bdir-6543-K26K3w/File-Dropbox-0.5-CRtjuh/blib/lib/File/Dropbox.pm line 494.
when is experimental at /tmp/loop_over_bdir-6543-K26K3w/File-Dropbox-0.5-CRtjuh/blib/lib/File/Dropbox.pm line 500.
when is experimental at /tmp/loop_over_bdir-6543-K26K3w/File-Dropbox-0.5-CRtjuh/blib/lib/File/Dropbox.pm line 504.
given is experimental at /tmp/loop_over_bdir-6543-K26K3w/File-Dropbox-0.5-CRtjuh/blib/lib/File/Dropbox.pm line 561.
when is experimental at /tmp/loop_over_bdir-6543-K26K3w/File-Dropbox-0.5-CRtjuh/blib/lib/File/Dropbox.pm line 562.
when is experimental at /tmp/loop_over_bdir-6543-K26K3w/File-Dropbox-0.5-CRtjuh/blib/lib/File/Dropbox.pm line 567.
when is experimental at /tmp/loop_over_bdir-6543-K26K3w/File-Dropbox-0.5-CRtjuh/blib/lib/File/Dropbox.pm line 572.
when is experimental at /tmp/loop_over_bdir-6543-K26K3w/File-Dropbox-0.5-CRtjuh/blib/lib/File/Dropbox.pm line 579.
when is experimental at /tmp/loop_over_bdir-6543-K26K3w/File-Dropbox-0.5-CRtjuh/blib/lib/File/Dropbox.pm line 585.
when is experimental at /tmp/loop_over_bdir-6543-K26K3w/File-Dropbox-0.5-CRtjuh/blib/lib/File/Dropbox.pm line 590.
t/02-open.t ...... ok
given is experimental at /tmp/loop_over_bdir-6543-K26K3w/File-Dropbox-0.5-CRtjuh/blib/lib/File/Dropbox.pm line 93.
when is experimental at /tmp/loop_over_bdir-6543-K26K3w/File-Dropbox-0.5-CRtjuh/blib/lib/File/Dropbox.pm line 94.
when is experimental at /tmp/loop_over_bdir-6543-K26K3w/File-Dropbox-0.5-CRtjuh/blib/lib/File/Dropbox.pm line 96.
when is experimental at /tmp/loop_over_bdir-6543-K26K3w/File-Dropbox-0.5-CRtjuh/blib/lib/File/Dropbox.pm line 101.
when is experimental at /tmp/loop_over_bdir-6543-K26K3w/File-Dropbox-0.5-CRtjuh/blib/lib/File/Dropbox.pm line 108.
given is experimental at /tmp/loop_over_bdir-6543-K26K3w/File-Dropbox-0.5-CRtjuh/blib/lib/File/Dropbox.pm line 216.
when is experimental at /tmp/loop_over_bdir-6543-K26K3w/File-Dropbox-0.5-CRtjuh/blib/lib/File/Dropbox.pm line 217.
when is experimental at /tmp/loop_over_bdir-6543-K26K3w/File-Dropbox-0.5-CRtjuh/blib/lib/File/Dropbox.pm line 221.
when is experimental at /tmp/loop_over_bdir-6543-K26K3w/File-Dropbox-0.5-CRtjuh/blib/lib/File/Dropbox.pm line 225.
given is experimental at /tmp/loop_over_bdir-6543-K26K3w/File-Dropbox-0.5-CRtjuh/blib/lib/File/Dropbox.pm line 307.
when is experimental at /tmp/loop_over_bdir-6543-K26K3w/File-Dropbox-0.5-CRtjuh/blib/lib/File/Dropbox.pm line 308.
when is experimental at /tmp/loop_over_bdir-6543-K26K3w/File-Dropbox-0.5-CRtjuh/blib/lib/File/Dropbox.pm line 310.
when is experimental at /tmp/loop_over_bdir-6543-K26K3w/File-Dropbox-0.5-CRtjuh/blib/lib/File/Dropbox.pm line 314.
given is experimental at /tmp/loop_over_bdir-6543-K26K3w/File-Dropbox-0.5-CRtjuh/blib/lib/File/Dropbox.pm line 409.
when is experimental at /tmp/loop_over_bdir-6543-K26K3w/File-Dropbox-0.5-CRtjuh/blib/lib/File/Dropbox.pm line 410.
when is experimental at /tmp/loop_over_bdir-6543-K26K3w/File-Dropbox-0.5-CRtjuh/blib/lib/File/Dropbox.pm line 415.
when is experimental at /tmp/loop_over_bdir-6543-K26K3w/File-Dropbox-0.5-CRtjuh/blib/lib/File/Dropbox.pm line 420.
when is experimental at /tmp/loop_over_bdir-6543-K26K3w/File-Dropbox-0.5-CRtjuh/blib/lib/File/Dropbox.pm line 427.
when is experimental at /tmp/loop_over_bdir-6543-K26K3w/File-Dropbox-0.5-CRtjuh/blib/lib/File/Dropbox.pm line 433.
when is experimental at /tmp/loop_over_bdir-6543-K26K3w/File-Dropbox-0.5-CRtjuh/blib/lib/File/Dropbox.pm line 438.
given is experimental at /tmp/loop_over_bdir-6543-K26K3w/File-Dropbox-0.5-CRtjuh/blib/lib/File/Dropbox.pm line 471.
when is experimental at /tmp/loop_over_bdir-6543-K26K3w/File-Dropbox-0.5-CRtjuh/blib/lib/File/Dropbox.pm line 472.
when is experimental at /tmp/loop_over_bdir-6543-K26K3w/File-Dropbox-0.5-CRtjuh/blib/lib/File/Dropbox.pm line 477.
when is experimental at /tmp/loop_over_bdir-6543-K26K3w/File-Dropbox-0.5-CRtjuh/blib/lib/File/Dropbox.pm line 482.
when is experimental at /tmp/loop_over_bdir-6543-K26K3w/File-Dropbox-0.5-CRtjuh/blib/lib/File/Dropbox.pm line 487.
when is experimental at /tmp/loop_over_bdir-6543-K26K3w/File-Dropbox-0.5-CRtjuh/blib/lib/File/Dropbox.pm line 494.
when is experimental at /tmp/loop_over_bdir-6543-K26K3w/File-Dropbox-0.5-CRtjuh/blib/lib/File/Dropbox.pm line 500.
when is experimental at /tmp/loop_over_bdir-6543-K26K3w/File-Dropbox-0.5-CRtjuh/blib/lib/File/Dropbox.pm line 504.
given is experimental at /tmp/loop_over_bdir-6543-K26K3w/File-Dropbox-0.5-CRtjuh/blib/lib/File/Dropbox.pm line 561.
when is experimental at /tmp/loop_over_bdir-6543-K26K3w/File-Dropbox-0.5-CRtjuh/blib/lib/File/Dropbox.pm line 562.
when is experimental at /tmp/loop_over_bdir-6543-K26K3w/File-Dropbox-0.5-CRtjuh/blib/lib/File/Dropbox.pm line 567.
when is experimental at /tmp/loop_over_bdir-6543-K26K3w/File-Dropbox-0.5-CRtjuh/blib/lib/File/Dropbox.pm line 572.
when is experimental at /tmp/loop_over_bdir-6543-K26K3w/File-Dropbox-0.5-CRtjuh/blib/lib/File/Dropbox.pm line 579.
when is experimental at /tmp/loop_over_bdir-6543-K26K3w/File-Dropbox-0.5-CRtjuh/blib/lib/File/Dropbox.pm line 585.
when is experimental at /tmp/loop_over_bdir-6543-K26K3w/File-Dropbox-0.5-CRtjuh/blib/lib/File/Dropbox.pm line 590.
t/03-write.t ..... ok
given is experimental at /tmp/loop_over_bdir-6543-K26K3w/File-Dropbox-0.5-CRtjuh/blib/lib/File/Dropbox.pm line 93.
when is experimental at /tmp/loop_over_bdir-6543-K26K3w/File-Dropbox-0.5-CRtjuh/blib/lib/File/Dropbox.pm line 94.
when is experimental at /tmp/loop_over_bdir-6543-K26K3w/File-Dropbox-0.5-CRtjuh/blib/lib/File/Dropbox.pm line 96.
when is experimental at /tmp/loop_over_bdir-6543-K26K3w/File-Dropbox-0.5-CRtjuh/blib/lib/File/Dropbox.pm line 101.
when is experimental at /tmp/loop_over_bdir-6543-K26K3w/File-Dropbox-0.5-CRtjuh/blib/lib/File/Dropbox.pm line 108.
given is experimental at /tmp/loop_over_bdir-6543-K26K3w/File-Dropbox-0.5-CRtjuh/blib/lib/File/Dropbox.pm line 216.
when is experimental at /tmp/loop_over_bdir-6543-K26K3w/File-Dropbox-0.5-CRtjuh/blib/lib/File/Dropbox.pm line 217.
when is experimental at /tmp/loop_over_bdir-6543-K26K3w/File-Dropbox-0.5-CRtjuh/blib/lib/File/Dropbox.pm line 221.
when is experimental at /tmp/loop_over_bdir-6543-K26K3w/File-Dropbox-0.5-CRtjuh/blib/lib/File/Dropbox.pm line 225.
given is experimental at /tmp/loop_over_bdir-6543-K26K3w/File-Dropbox-0.5-CRtjuh/blib/lib/File/Dropbox.pm line 307.
when is experimental at /tmp/loop_over_bdir-6543-K26K3w/File-Dropbox-0.5-CRtjuh/blib/lib/File/Dropbox.pm line 308.
when is experimental at /tmp/loop_over_bdir-6543-K26K3w/File-Dropbox-0.5-CRtjuh/blib/lib/File/Dropbox.pm line 310.
when is experimental at /tmp/loop_over_bdir-6543-K26K3w/File-Dropbox-0.5-CRtjuh/blib/lib/File/Dropbox.pm line 314.
given is experimental at /tmp/loop_over_bdir-6543-K26K3w/File-Dropbox-0.5-CRtjuh/blib/lib/File/Dropbox.pm line 409.
when is experimental at /tmp/loop_over_bdir-6543-K26K3w/File-Dropbox-0.5-CRtjuh/blib/lib/File/Dropbox.pm line 410.
when is experimental at /tmp/loop_over_bdir-6543-K26K3w/File-Dropbox-0.5-CRtjuh/blib/lib/File/Dropbox.pm line 415.
when is experimental at /tmp/loop_over_bdir-6543-K26K3w/File-Dropbox-0.5-CRtjuh/blib/lib/File/Dropbox.pm line 420.
when is experimental at /tmp/loop_over_bdir-6543-K26K3w/File-Dropbox-0.5-CRtjuh/blib/lib/File/Dropbox.pm line 427.
when is experimental at /tmp/loop_over_bdir-6543-K26K3w/File-Dropbox-0.5-CRtjuh/blib/lib/File/Dropbox.pm line 433.
when is experimental at /tmp/loop_over_bdir-6543-K26K3w/File-Dropbox-0.5-CRtjuh/blib/lib/File/Dropbox.pm line 438.
given is experimental at /tmp/loop_over_bdir-6543-K26K3w/File-Dropbox-0.5-CRtjuh/blib/lib/File/Dropbox.pm line 471.
when is experimental at /tmp/loop_over_bdir-6543-K26K3w/File-Dropbox-0.5-CRtjuh/blib/lib/File/Dropbox.pm line 472.
when is experimental at /tmp/loop_over_bdir-6543-K26K3w/File-Dropbox-0.5-CRtjuh/blib/lib/File/Dropbox.pm line 477.
when is experimental at /tmp/loop_over_bdir-6543-K26K3w/File-Dropbox-0.5-CRtjuh/blib/lib/File/Dropbox.pm line 482.
when is experimental at /tmp/loop_over_bdir-6543-K26K3w/File-Dropbox-0.5-CRtjuh/blib/lib/File/Dropbox.pm line 487.
when is experimental at /tmp/loop_over_bdir-6543-K26K3w/File-Dropbox-0.5-CRtjuh/blib/lib/File/Dropbox.pm line 494.
when is experimental at /tmp/loop_over_bdir-6543-K26K3w/File-Dropbox-0.5-CRtjuh/blib/lib/File/Dropbox.pm line 500.
when is experimental at /tmp/loop_over_bdir-6543-K26K3w/File-Dropbox-0.5-CRtjuh/blib/lib/File/Dropbox.pm line 504.
given is experimental at /tmp/loop_over_bdir-6543-K26K3w/File-Dropbox-0.5-CRtjuh/blib/lib/File/Dropbox.pm line 561.
when is experimental at /tmp/loop_over_bdir-6543-K26K3w/File-Dropbox-0.5-CRtjuh/blib/lib/File/Dropbox.pm line 562.
when is experimental at /tmp/loop_over_bdir-6543-K26K3w/File-Dropbox-0.5-CRtjuh/blib/lib/File/Dropbox.pm line 567.
when is experimental at /tmp/loop_over_bdir-6543-K26K3w/File-Dropbox-0.5-CRtjuh/blib/lib/File/Dropbox.pm line 572.
when is experimental at /tmp/loop_over_bdir-6543-K26K3w/File-Dropbox-0.5-CRtjuh/blib/lib/File/Dropbox.pm line 579.
when is experimental at /tmp/loop_over_bdir-6543-K26K3w/File-Dropbox-0.5-CRtjuh/blib/lib/File/Dropbox.pm line 585.
when is experimental at /tmp/loop_over_bdir-6543-K26K3w/File-Dropbox-0.5-CRtjuh/blib/lib/File/Dropbox.pm line 590.
t/04-read.t ...... ok
given is experimental at /tmp/loop_over_bdir-6543-K26K3w/File-Dropbox-0.5-CRtjuh/blib/lib/File/Dropbox.pm line 93.
when is experimental at /tmp/loop_over_bdir-6543-K26K3w/File-Dropbox-0.5-CRtjuh/blib/lib/File/Dropbox.pm line 94.
when is experimental at /tmp/loop_over_bdir-6543-K26K3w/File-Dropbox-0.5-CRtjuh/blib/lib/File/Dropbox.pm line 96.
when is experimental at /tmp/loop_over_bdir-6543-K26K3w/File-Dropbox-0.5-CRtjuh/blib/lib/File/Dropbox.pm line 101.
when is experimental at /tmp/loop_over_bdir-6543-K26K3w/File-Dropbox-0.5-CRtjuh/blib/lib/File/Dropbox.pm line 108.
given is experimental at /tmp/loop_over_bdir-6543-K26K3w/File-Dropbox-0.5-CRtjuh/blib/lib/File/Dropbox.pm line 216.
when is experimental at /tmp/loop_over_bdir-6543-K26K3w/File-Dropbox-0.5-CRtjuh/blib/lib/File/Dropbox.pm line 217.
when is experimental at /tmp/loop_over_bdir-6543-K26K3w/File-Dropbox-0.5-CRtjuh/blib/lib/File/Dropbox.pm line 221.
when is experimental at /tmp/loop_over_bdir-6543-K26K3w/File-Dropbox-0.5-CRtjuh/blib/lib/File/Dropbox.pm line 225.
given is experimental at /tmp/loop_over_bdir-6543-K26K3w/File-Dropbox-0.5-CRtjuh/blib/lib/File/Dropbox.pm line 307.
when is experimental at /tmp/loop_over_bdir-6543-K26K3w/File-Dropbox-0.5-CRtjuh/blib/lib/File/Dropbox.pm line 308.
when is experimental at /tmp/loop_over_bdir-6543-K26K3w/File-Dropbox-0.5-CRtjuh/blib/lib/File/Dropbox.pm line 310.
when is experimental at /tmp/loop_over_bdir-6543-K26K3w/File-Dropbox-0.5-CRtjuh/blib/lib/File/Dropbox.pm line 314.
given is experimental at /tmp/loop_over_bdir-6543-K26K3w/File-Dropbox-0.5-CRtjuh/blib/lib/File/Dropbox.pm line 409.
when is experimental at /tmp/loop_over_bdir-6543-K26K3w/File-Dropbox-0.5-CRtjuh/blib/lib/File/Dropbox.pm line 410.
when is experimental at /tmp/loop_over_bdir-6543-K26K3w/File-Dropbox-0.5-CRtjuh/blib/lib/File/Dropbox.pm line 415.
when is experimental at /tmp/loop_over_bdir-6543-K26K3w/File-Dropbox-0.5-CRtjuh/blib/lib/File/Dropbox.pm line 420.
when is experimental at /tmp/loop_over_bdir-6543-K26K3w/File-Dropbox-0.5-CRtjuh/blib/lib/File/Dropbox.pm line 427.
when is experimental at /tmp/loop_over_bdir-6543-K26K3w/File-Dropbox-0.5-CRtjuh/blib/lib/File/Dropbox.pm line 433.
when is experimental at /tmp/loop_over_bdir-6543-K26K3w/File-Dropbox-0.5-CRtjuh/blib/lib/File/Dropbox.pm line 438.
given is experimental at /tmp/loop_over_bdir-6543-K26K3w/File-Dropbox-0.5-CRtjuh/blib/lib/File/Dropbox.pm line 471.
when is experimental at /tmp/loop_over_bdir-6543-K26K3w/File-Dropbox-0.5-CRtjuh/blib/lib/File/Dropbox.pm line 472.
when is experimental at /tmp/loop_over_bdir-6543-K26K3w/File-Dropbox-0.5-CRtjuh/blib/lib/File/Dropbox.pm line 477.
when is experimental at /tmp/loop_over_bdir-6543-K26K3w/File-Dropbox-0.5-CRtjuh/blib/lib/File/Dropbox.pm line 482.
when is experimental at /tmp/loop_over_bdir-6543-K26K3w/File-Dropbox-0.5-CRtjuh/blib/lib/File/Dropbox.pm line 487.
when is experimental at /tmp/loop_over_bdir-6543-K26K3w/File-Dropbox-0.5-CRtjuh/blib/lib/File/Dropbox.pm line 494.
when is experimental at /tmp/loop_over_bdir-6543-K26K3w/File-Dropbox-0.5-CRtjuh/blib/lib/File/Dropbox.pm line 500.
when is experimental at /tmp/loop_over_bdir-6543-K26K3w/File-Dropbox-0.5-CRtjuh/blib/lib/File/Dropbox.pm line 504.
given is experimental at /tmp/loop_over_bdir-6543-K26K3w/File-Dropbox-0.5-CRtjuh/blib/lib/File/Dropbox.pm line 561.
when is experimental at /tmp/loop_over_bdir-6543-K26K3w/File-Dropbox-0.5-CRtjuh/blib/lib/File/Dropbox.pm line 562.
when is experimental at /tmp/loop_over_bdir-6543-K26K3w/File-Dropbox-0.5-CRtjuh/blib/lib/File/Dropbox.pm line 567.
when is experimental at /tmp/loop_over_bdir-6543-K26K3w/File-Dropbox-0.5-CRtjuh/blib/lib/File/Dropbox.pm line 572.
when is experimental at /tmp/loop_over_bdir-6543-K26K3w/File-Dropbox-0.5-CRtjuh/blib/lib/File/Dropbox.pm line 579.
when is experimental at /tmp/loop_over_bdir-6543-K26K3w/File-Dropbox-0.5-CRtjuh/blib/lib/File/Dropbox.pm line 585.
when is experimental at /tmp/loop_over_bdir-6543-K26K3w/File-Dropbox-0.5-CRtjuh/blib/lib/File/Dropbox.pm line 590.
t/05-meta.t ...... ok
given is experimental at /tmp/loop_over_bdir-6543-K26K3w/File-Dropbox-0.5-CRtjuh/blib/lib/File/Dropbox.pm line 93.
when is experimental at /tmp/loop_over_bdir-6543-K26K3w/File-Dropbox-0.5-CRtjuh/blib/lib/File/Dropbox.pm line 94.
when is experimental at /tmp/loop_over_bdir-6543-K26K3w/File-Dropbox-0.5-CRtjuh/blib/lib/File/Dropbox.pm line 96.
when is experimental at /tmp/loop_over_bdir-6543-K26K3w/File-Dropbox-0.5-CRtjuh/blib/lib/File/Dropbox.pm line 101.
when is experimental at /tmp/loop_over_bdir-6543-K26K3w/File-Dropbox-0.5-CRtjuh/blib/lib/File/Dropbox.pm line 108.
given is experimental at /tmp/loop_over_bdir-6543-K26K3w/File-Dropbox-0.5-CRtjuh/blib/lib/File/Dropbox.pm line 216.
when is experimental at /tmp/loop_over_bdir-6543-K26K3w/File-Dropbox-0.5-CRtjuh/blib/lib/File/Dropbox.pm line 217.
when is experimental at /tmp/loop_over_bdir-6543-K26K3w/File-Dropbox-0.5-CRtjuh/blib/lib/File/Dropbox.pm line 221.
when is experimental at /tmp/loop_over_bdir-6543-K26K3w/File-Dropbox-0.5-CRtjuh/blib/lib/File/Dropbox.pm line 225.
given is experimental at /tmp/loop_over_bdir-6543-K26K3w/File-Dropbox-0.5-CRtjuh/blib/lib/File/Dropbox.pm line 307.
when is experimental at /tmp/loop_over_bdir-6543-K26K3w/File-Dropbox-0.5-CRtjuh/blib/lib/File/Dropbox.pm line 308.
when is experimental at /tmp/loop_over_bdir-6543-K26K3w/File-Dropbox-0.5-CRtjuh/blib/lib/File/Dropbox.pm line 310.
when is experimental at /tmp/loop_over_bdir-6543-K26K3w/File-Dropbox-0.5-CRtjuh/blib/lib/File/Dropbox.pm line 314.
given is experimental at /tmp/loop_over_bdir-6543-K26K3w/File-Dropbox-0.5-CRtjuh/blib/lib/File/Dropbox.pm line 409.
when is experimental at /tmp/loop_over_bdir-6543-K26K3w/File-Dropbox-0.5-CRtjuh/blib/lib/File/Dropbox.pm line 410.
when is experimental at /tmp/loop_over_bdir-6543-K26K3w/File-Dropbox-0.5-CRtjuh/blib/lib/File/Dropbox.pm line 415.
when is experimental at /tmp/loop_over_bdir-6543-K26K3w/File-Dropbox-0.5-CRtjuh/blib/lib/File/Dropbox.pm line 420.
when is experimental at /tmp/loop_over_bdir-6543-K26K3w/File-Dropbox-0.5-CRtjuh/blib/lib/File/Dropbox.pm line 427.
when is experimental at /tmp/loop_over_bdir-6543-K26K3w/File-Dropbox-0.5-CRtjuh/blib/lib/File/Dropbox.pm line 433.
when is experimental at /tmp/loop_over_bdir-6543-K26K3w/File-Dropbox-0.5-CRtjuh/blib/lib/File/Dropbox.pm line 438.
given is experimental at /tmp/loop_over_bdir-6543-K26K3w/File-Dropbox-0.5-CRtjuh/blib/lib/File/Dropbox.pm line 471.
when is experimental at /tmp/loop_over_bdir-6543-K26K3w/File-Dropbox-0.5-CRtjuh/blib/lib/File/Dropbox.pm line 472.
when is experimental at /tmp/loop_over_bdir-6543-K26K3w/File-Dropbox-0.5-CRtjuh/blib/lib/File/Dropbox.pm line 477.
when is experimental at /tmp/loop_over_bdir-6543-K26K3w/File-Dropbox-0.5-CRtjuh/blib/lib/File/Dropbox.pm line 482.
when is experimental at /tmp/loop_over_bdir-6543-K26K3w/File-Dropbox-0.5-CRtjuh/blib/lib/File/Dropbox.pm line 487.
when is experimental at /tmp/loop_over_bdir-6543-K26K3w/File-Dropbox-0.5-CRtjuh/blib/lib/File/Dropbox.pm line 494.
when is experimental at /tmp/loop_over_bdir-6543-K26K3w/File-Dropbox-0.5-CRtjuh/blib/lib/File/Dropbox.pm line 500.
when is experimental at /tmp/loop_over_bdir-6543-K26K3w/File-Dropbox-0.5-CRtjuh/blib/lib/File/Dropbox.pm line 504.
given is experimental at /tmp/loop_over_bdir-6543-K26K3w/File-Dropbox-0.5-CRtjuh/blib/lib/File/Dropbox.pm line 561.
when is experimental at /tmp/loop_over_bdir-6543-K26K3w/File-Dropbox-0.5-CRtjuh/blib/lib/File/Dropbox.pm line 562.
when is experimental at /tmp/loop_over_bdir-6543-K26K3w/File-Dropbox-0.5-CRtjuh/blib/lib/File/Dropbox.pm line 567.
when is experimental at /tmp/loop_over_bdir-6543-K26K3w/File-Dropbox-0.5-CRtjuh/blib/lib/File/Dropbox.pm line 572.
when is experimental at /tmp/loop_over_bdir-6543-K26K3w/File-Dropbox-0.5-CRtjuh/blib/lib/File/Dropbox.pm line 579.
when is experimental at /tmp/loop_over_bdir-6543-K26K3w/File-Dropbox-0.5-CRtjuh/blib/lib/File/Dropbox.pm line 585.
when is experimental at /tmp/loop_over_bdir-6543-K26K3w/File-Dropbox-0.5-CRtjuh/blib/lib/File/Dropbox.pm line 590.
t/06-putfile.t ... ok
given is experimental at /tmp/loop_over_bdir-6543-K26K3w/File-Dropbox-0.5-CRtjuh/blib/lib/File/Dropbox.pm line 93.
when is experimental at /tmp/loop_over_bdir-6543-K26K3w/File-Dropbox-0.5-CRtjuh/blib/lib/File/Dropbox.pm line 94.
when is experimental at /tmp/loop_over_bdir-6543-K26K3w/File-Dropbox-0.5-CRtjuh/blib/lib/File/Dropbox.pm line 96.
when is experimental at /tmp/loop_over_bdir-6543-K26K3w/File-Dropbox-0.5-CRtjuh/blib/lib/File/Dropbox.pm line 101.
when is experimental at /tmp/loop_over_bdir-6543-K26K3w/File-Dropbox-0.5-CRtjuh/blib/lib/File/Dropbox.pm line 108.
given is experimental at /tmp/loop_over_bdir-6543-K26K3w/File-Dropbox-0.5-CRtjuh/blib/lib/File/Dropbox.pm line 216.
when is experimental at /tmp/loop_over_bdir-6543-K26K3w/File-Dropbox-0.5-CRtjuh/blib/lib/File/Dropbox.pm line 217.
when is experimental at /tmp/loop_over_bdir-6543-K26K3w/File-Dropbox-0.5-CRtjuh/blib/lib/File/Dropbox.pm line 221.
when is experimental at /tmp/loop_over_bdir-6543-K26K3w/File-Dropbox-0.5-CRtjuh/blib/lib/File/Dropbox.pm line 225.
given is experimental at /tmp/loop_over_bdir-6543-K26K3w/File-Dropbox-0.5-CRtjuh/blib/lib/File/Dropbox.pm line 307.
when is experimental at /tmp/loop_over_bdir-6543-K26K3w/File-Dropbox-0.5-CRtjuh/blib/lib/File/Dropbox.pm line 308.
when is experimental at /tmp/loop_over_bdir-6543-K26K3w/File-Dropbox-0.5-CRtjuh/blib/lib/File/Dropbox.pm line 310.
when is experimental at /tmp/loop_over_bdir-6543-K26K3w/File-Dropbox-0.5-CRtjuh/blib/lib/File/Dropbox.pm line 314.
given is experimental at /tmp/loop_over_bdir-6543-K26K3w/File-Dropbox-0.5-CRtjuh/blib/lib/File/Dropbox.pm line 409.
when is experimental at /tmp/loop_over_bdir-6543-K26K3w/File-Dropbox-0.5-CRtjuh/blib/lib/File/Dropbox.pm line 410.
when is experimental at /tmp/loop_over_bdir-6543-K26K3w/File-Dropbox-0.5-CRtjuh/blib/lib/File/Dropbox.pm line 415.
when is experimental at /tmp/loop_over_bdir-6543-K26K3w/File-Dropbox-0.5-CRtjuh/blib/lib/File/Dropbox.pm line 420.
when is experimental at /tmp/loop_over_bdir-6543-K26K3w/File-Dropbox-0.5-CRtjuh/blib/lib/File/Dropbox.pm line 427.
when is experimental at /tmp/loop_over_bdir-6543-K26K3w/File-Dropbox-0.5-CRtjuh/blib/lib/File/Dropbox.pm line 433.
when is experimental at /tmp/loop_over_bdir-6543-K26K3w/File-Dropbox-0.5-CRtjuh/blib/lib/File/Dropbox.pm line 438.
given is experimental at /tmp/loop_over_bdir-6543-K26K3w/File-Dropbox-0.5-CRtjuh/blib/lib/File/Dropbox.pm line 471.
when is experimental at /tmp/loop_over_bdir-6543-K26K3w/File-Dropbox-0.5-CRtjuh/blib/lib/File/Dropbox.pm line 472.
when is experimental at /tmp/loop_over_bdir-6543-K26K3w/File-Dropbox-0.5-CRtjuh/blib/lib/File/Dropbox.pm line 477.
when is experimental at /tmp/loop_over_bdir-6543-K26K3w/File-Dropbox-0.5-CRtjuh/blib/lib/File/Dropbox.pm line 482.
when is experimental at /tmp/loop_over_bdir-6543-K26K3w/File-Dropbox-0.5-CRtjuh/blib/lib/File/Dropbox.pm line 487.
when is experimental at /tmp/loop_over_bdir-6543-K26K3w/File-Dropbox-0.5-CRtjuh/blib/lib/File/Dropbox.pm line 494.
when is experimental at /tmp/loop_over_bdir-6543-K26K3w/File-Dropbox-0.5-CRtjuh/blib/lib/File/Dropbox.pm line 500.
when is experimental at /tmp/loop_over_bdir-6543-K26K3w/File-Dropbox-0.5-CRtjuh/blib/lib/File/Dropbox.pm line 504.
given is experimental at /tmp/loop_over_bdir-6543-K26K3w/File-Dropbox-0.5-CRtjuh/blib/lib/File/Dropbox.pm line 561.
when is experimental at /tmp/loop_over_bdir-6543-K26K3w/File-Dropbox-0.5-CRtjuh/blib/lib/File/Dropbox.pm line 562.
when is experimental at /tmp/loop_over_bdir-6543-K26K3w/File-Dropbox-0.5-CRtjuh/blib/lib/File/Dropbox.pm line 567.
when is experimental at /tmp/loop_over_bdir-6543-K26K3w/File-Dropbox-0.5-CRtjuh/blib/lib/File/Dropbox.pm line 572.
when is experimental at /tmp/loop_over_bdir-6543-K26K3w/File-Dropbox-0.5-CRtjuh/blib/lib/File/Dropbox.pm line 579.
when is experimental at /tmp/loop_over_bdir-6543-K26K3w/File-Dropbox-0.5-CRtjuh/blib/lib/File/Dropbox.pm line 585.
when is experimental at /tmp/loop_over_bdir-6543-K26K3w/File-Dropbox-0.5-CRtjuh/blib/lib/File/Dropbox.pm line 590.
t/07-contents.t .. ok
given is experimental at /tmp/loop_over_bdir-6543-K26K3w/File-Dropbox-0.5-CRtjuh/blib/lib/File/Dropbox.pm line 93.
when is experimental at /tmp/loop_over_bdir-6543-K26K3w/File-Dropbox-0.5-CRtjuh/blib/lib/File/Dropbox.pm line 94.
when is experimental at /tmp/loop_over_bdir-6543-K26K3w/File-Dropbox-0.5-CRtjuh/blib/lib/File/Dropbox.pm line 96.
when is experimental at /tmp/loop_over_bdir-6543-K26K3w/File-Dropbox-0.5-CRtjuh/blib/lib/File/Dropbox.pm line 101.
when is experimental at /tmp/loop_over_bdir-6543-K26K3w/File-Dropbox-0.5-CRtjuh/blib/lib/File/Dropbox.pm line 108.
given is experimental at /tmp/loop_over_bdir-6543-K26K3w/File-Dropbox-0.5-CRtjuh/blib/lib/File/Dropbox.pm line 216.
when is experimental at /tmp/loop_over_bdir-6543-K26K3w/File-Dropbox-0.5-CRtjuh/blib/lib/File/Dropbox.pm line 217.
when is experimental at /tmp/loop_over_bdir-6543-K26K3w/File-Dropbox-0.5-CRtjuh/blib/lib/File/Dropbox.pm line 221.
when is experimental at /tmp/loop_over_bdir-6543-K26K3w/File-Dropbox-0.5-CRtjuh/blib/lib/File/Dropbox.pm line 225.
given is experimental at /tmp/loop_over_bdir-6543-K26K3w/File-Dropbox-0.5-CRtjuh/blib/lib/File/Dropbox.pm line 307.
when is experimental at /tmp/loop_over_bdir-6543-K26K3w/File-Dropbox-0.5-CRtjuh/blib/lib/File/Dropbox.pm line 308.
when is experimental at /tmp/loop_over_bdir-6543-K26K3w/File-Dropbox-0.5-CRtjuh/blib/lib/File/Dropbox.pm line 310.
when is experimental at /tmp/loop_over_bdir-6543-K26K3w/File-Dropbox-0.5-CRtjuh/blib/lib/File/Dropbox.pm line 314.
given is experimental at /tmp/loop_over_bdir-6543-K26K3w/File-Dropbox-0.5-CRtjuh/blib/lib/File/Dropbox.pm line 409.
when is experimental at /tmp/loop_over_bdir-6543-K26K3w/File-Dropbox-0.5-CRtjuh/blib/lib/File/Dropbox.pm line 410.
when is experimental at /tmp/loop_over_bdir-6543-K26K3w/File-Dropbox-0.5-CRtjuh/blib/lib/File/Dropbox.pm line 415.
when is experimental at /tmp/loop_over_bdir-6543-K26K3w/File-Dropbox-0.5-CRtjuh/blib/lib/File/Dropbox.pm line 420.
when is experimental at /tmp/loop_over_bdir-6543-K26K3w/File-Dropbox-0.5-CRtjuh/blib/lib/File/Dropbox.pm line 427.
when is experimental at /tmp/loop_over_bdir-6543-K26K3w/File-Dropbox-0.5-CRtjuh/blib/lib/File/Dropbox.pm line 433.
when is experimental at /tmp/loop_over_bdir-6543-K26K3w/File-Dropbox-0.5-CRtjuh/blib/lib/File/Dropbox.pm line 438.
given is experimental at /tmp/loop_over_bdir-6543-K26K3w/File-Dropbox-0.5-CRtjuh/blib/lib/File/Dropbox.pm line 471.
when is experimental at /tmp/loop_over_bdir-6543-K26K3w/File-Dropbox-0.5-CRtjuh/blib/lib/File/Dropbox.pm line 472.
when is experimental at /tmp/loop_over_bdir-6543-K26K3w/File-Dropbox-0.5-CRtjuh/blib/lib/File/Dropbox.pm line 477.
when is experimental at /tmp/loop_over_bdir-6543-K26K3w/File-Dropbox-0.5-CRtjuh/blib/lib/File/Dropbox.pm line 482.
when is experimental at /tmp/loop_over_bdir-6543-K26K3w/File-Dropbox-0.5-CRtjuh/blib/lib/File/Dropbox.pm line 487.
when is experimental at /tmp/loop_over_bdir-6543-K26K3w/File-Dropbox-0.5-CRtjuh/blib/lib/File/Dropbox.pm line 494.
when is experimental at /tmp/loop_over_bdir-6543-K26K3w/File-Dropbox-0.5-CRtjuh/blib/lib/File/Dropbox.pm line 500.
when is experimental at /tmp/loop_over_bdir-6543-K26K3w/File-Dropbox-0.5-CRtjuh/blib/lib/File/Dropbox.pm line 504.
given is experimental at /tmp/loop_over_bdir-6543-K26K3w/File-Dropbox-0.5-CRtjuh/blib/lib/File/Dropbox.pm line 561.
when is experimental at /tmp/loop_over_bdir-6543-K26K3w/File-Dropbox-0.5-CRtjuh/blib/lib/File/Dropbox.pm line 562.
when is experimental at /tmp/loop_over_bdir-6543-K26K3w/File-Dropbox-0.5-CRtjuh/blib/lib/File/Dropbox.pm line 567.
when is experimental at /tmp/loop_over_bdir-6543-K26K3w/File-Dropbox-0.5-CRtjuh/blib/lib/File/Dropbox.pm line 572.
when is experimental at /tmp/loop_over_bdir-6543-K26K3w/File-Dropbox-0.5-CRtjuh/blib/lib/File/Dropbox.pm line 579.
when is experimental at /tmp/loop_over_bdir-6543-K26K3w/File-Dropbox-0.5-CRtjuh/blib/lib/File/Dropbox.pm line 585.
when is experimental at /tmp/loop_over_bdir-6543-K26K3w/File-Dropbox-0.5-CRtjuh/blib/lib/File/Dropbox.pm line 590.
t/08-timeout.t ... skipped: DROPBOX_TIMEOUT is not set
All tests successful.
Files=8, Tests=216,  1 wallclock secs ( 0.05 usr  0.01 sys +  0.87 cusr  0.07 csys =  1.00 CPU)
Result: PASS

------------------------------
PREREQUISITES
------------------------------

Prerequisite modules loaded:

requires:

    Module          Need Have  
    --------------- ---- ------
    Furl            2.16 3.00  
    IO::Socket::SSL 1.4  1.962 
    JSON            2.0  2.90  
    Net::DNS::Lite  0.1  0.11  

configure_requires:

    Module          Need Have  
    --------------- ---- ------
    Module::Build   0.40 0.4203


------------------------------
ENVIRONMENT AND OTHER CONTEXT
------------------------------

Environment variables:

    AUTOMATED_TESTING = 1
    LANG = en_US.UTF-8
    LANGUAGE = en_US:en
    PATH = /usr/lib/ccache:/home/sand/bin:/usr/local/bin:/usr/bin:/bin:/usr/bin/X11:/usr/games:/usr/local/perl/bin:/usr/X11/bin:/sbin:/usr/sbin
    PERL5LIB = 
    PERL5OPT = 
    PERL5_CPANPLUS_IS_RUNNING = 30387
    PERL5_CPAN_IS_RUNNING = 30387
    PERL_MM_USE_DEFAULT = 1
    SHELL = /usr/bin/zsh
    TERM = screen

Perl special variables (and OS-specific diagnostics, for MSWin32):

    $^X = /tmp/basesmoker-reloperl-KbuH/bin/perl
    $UID/$EUID = 1005 / 1005
    $GID = 1005 1005
    $EGID = 1005 1005

Perl module toolchain versions installed:

    Module              Have    
    ------------------- --------
    CPAN                2.00    
    CPAN::Meta          2.133380
    Cwd                 3.45    
    ExtUtils::CBuilder  0.280212
    ExtUtils::Command   1.18    
    ExtUtils::Install   1.61    
    ExtUtils::MakeMaker 6.84    
    ExtUtils::Manifest  1.63    
    ExtUtils::ParseXS   3.23    
    File::Spec          3.45    
    JSON                2.90    
    JSON::PP            2.27203 
    Module::Build       0.4203  
    Module::Signature   0.73    
    Parse::CPAN::Meta   1.4409  
    Test::Harness       3.30    
    Test::More          1.001002
    YAML                0.88    
    YAML::Syck          1.27    
    version             0.9904  


--

Summary of my perl5 (revision 5 version 19 subversion 7) configuration:
  Commit id: 03c702c586f1fb2150cb74f4f80ee07b7adcfce6
  Platform:
    osname=linux, osvers=3.10-3-amd64, archname=x86_64-linux-ld
    uname='linux k83 3.10-3-amd64 #1 smp debian 3.10.11-1 (2013-09-10) x86_64 gnulinux '
    config_args='-Dprefix=/home/sand/src/perl/repoperls/installed-perls/perl/v5.19.6-199-g03c702c/127e -Dmyhostname=k83 -Dinstallusrbinperl=n -Uversiononly -Dusedevel -des -Ui_db -Uuseithreads -Duselongdouble -DDEBUGGING=-g'
    hint=recommended, useposix=true, d_sigaction=define
    useithreads=undef, usemultiplicity=undef
    useperlio=define, d_sfio=undef, uselargefiles=define, usesocks=undef
    use64bitint=define, use64bitall=define, uselongdouble=define
    usemymalloc=n, bincompat5005=undef
  Compiler:
    cc='cc', ccflags ='-fno-strict-aliasing -pipe -fstack-protector -I/usr/local/include -D_LARGEFILE_SOURCE -D_FILE_OFFSET_BITS=64',
    optimize='-O2 -g',
    cppflags='-fno-strict-aliasing -pipe -fstack-protector -I/usr/local/include'
    ccversion='', gccversion='4.8.2', gccosandvers=''
    intsize=4, longsize=8, ptrsize=8, doublesize=8, byteorder=12345678
    d_longlong=define, longlongsize=8, d_longdbl=define, longdblsize=16
    ivtype='long', ivsize=8, nvtype='long double', nvsize=16, Off_t='off_t', lseeksize=8
    alignbytes=16, prototype=define
  Linker and Libraries:
    ld='cc', ldflags =' -fstack-protector -L/usr/local/lib'
    libpth=/usr/local/lib /lib/x86_64-linux-gnu /lib/../lib /usr/lib/x86_64-linux-gnu /usr/lib/../lib /lib /usr/lib
    libs=-lnsl -lgdbm -ldb -ldl -lm -lcrypt -lutil -lc -lgdbm_compat
    perllibs=-lnsl -ldl -lm -lcrypt -lutil -lc
    libc=, so=so, useshrplib=false, libperl=libperl.a
    gnulibc_version='2.17'
  Dynamic Linking:
    dlsrc=dl_dlopen.xs, dlext=so, d_dlsymun=undef, ccdlflags='-Wl,-E'
    cccdlflags='-fPIC', lddlflags='-shared -O2 -g -L/usr/local/lib -fstack-protector'


Characteristics of this binary (from libperl): 
  Compile-time options: HAS_TIMES PERLIO_LAYERS PERL_DONT_CREATE_GVSV
                        PERL_HASH_FUNC_ONE_AT_A_TIME_HARD PERL_MALLOC_WRAP
                        PERL_NEW_COPY_ON_WRITE PERL_PRESERVE_IVUV
                        PERL_USE_DEVEL USE_64_BIT_ALL USE_64_BIT_INT
                        USE_LARGE_FILES USE_LOCALE USE_LOCALE_COLLATE
                        USE_LOCALE_CTYPE USE_LOCALE_NUMERIC USE_LONG_DOUBLE
                        USE_PERLIO USE_PERL_ATOF
  Built under linux
  Compiled at Dec 17 2013 16:42:54
  %ENV:
    PERL5LIB=""
    PERL5OPT=""
    PERL5_CPANPLUS_IS_RUNNING="30387"
    PERL5_CPAN_IS_RUNNING="30387"
    PERL_MM_USE_DEFAULT="1"
  @INC:
    /home/sand/src/perl/repoperls/installed-perls/perl/v5.19.6-199-g03c702c/127e/lib/site_perl/5.19.7/x86_64-linux-ld
    /home/sand/src/perl/repoperls/installed-perls/perl/v5.19.6-199-g03c702c/127e/lib/site_perl/5.19.7
    /home/sand/src/perl/repoperls/installed-perls/perl/v5.19.6-199-g03c702c/127e/lib/5.19.7/x86_64-linux-ld
    /home/sand/src/perl/repoperls/installed-perls/perl/v5.19.6-199-g03c702c/127e/lib/5.19.7
    .