Back
From: metabase:user:0d96120c-29e2-11e5-b049-ede3035d37de
Subject: PASS MooseX-Getopt-Defanged-v1.18.0 v5.23.1 SunOS/Solaris
Date: 2015-08-06T02:19:26Z
This distribution has been tested as part of the CPAN Testers
project, supporting the Perl programming language. See
http://wiki.cpantesters.org/ for more information or email
questions to cpan-testers-discuss@perl.org
--
Dear Elliot Shank,
This is a computer-generated report for MooseX-Getopt-Defanged-v1.18.0
on perl 5.23.1, created by CPAN-Reporter-1.2015.
Thank you for uploading your work to CPAN. Congratulations!
All tests were successful.
Sections of this report:
* Tester comments
* Program output
* Prerequisites
* Environment and other context
------------------------------
TESTER COMMENTS
------------------------------
Additional comments from tester:
this report is from an automated smoke testing program
and was not reviewed by a human for accuracy
CPU : Intel(r) Xeon(r) CPU E5-1650 v3 @ 3.50GHz
MEMORY : 8.00 GB
ARCH : i86pc
OS : Solaris 5.11
KERNEL : SunOS 5.11
VIRTUALIZATION : virtualbox
------------------------------
PROGRAM OUTPUT
------------------------------
Output from './Build test':
Passing a list of values to enum is deprecated. Enum values should be wrapped in an arrayref. at /export/home/jmaslak/.cpan/build/Test-Compile-v1.2.1-SNAZpQ/blib/lib/Test/Compile/Internal.pm line 198.
eval '
#line 198 "/export/home/jmaslak/.cpan/build/Test-Compile-v1.2.1-SNAZpQ/blib/lib/Test/Compile/Internal.pm"
CORE::require($file);
' called at /export/home/jmaslak/.cpan/build/UNIVERSAL-require-0.18-ZmsdUM/blib/lib/UNIVERSAL/require.pm line 99
UNIVERSAL::require("MooseX::Getopt::Defanged::Meta::Attribute::Trait::_Getopt") called at /export/home/jmaslak/.cpan/build/Test-Compile-v1.2.1-SNAZpQ/blib/lib/Test/Compile/Internal.pm line 198
Test::Compile::Internal::__ANON__() called at /export/home/jmaslak/.cpan/build/Test-Compile-v1.2.1-SNAZpQ/blib/lib/Test/Compile/Internal.pm line 317
Test::Compile::Internal::_run_closure(Test::Compile::Internal=HASH(0x834fbc8), CODE(0x8221878)) called at /export/home/jmaslak/.cpan/build/Test-Compile-v1.2.1-SNAZpQ/blib/lib/Test/Compile/Internal.pm line 209
Test::Compile::Internal::pm_file_compiles(Test::Compile::Internal=HASH(0x834fbc8), "blib/lib/MooseX/Getopt/Defanged/Meta/Attribute/Trait/_Getopt.pm") called at /export/home/jmaslak/.cpan/build/Test-Compile-v1.2.1-SNAZpQ/blib/lib/Test/Compile.pm line 272
Test::Compile::pm_file_ok("blib/lib/MooseX/Getopt/Defanged/Meta/Attribute/Trait/_Getopt.pm") called at /export/home/jmaslak/.cpan/build/Test-Compile-v1.2.1-SNAZpQ/blib/lib/Test/Compile.pm line 214
Test::Compile::all_pm_files_ok() called at t/00-use-ok.t line 15
t/00-use-ok.t ..................... ok
Passing a list of values to enum is deprecated. Enum values should be wrapped in an arrayref. at /export/home/jmaslak/perl5/perlbrew/perls/perl-5.23.1/lib/site_perl/5.23.1/Module/Runtime.pm line 317.
Module::Runtime::require_module("MooseX::Getopt::Defanged::Meta::Attribute::Trait::_Getopt") called at /export/home/jmaslak/perl5/perlbrew/perls/perl-5.23.1/lib/site_perl/5.23.1/Module/Runtime.pm line 381
eval {...} called at /export/home/jmaslak/perl5/perlbrew/perls/perl-5.23.1/lib/site_perl/5.23.1/Module/Runtime.pm line 381
Module::Runtime::use_package_optimistically("MooseX::Getopt::Defanged::Meta::Attribute::Trait::_Getopt") called at /export/home/jmaslak/perl5/perlbrew/perls/perl-5.23.1/lib/site_perl/5.23.1/i86pc-solaris/Moose/Util.pm line 239
Moose::Util::resolve_metaclass_alias("Attribute", "MooseX::Getopt::Defanged::Meta::Attribute::Trait::_Getopt", "trait", 1) called at /export/home/jmaslak/perl5/perlbrew/perls/perl-5.23.1/lib/site_perl/5.23.1/i86pc-solaris/Moose/Util.pm line 211
Moose::Util::resolve_metatrait_alias("Attribute", "MooseX::Getopt::Defanged::Meta::Attribute::Trait::_Getopt") called at /export/home/jmaslak/perl5/perlbrew/perls/perl-5.23.1/lib/site_perl/5.23.1/i86pc-solaris/Moose/Meta/Attribute.pm line 38
Moose::Meta::Attribute::try {...} () called at /export/home/jmaslak/perl5/perlbrew/perls/perl-5.23.1/lib/site_perl/5.23.1/Try/Tiny.pm line 79
eval {...} called at /export/home/jmaslak/perl5/perlbrew/perls/perl-5.23.1/lib/site_perl/5.23.1/Try/Tiny.pm line 72
Try::Tiny::try(CODE(0x8f9e2b8)) called at /export/home/jmaslak/perl5/perlbrew/perls/perl-5.23.1/lib/site_perl/5.23.1/i86pc-solaris/Moose/Meta/Attribute.pm line 39
Moose::Meta::Attribute::does(Moose::Meta::Attribute=HASH(0x8f943b8), "MooseX::Getopt::Defanged::Meta::Attribute::Trait::_Getopt") called at /export/home/jmaslak/.cpan/build/MooseX-Getopt-Defanged-v1.18.0-4dLOY2/blib/lib/MooseX/Getopt/Defanged.pm line 63
MooseX::Getopt::Defanged::_getopt_get_option_attributes(MooseX::Getopt::Defanged::MinimalConsumer=HASH(0x8f98888)) called at /export/home/jmaslak/.cpan/build/MooseX-Getopt-Defanged-v1.18.0-4dLOY2/blib/lib/MooseX/Getopt/Defanged.pm line 95
MooseX::Getopt::Defanged::_getopt_invoke_getopt_long(MooseX::Getopt::Defanged::MinimalConsumer=HASH(0x8f98888), ARRAY(0x8f825a8)) called at /export/home/jmaslak/.cpan/build/MooseX-Getopt-Defanged-v1.18.0-4dLOY2/blib/lib/MooseX/Getopt/Defanged.pm line 48
MooseX::Getopt::Defanged::parse_command_line(MooseX::Getopt::Defanged::MinimalConsumer=HASH(0x8f98888), ARRAY(0x8f825a8)) called at t/getopt.t line 149
MooseX::Getopt::Defanged::Test::test_3_can_parse_command_line_for_minimal_consumer(MooseX::Getopt::Defanged::Test=HASH(0x8f51280)) called at /export/home/jmaslak/perl5/perlbrew/perls/perl-5.23.1/lib/site_perl/5.23.1/Test/Class.pm line 293
Test::Class::try {...} () called at /export/home/jmaslak/perl5/perlbrew/perls/perl-5.23.1/lib/site_perl/5.23.1/Try/Tiny.pm line 79
eval {...} called at /export/home/jmaslak/perl5/perlbrew/perls/perl-5.23.1/lib/site_perl/5.23.1/Try/Tiny.pm line 72
Try::Tiny::try(CODE(0x8f82578), Try::Tiny::Catch=REF(0x8f9dc18)) called at /export/home/jmaslak/perl5/perlbrew/perls/perl-5.23.1/lib/site_perl/5.23.1/Test/Class.pm line 293
Test::Class::_run_method(MooseX::Getopt::Defanged::Test=HASH(0x8f51280), "test_3_can_parse_command_line_for_minimal_consumer", ARRAY(0x8446060)) called at /export/home/jmaslak/perl5/perlbrew/perls/perl-5.23.1/lib/site_perl/5.23.1/Test/Class.pm line 395
Test::Class::runtests("MooseX::Getopt::Defanged::Test") called at t/getopt.t line 113
t/getopt.t ........................ ok
Passing a list of values to enum is deprecated. Enum values should be wrapped in an arrayref. at /export/home/jmaslak/perl5/perlbrew/perls/perl-5.23.1/lib/site_perl/5.23.1/Module/Runtime.pm line 317.
Module::Runtime::require_module("MooseX::Getopt::Defanged::Meta::Attribute::Trait::_Getopt") called at /export/home/jmaslak/perl5/perlbrew/perls/perl-5.23.1/lib/site_perl/5.23.1/Module/Runtime.pm line 381
eval {...} called at /export/home/jmaslak/perl5/perlbrew/perls/perl-5.23.1/lib/site_perl/5.23.1/Module/Runtime.pm line 381
Module::Runtime::use_package_optimistically("MooseX::Getopt::Defanged::Meta::Attribute::Trait::_Getopt") called at /export/home/jmaslak/perl5/perlbrew/perls/perl-5.23.1/lib/site_perl/5.23.1/i86pc-solaris/Moose/Util.pm line 239
Moose::Util::resolve_metaclass_alias("Attribute", "MooseX::Getopt::Defanged::Meta::Attribute::Trait::_Getopt", "trait", 1) called at /export/home/jmaslak/perl5/perlbrew/perls/perl-5.23.1/lib/site_perl/5.23.1/i86pc-solaris/Moose/Util.pm line 211
Moose::Util::resolve_metatrait_alias("Attribute", "MooseX::Getopt::Defanged::Meta::Attribute::Trait::_Getopt") called at /export/home/jmaslak/perl5/perlbrew/perls/perl-5.23.1/lib/site_perl/5.23.1/i86pc-solaris/Moose/Meta/Attribute.pm line 38
Moose::Meta::Attribute::try {...} () called at /export/home/jmaslak/perl5/perlbrew/perls/perl-5.23.1/lib/site_perl/5.23.1/Try/Tiny.pm line 79
eval {...} called at /export/home/jmaslak/perl5/perlbrew/perls/perl-5.23.1/lib/site_perl/5.23.1/Try/Tiny.pm line 72
Try::Tiny::try(CODE(0x8b4fa50)) called at /export/home/jmaslak/perl5/perlbrew/perls/perl-5.23.1/lib/site_perl/5.23.1/i86pc-solaris/Moose/Meta/Attribute.pm line 39
Moose::Meta::Attribute::does("Moose::Meta::Attribute", "MooseX::Getopt::Defanged::Meta::Attribute::Trait::_Getopt") called at /export/home/jmaslak/perl5/perlbrew/perls/perl-5.23.1/lib/site_perl/5.23.1/i86pc-solaris/Moose/Meta/Attribute.pm line 132
Moose::Meta::Attribute::interpolate_class("Moose::Meta::Attribute", HASH(0x8933b30)) called at /export/home/jmaslak/perl5/perlbrew/perls/perl-5.23.1/lib/site_perl/5.23.1/i86pc-solaris/Moose/Meta/Attribute.pm line 98
Moose::Meta::Attribute::interpolate_class_and_new("Moose::Meta::Attribute", "test3", "definition_context", HASH(0x8e520f8), "traits", ARRAY(0x8a700f0), "is", "ro", "isa", ...) called at /export/home/jmaslak/perl5/perlbrew/perls/perl-5.23.1/lib/site_perl/5.23.1/i86pc-solaris/Moose/Meta/Class.pm line 712
Moose::Meta::Class::_process_new_attribute(Moose::Meta::Class=HASH(0x8a6fab0), "test3", "definition_context", HASH(0x8e520f8), "traits", ARRAY(0x8a700f0), "is", "ro", "isa", ...) called at /export/home/jmaslak/perl5/perlbrew/perls/perl-5.23.1/lib/site_perl/5.23.1/i86pc-solaris/Moose/Meta/Class.pm line 705
Moose::Meta::Class::_process_attribute(Moose::Meta::Class=HASH(0x8a6fab0), "test3", "definition_context", HASH(0x8e520f8), "traits", ARRAY(0x8a700f0), "is", "ro", "isa", ...) called at /export/home/jmaslak/perl5/perlbrew/perls/perl-5.23.1/lib/site_perl/5.23.1/i86pc-solaris/Moose/Meta/Class.pm line 569
Moose::Meta::Class::add_attribute(Moose::Meta::Class=HASH(0x8a6fab0), "test3", "definition_context", HASH(0x8e520f8), "traits", ARRAY(0x8a700f0), "is", "ro", "isa", ...) called at /export/home/jmaslak/perl5/perlbrew/perls/perl-5.23.1/lib/site_perl/5.23.1/i86pc-solaris/Moose.pm line 76
Moose::has(Moose::Meta::Class=HASH(0x8a6fab0), "test3", "traits", ARRAY(0x8a700f0), "is", "ro", "isa", "Str") called at /export/home/jmaslak/perl5/perlbrew/perls/perl-5.23.1/lib/site_perl/5.23.1/i86pc-solaris/Moose/Exporter.pm line 419
Moose::has("test3", "traits", ARRAY(0x8a700f0), "is", "ro", "isa", "Str") called at t/inheritance.d/lib/MooseX/Getopt/Defanged/BaseClass.pm line 13
require MooseX/Getopt/Defanged/BaseClass.pm called at /export/home/jmaslak/perl5/perlbrew/perls/perl-5.23.1/lib/site_perl/5.23.1/Module/Runtime.pm line 317
Module::Runtime::require_module("MooseX::Getopt::Defanged::BaseClass") called at /export/home/jmaslak/perl5/perlbrew/perls/perl-5.23.1/lib/site_perl/5.23.1/Module/Runtime.pm line 381
eval {...} called at /export/home/jmaslak/perl5/perlbrew/perls/perl-5.23.1/lib/site_perl/5.23.1/Module/Runtime.pm line 381
Module::Runtime::use_package_optimistically("MooseX::Getopt::Defanged::BaseClass") called at /export/home/jmaslak/perl5/perlbrew/perls/perl-5.23.1/lib/site_perl/5.23.1/i86pc-solaris/Moose/Util.pm line 352
Moose::Util::_load_user_class("MooseX::Getopt::Defanged::BaseClass", undef) called at /export/home/jmaslak/perl5/perlbrew/perls/perl-5.23.1/lib/site_perl/5.23.1/i86pc-solaris/Moose/Meta/Class.pm line 557
Moose::Meta::Class::superclasses(undef, "MooseX::Getopt::Defanged::BaseClass") called at /export/home/jmaslak/perl5/perlbrew/perls/perl-5.23.1/lib/site_perl/5.23.1/i86pc-solaris/Moose.pm line 55
Moose::extends(Moose::Meta::Class=HASH(0x8a603a0), "MooseX::Getopt::Defanged::BaseClass") called at /export/home/jmaslak/perl5/perlbrew/perls/perl-5.23.1/lib/site_perl/5.23.1/i86pc-solaris/Moose/Exporter.pm line 419
Moose::extends("MooseX::Getopt::Defanged::BaseClass") called at t/inheritance.d/lib/MooseX/Getopt/Defanged/SubClass.pm line 11
require MooseX/Getopt/Defanged/SubClass.pm called at t/inheritance.t line 22
main::BEGIN() called at /export/home/jmaslak/.cpan/build/MooseX-Getopt-Defanged-v1.18.0-4dLOY2/blib/lib/MooseX/Getopt/Defanged/Meta/Attribute/Trait/_Getopt.pm line 0
eval {...} called at /export/home/jmaslak/.cpan/build/MooseX-Getopt-Defanged-v1.18.0-4dLOY2/blib/lib/MooseX/Getopt/Defanged/Meta/Attribute/Trait/_Getopt.pm line 0
t/inheritance.t ................... ok
Passing a list of values to enum is deprecated. Enum values should be wrapped in an arrayref. at /export/home/jmaslak/.cpan/build/MooseX-Getopt-Defanged-v1.18.0-4dLOY2/blib/lib/MooseX/Getopt/Defanged/Meta/Attribute/Trait/_Getopt.pm line 0.
eval {...} called at /export/home/jmaslak/.cpan/build/MooseX-Getopt-Defanged-v1.18.0-4dLOY2/blib/lib/MooseX/Getopt/Defanged/Meta/Attribute/Trait/_Getopt.pm line 0
t/meta-attribute-trait-_getopt.t .. ok
All tests successful.
Files=4, Tests=380, 3 wallclock secs ( 0.07 usr 0.05 sys + 2.05 cusr 1.03 csys = 3.20 CPU)
Result: PASS
------------------------------
PREREQUISITES
------------------------------
Prerequisite modules loaded:
requires:
Module Need Have
----------------------------------- ---- --------
autodie 0 2.29
English 0 1.09
Exception::Class 0 1.39
Exporter 0 5.72
Getopt::Long 0 2.47
Moose 0.92 2.1405
Moose::Role 0.92 2.1405
Moose::Util::TypeConstraints 0.92 2.1405
MooseX::Accessors::ReadWritePrivate 0 v1.4.0
MooseX::AttributeHelpers 0.2 0.23
MooseX::StrictConstructor 0.08 0.19
Readonly 0 2.00
Scalar::Util 0 1.42_01
strict 0 1.09
utf8 0 1.17
version 0 0.9909
warnings 0 1.33
build_requires:
Module Need Have
----------------------------------- ---- --------
Carp 0 1.36
File::Spec::Functions 0 3.56
lib 0 0.63
overload 0 1.26
parent 0 0.234
Test::Class 0 0.50
Test::Compile 0 v1.2.1
Test::Deep 0 0.117
Test::Exception 0 0.40
Test::Moose 0 2.1405
Test::More 0.88 1.001014
configure_requires:
Module Need Have
----------------------------------- ---- --------
Module::Build 0.33 0.4214
opt_requires:
Module Need Have
----------------------------------- ---- --------
Readonly::XS 0 1.05
------------------------------
ENVIRONMENT AND OTHER CONTEXT
------------------------------
Environment variables:
AUTOMATED_TESTING = 1
LANG = en_US.UTF-8
LC_ALL =
LC_COLLATE =
LC_CTYPE =
LC_MESSAGES =
LC_MONETARY =
LC_NUMERIC =
LC_TIME =
NONINTERACTIVE_TESTING = 1
PATH = /export/home/jmaslak/perl5/perlbrew/bin:/export/home/jmaslak/perl5/perlbrew/perls/perl-5.23.1/bin:/export/home/jmaslak/perltest/bin:/export/home/jmaslak/perltest/bin:/export/home/jmaslak/perltest/bin:/export/home/jmaslak/bin:~/bin:/export/home/jmaslak/perl5/perlbrew/bin:/export/home/jmaslak/perl5/perlbrew/perls/perl-5.23.1/bin:/usr/bin:/bin:/usr/ccs/bin:/usr/sbin:/usr/ccs/bin:/opt/solarisstudio12.4/bin:/usr/ucb:~/perltest/bin
PERL5LIB = /export/home/jmaslak/.cpan/build/Readonly-XS-1.05-2JJ2pR/blib/arch:/export/home/jmaslak/.cpan/build/Readonly-XS-1.05-2JJ2pR/blib/lib:/export/home/jmaslak/.cpan/build/MooseX-AttributeHelpers-0.23-kys2GJ/blib/arch:/export/home/jmaslak/.cpan/build/MooseX-AttributeHelpers-0.23-kys2GJ/blib/lib:/export/home/jmaslak/.cpan/build/Devel-CheckOS-1.76-7fSqv5/blib/arch:/export/home/jmaslak/.cpan/build/Devel-CheckOS-1.76-7fSqv5/blib/lib:/export/home/jmaslak/.cpan/build/Test-Compile-v1.2.1-SNAZpQ/blib/arch:/export/home/jmaslak/.cpan/build/Test-Compile-v1.2.1-SNAZpQ/blib/lib:/export/home/jmaslak/.cpan/build/UNIVERSAL-require-0.18-ZmsdUM/blib/arch:/export/home/jmaslak/.cpan/build/UNIVERSAL-require-0.18-ZmsdUM/blib/lib:/export/home/jmaslak/.cpan/build/MooseX-Accessors-ReadWritePrivate-v1.4.0-8tVKnW/blib/arch:/export/home/jmaslak/.cpan/build/MooseX-Accessors-ReadWritePrivate-v1.4.0-8tVKnW/blib/lib:/export/home/jmaslak/.cpan/build/MooseX-StrictConstructor-0.19-B1Piml/blib/arch:/export/home/jmaslak/.cpan/build/MooseX-StrictConstructor-0.19-B1Piml/blib/lib
PERL5OPT =
PERL5_CPANPLUS_IS_RUNNING = 28686
PERL5_CPAN_IS_RUNNING = 28686
PERL5_CPAN_IS_RUNNING_IN_RECURSION = 10640,28686
PERLBREW_BASHRC_VERSION = 0.73
PERLBREW_HOME = /export/home/jmaslak/.perlbrew
PERLBREW_LIB =
PERLBREW_MANPATH = /export/home/jmaslak/perl5/perlbrew/perls/perl-5.23.1/man
PERLBREW_PATH = /export/home/jmaslak/perl5/perlbrew/bin:/export/home/jmaslak/perl5/perlbrew/perls/perl-5.23.1/bin
PERLBREW_PERL = perl-5.23.1
PERLBREW_ROOT = /export/home/jmaslak/perl5/perlbrew
PERLBREW_VERSION = 0.73
PERL_CR_SMOKER_CURRENT = MooseX-Getopt-Defanged-v1.18.0
PERL_EXTUTILS_AUTOINSTALL = --defaultdeps
PERL_LOCAL_LIB_ROOT =
PERL_MM_USE_DEFAULT = 1
SHELL = /usr/bin/bash
TERM = screen
Perl special variables (and OS-specific diagnostics, for MSWin32):
$^X = /export/home/jmaslak/perl5/perlbrew/perls/perl-5.23.1/bin/perl5.23.1
$UID/$EUID = 100 / 100
$GID = 10 10
$EGID = 10 10
Perl module toolchain versions installed:
Module Have
------------------- --------
CPAN 2.11
CPAN::Meta 2.150005
Cwd 3.56
ExtUtils::CBuilder 0.280223
ExtUtils::Command 1.20
ExtUtils::Install 2.04
ExtUtils::MakeMaker 7.04_01
ExtUtils::Manifest 1.70
ExtUtils::ParseXS 3.28
File::Spec 3.56
JSON 2.90
JSON::PP 2.27300
Module::Build 0.4214
Module::Signature n/a
Parse::CPAN::Meta 1.4417
Test::Harness 3.35
Test::More 1.001014
YAML 1.15
YAML::Syck n/a
version 0.9909
--
Summary of my perl5 (revision 5 version 23 subversion 1) configuration:
Platform:
osname=solaris, osvers=2.11, archname=i86pc-solaris
uname='sunos solaris.antelope.net 5.11 11.2 i86pc i386 i86pc '
config_args='-de -Dprefix=/export/home/jmaslak/perl5/perlbrew/perls/perl-5.23.1 -Dusedevel -Aeval:scriptdir=/export/home/jmaslak/perl5/perlbrew/perls/perl-5.23.1/bin'
hint=recommended, useposix=true, d_sigaction=define
useithreads=undef, usemultiplicity=undef
use64bitint=undef, use64bitall=undef, uselongdouble=undef
usemymalloc=n, bincompat5005=undef
Compiler:
cc='/opt/solarisstudio12.4/bin/cc', ccflags ='-I/usr/gnu/include -D_LARGEFILE_SOURCE -D_FILE_OFFSET_BITS=64 -DPERL_USE_SAFE_PUTENV',
optimize='-O',
cppflags='-I/usr/gnu/include'
ccversion='Sun C 5.13 SunOS_i386 2014/10/20', gccversion='', gccosandvers=''
intsize=4, longsize=4, ptrsize=4, doublesize=8, byteorder=1234, doublekind=3
d_longlong=define, longlongsize=8, d_longdbl=define, longdblsize=12, longdblkind=3
ivtype='long', ivsize=4, nvtype='double', nvsize=8, Off_t='off_t', lseeksize=8
alignbytes=4, prototype=define
Linker and Libraries:
ld='/opt/solarisstudio12.4/bin/cc', ldflags =' -L/usr/lib -L/usr/ccs/lib -L/opt/solarisstudio12.4/lib/compilers/staticlib -L/opt/solarisstudio12.4/lib/compilers/sse2 -L/opt/solarisstudio12.4/lib/compilers -L/lib -L/usr/gnu/lib '
libpth=/usr/lib /usr/ccs/lib /opt/solarisstudio12.4/lib/compilers/staticlib /opt/solarisstudio12.4/lib/compilers/sse2 /opt/solarisstudio12.4/lib/compilers /lib /usr/gnu/lib
libs=-lpthread -lsocket -lnsl -lgdbm -ldb -ldl -lm -lc
perllibs=-lpthread -lsocket -lnsl -ldl -lm -lc
libc=/lib/libc.so, so=so, useshrplib=false, libperl=libperl.a
gnulibc_version=''
Dynamic Linking:
dlsrc=dl_dlopen.xs, dlext=so, d_dlsymun=undef, ccdlflags=' '
cccdlflags='-KPIC', lddlflags='-G -L/usr/lib -L/usr/ccs/lib -L/opt/solarisstudio12.4/lib/compilers/staticlib -L/opt/solarisstudio12.4/lib/compilers/sse2 -L/opt/solarisstudio12.4/lib/compilers -L/lib -L/usr/gnu/lib'
Characteristics of this binary (from libperl):
Compile-time options: HAS_TIMES PERLIO_LAYERS PERL_COPY_ON_WRITE
PERL_DONT_CREATE_GVSV
PERL_HASH_FUNC_ONE_AT_A_TIME_HARD PERL_MALLOC_WRAP
PERL_PRESERVE_IVUV PERL_USE_DEVEL
PERL_USE_SAFE_PUTENV USE_LARGE_FILES USE_LOCALE
USE_LOCALE_COLLATE USE_LOCALE_CTYPE
USE_LOCALE_NUMERIC USE_LOCALE_TIME USE_PERLIO
USE_PERL_ATOF
Locally applied patches:
Devel::PatchPerl 1.38
Built under solaris
Compiled at Jul 24 2015 23:51:02
%ENV:
PERL5LIB="/export/home/jmaslak/.cpan/build/Readonly-XS-1.05-2JJ2pR/blib/arch:/export/home/jmaslak/.cpan/build/Readonly-XS-1.05-2JJ2pR/blib/lib:/export/home/jmaslak/.cpan/build/MooseX-AttributeHelpers-0.23-kys2GJ/blib/arch:/export/home/jmaslak/.cpan/build/MooseX-AttributeHelpers-0.23-kys2GJ/blib/lib:/export/home/jmaslak/.cpan/build/Devel-CheckOS-1.76-7fSqv5/blib/arch:/export/home/jmaslak/.cpan/build/Devel-CheckOS-1.76-7fSqv5/blib/lib:/export/home/jmaslak/.cpan/build/Test-Compile-v1.2.1-SNAZpQ/blib/arch:/export/home/jmaslak/.cpan/build/Test-Compile-v1.2.1-SNAZpQ/blib/lib:/export/home/jmaslak/.cpan/build/UNIVERSAL-require-0.18-ZmsdUM/blib/arch:/export/home/jmaslak/.cpan/build/UNIVERSAL-require-0.18-ZmsdUM/blib/lib:/export/home/jmaslak/.cpan/build/MooseX-Accessors-ReadWritePrivate-v1.4.0-8tVKnW/blib/arch:/export/home/jmaslak/.cpan/build/MooseX-Accessors-ReadWritePrivate-v1.4.0-8tVKnW/blib/lib:/export/home/jmaslak/.cpan/build/MooseX-StrictConstructor-0.19-B1Piml/blib/arch:/export/home/jmaslak/.cpan/build/MooseX-StrictConstructor-0.19-B1Piml/blib/lib"
PERL5OPT=""
PERL5_CPANPLUS_IS_RUNNING="28686"
PERL5_CPAN_IS_RUNNING="28686"
PERL5_CPAN_IS_RUNNING_IN_RECURSION="10640,28686"
PERLBREW_BASHRC_VERSION="0.73"
PERLBREW_HOME="/export/home/jmaslak/.perlbrew"
PERLBREW_LIB=""
PERLBREW_MANPATH="/export/home/jmaslak/perl5/perlbrew/perls/perl-5.23.1/man"
PERLBREW_PATH="/export/home/jmaslak/perl5/perlbrew/bin:/export/home/jmaslak/perl5/perlbrew/perls/perl-5.23.1/bin"
PERLBREW_PERL="perl-5.23.1"
PERLBREW_ROOT="/export/home/jmaslak/perl5/perlbrew"
PERLBREW_VERSION="0.73"
PERL_CR_SMOKER_CURRENT="MooseX-Getopt-Defanged-v1.18.0"
PERL_EXTUTILS_AUTOINSTALL="--defaultdeps"
PERL_LOCAL_LIB_ROOT=""
PERL_MM_USE_DEFAULT="1"
@INC:
/export/home/jmaslak/.cpan/build/Readonly-XS-1.05-2JJ2pR/blib/arch
/export/home/jmaslak/.cpan/build/Readonly-XS-1.05-2JJ2pR/blib/lib
/export/home/jmaslak/.cpan/build/MooseX-AttributeHelpers-0.23-kys2GJ/blib/arch
/export/home/jmaslak/.cpan/build/MooseX-AttributeHelpers-0.23-kys2GJ/blib/lib
/export/home/jmaslak/.cpan/build/Devel-CheckOS-1.76-7fSqv5/blib/arch
/export/home/jmaslak/.cpan/build/Devel-CheckOS-1.76-7fSqv5/blib/lib
/export/home/jmaslak/.cpan/build/Test-Compile-v1.2.1-SNAZpQ/blib/arch
/export/home/jmaslak/.cpan/build/Test-Compile-v1.2.1-SNAZpQ/blib/lib
/export/home/jmaslak/.cpan/build/UNIVERSAL-require-0.18-ZmsdUM/blib/arch
/export/home/jmaslak/.cpan/build/UNIVERSAL-require-0.18-ZmsdUM/blib/lib
/export/home/jmaslak/.cpan/build/MooseX-Accessors-ReadWritePrivate-v1.4.0-8tVKnW/blib/arch
/export/home/jmaslak/.cpan/build/MooseX-Accessors-ReadWritePrivate-v1.4.0-8tVKnW/blib/lib
/export/home/jmaslak/.cpan/build/MooseX-StrictConstructor-0.19-B1Piml/blib/arch
/export/home/jmaslak/.cpan/build/MooseX-StrictConstructor-0.19-B1Piml/blib/lib
/export/home/jmaslak/perl5/perlbrew/perls/perl-5.23.1/lib/site_perl/5.23.1/i86pc-solaris
/export/home/jmaslak/perl5/perlbrew/perls/perl-5.23.1/lib/site_perl/5.23.1
/export/home/jmaslak/perl5/perlbrew/perls/perl-5.23.1/lib/5.23.1/i86pc-solaris
/export/home/jmaslak/perl5/perlbrew/perls/perl-5.23.1/lib/5.23.1
.