Back
From: metabase:user:8206d902-f723-11e3-91f5-cb63aa9cbf73
Subject: PASS Dist-Zilla-Config-Slicer-0.201 v5.20.1 Mac OS X
Date: 2015-05-09T15:17:52Z
This distribution has been tested as part of the CPAN Testers
project, supporting the Perl programming language. See
http://wiki.cpantesters.org/ for more information or email
questions to cpan-testers-discuss@perl.org
--
Dear Randy Stauner,
This is a computer-generated report for Dist-Zilla-Config-Slicer-0.201
on perl 5.20.1, created by CPAN-Reporter-1.2014.
Thank you for uploading your work to CPAN. Congratulations!
All tests were successful.
Sections of this report:
* Tester comments
* Program output
* Prerequisites
* Environment and other context
------------------------------
TESTER COMMENTS
------------------------------
Additional comments from tester:
none provided
------------------------------
PROGRAM OUTPUT
------------------------------
Output from '/usr/bin/make test':
PERL_DL_NONLAZY=1 "/opt/perl/bin/perl" "-MExtUtils::Command::MM" "-MTest::Harness" "-e" "undef *Test::Harness::Switches; test_harness(0, 'blib/lib', 'blib/arch')" t/*.t
t/00-compile.t ......... ok
#
# Versions for all modules listed in MYMETA.json (including optional ones):
#
# === Configure Requires ===
#
# Module Want Have
# ------------------- ---- ----
# ExtUtils::MakeMaker any 7.04
#
# === Build Requires ===
#
# Module Want Have
# ------------------- ---- ----
# ExtUtils::MakeMaker any 7.04
#
# === Test Requires ===
#
# Module Want Have
# ------------------------------------- ---- --------
# Dist::Zilla::Role::PluginBundle any 5.036
# Dist::Zilla::Role::PluginBundle::Easy any 5.036
# ExtUtils::MakeMaker any 7.04
# File::Spec any 3.48
# File::Temp any 0.2304
# IO::Handle any 1.35
# IPC::Open3 any 1.16
# Test::More 0.96 1.001014
# lib any 0.63
#
# === Test Recommends ===
#
# Module Want Have
# ---------- -------- --------
# CPAN::Meta 2.120900 2.150001
#
# === Runtime Requires ===
#
# Module Want Have
# --------------------------------- ---- ------
# Config::MVP::Slicer any 0.302
# Dist::Zilla::PluginBundle::Filter any 5.036
# Dist::Zilla::Util 4 5.036
# Moose any 2.1404
# Moose::Role any 2.1404
# strict any 1.08
# warnings any 1.23
#
t/00-report-prereqs.t .. ok
t/bundle-filter.t ...... ok
t/bundle-role.t ........ ok
t/slicer.t ............. ok
All tests successful.
Files=5, Tests=27, 3 wallclock secs ( 0.03 usr 0.01 sys + 2.31 cusr 0.19 csys = 2.54 CPU)
Result: PASS
------------------------------
PREREQUISITES
------------------------------
Prerequisite modules loaded:
requires:
Module Need Have
------------------------------------- -------- --------
Config::MVP::Slicer 0 0.302
Dist::Zilla::PluginBundle::Filter 0 5.036
Dist::Zilla::Util 4 5.036
Moose 0 2.1404
Moose::Role 0 2.1404
perl 5.006 5.020001
strict 0 1.08
warnings 0 1.23
build_requires:
Module Need Have
------------------------------------- -------- --------
Dist::Zilla::Role::PluginBundle 0 5.036
Dist::Zilla::Role::PluginBundle::Easy 0 5.036
ExtUtils::MakeMaker 0 7.04
File::Spec 0 3.48
File::Temp 0 0.2304
IO::Handle 0 1.35
IPC::Open3 0 1.16
lib 0 0.63
Test::More 0.96 1.001014
configure_requires:
Module Need Have
------------------------------------- -------- --------
ExtUtils::MakeMaker 0 7.04
perl 5.006 5.020001
opt_build_requires:
Module Need Have
------------------------------------- -------- --------
CPAN::Meta 2.120900 2.150001
------------------------------
ENVIRONMENT AND OTHER CONTEXT
------------------------------
Environment variables:
LANG = en_US.UTF-8
LC_COLLATE = pt_PT.UTF-8
LC_CTYPE = pt_PT.UTF-8
PATH = /opt/cwb-3.0/bin:.:/Users/ambs/bin:/opt/perl/bin:/usr/local/bin/:/usr/texbin:/opt/ccache:/Users/ambs/Library/Haskell/bin/:/usr/local/bin:/usr/bin:/bin:/usr/sbin:/sbin:/opt/X11/bin:/usr/texbin
PERL5LIB =
PERL5OPT =
PERL5_CPANPLUS_IS_RUNNING = 16968
PERL5_CPAN_IS_RUNNING = 16968
PERL_AUTOINSTALL_PREFER_CPAN = 1
PERL_CPANM_OPT = -S
SHELL = /bin/bash
TERM = xterm-256color
TMPDIR = /var/folders/3h/8h7stdp57hx4fms5l_g5g9n80000gn/T/
Perl special variables (and OS-specific diagnostics, for MSWin32):
$^X = /opt/perl/bin/perl
$UID/$EUID = 501 / 501
$GID = 20 20 402 12 61 79 80 81 98 33 100 204 398 399
$EGID = 20 20 402 12 61 79 80 81 98 33 100 204 398 399
Perl module toolchain versions installed:
Module Have
------------------- --------
CPAN 2.10
CPAN::Meta 2.150001
Cwd 3.48
ExtUtils::CBuilder 0.280220
ExtUtils::Command 1.20
ExtUtils::Install 2.04
ExtUtils::MakeMaker 7.04
ExtUtils::Manifest 1.70
ExtUtils::ParseXS 3.24
File::Spec 3.48
JSON 2.90
JSON::PP 2.27300
Module::Build 0.4211
Module::Signature 0.78
Parse::CPAN::Meta 1.4414
Test::Harness 3.35
Test::More 1.001014
YAML 1.15
YAML::Syck n/a
version 0.9912
--
Summary of my perl5 (revision 5 version 20 subversion 1) configuration:
Platform:
osname=darwin, osvers=13.3.0, archname=darwin-thread-multi-2level
uname='darwin stravinski.local 13.3.0 darwin kernel version 13.3.0: tue jun 3 21:27:35 pdt 2014; root:xnu-2422.110.17~1release_x86_64 x86_64 '
config_args=''
hint=recommended, useposix=true, d_sigaction=define
useithreads=define, usemultiplicity=define
use64bitint=define, use64bitall=define, uselongdouble=undef
usemymalloc=n, bincompat5005=undef
Compiler:
cc='cc', ccflags ='-fno-common -DPERL_DARWIN -fno-strict-aliasing -pipe -fstack-protector -I/usr/local/include',
optimize='-O3',
cppflags='-fno-common -DPERL_DARWIN -fno-strict-aliasing -pipe -fstack-protector -I/usr/local/include'
ccversion='', gccversion='4.2.1 Compatible Apple LLVM 5.1 (clang-503.0.40)', gccosandvers=''
intsize=4, longsize=8, ptrsize=8, doublesize=8, byteorder=12345678
d_longlong=define, longlongsize=8, d_longdbl=define, longdblsize=16
ivtype='long', ivsize=8, nvtype='double', nvsize=8, Off_t='off_t', lseeksize=8
alignbytes=8, prototype=define
Linker and Libraries:
ld='env MACOSX_DEPLOYMENT_TARGET=10.3 cc', ldflags =' -fstack-protector -L/usr/local/lib'
libpth=/usr/local/lib /Applications/Xcode.app/Contents/Developer/Toolchains/XcodeDefault.xctoolchain/usr/bin/../lib/clang/5.1/lib /Applications/Xcode.app/Contents/Developer/Toolchains/XcodeDefault.xctoolchain/usr/lib /usr/lib
libs=-lgdbm -ldbm -ldb -ldl -lm -lutil -lc
perllibs=-ldl -lm -lutil -lc
libc=, so=dylib, useshrplib=false, libperl=libperl.a
gnulibc_version=''
Dynamic Linking:
dlsrc=dl_dlopen.xs, dlext=bundle, d_dlsymun=undef, ccdlflags=' '
cccdlflags=' ', lddlflags=' -bundle -undefined dynamic_lookup -L/usr/local/lib -fstack-protector'
Characteristics of this binary (from libperl):
Compile-time options: HAS_TIMES MULTIPLICITY PERLIO_LAYERS
PERL_DONT_CREATE_GVSV
PERL_HASH_FUNC_ONE_AT_A_TIME_HARD
PERL_IMPLICIT_CONTEXT PERL_MALLOC_WRAP
PERL_NEW_COPY_ON_WRITE PERL_PRESERVE_IVUV
USE_64_BIT_ALL USE_64_BIT_INT USE_ITHREADS
USE_LARGE_FILES USE_LOCALE USE_LOCALE_COLLATE
USE_LOCALE_CTYPE USE_LOCALE_NUMERIC USE_PERLIO
USE_PERL_ATOF
Built under darwin
Compiled at Sep 17 2014 21:56:46
%ENV:
PERL5LIB=""
PERL5OPT=""
PERL5_CPANPLUS_IS_RUNNING="16968"
PERL5_CPAN_IS_RUNNING="16968"
PERL_AUTOINSTALL_PREFER_CPAN="1"
PERL_CPANM_OPT="-S"
@INC:
/opt/perl/lib/site_perl/5.20.1/darwin-thread-multi-2level
/opt/perl/lib/site_perl/5.20.1
/opt/perl//lib/5.20.1/darwin-thread-multi-2level
/opt/perl//lib/5.20.1
.