Report for lib-remote-0.11

Back
From: metabase:user:a0e144f2-373b-11e6-8edd-c6848980b093
Subject: PASS lib-remote-0.11 v5.25.6 GNU/Linux
Date: 2016-11-08T13:37:57Z

This distribution has been tested as part of the CPAN Testers
project, supporting the Perl programming language.  See
http://wiki.cpantesters.org/ for more information or email
questions to cpan-testers-discuss@perl.org


--
Dear Mikhail Che,

This is a computer-generated report for lib-remote-0.11
on perl 5.25.6, created by CPAN-Reporter-1.2018.

Thank you for uploading your work to CPAN.  Congratulations!
All tests were successful.

Sections of this report:

    * Tester comments
    * Program output
    * Prerequisites
    * Environment and other context

------------------------------
TESTER COMMENTS
------------------------------

Additional comments from tester:

this report is from an automated smoke testing program
and was not reviewed by a human for accuracy

------------------------------
PROGRAM OUTPUT
------------------------------

Output from './Build test':

Smartmatch is experimental at /home/cpan3/.cpan/build/lib-remote-0.11-0/blib/lib/lib/remote.pm line 133.
Smartmatch is experimental at /home/cpan3/.cpan/build/lib-remote-0.11-0/blib/lib/lib/remote.pm line 140.
t/boilerplate.t ... ok
# Testing lib::remote 0.11, Perl 5.025006, /home/cpan3/install/bin/perl
t/00-load.t ....... ok
Smartmatch is experimental at /home/cpan3/.cpan/build/lib-remote-0.11-0/blib/lib/lib/remote.pm line 133.
Smartmatch is experimental at /home/cpan3/.cpan/build/lib-remote-0.11-0/blib/lib/lib/remote.pm line 140.
Module::Stubber: Can't locate Unavailable/Module/As/Stub.pm in @INC (you may need to install the Unavailable::Module::As::Stub module) (@INC contains: /home/cpan3/.cpan/build/lib-remote-0.11-0/blib/lib /home/cpan3/.cpan/build/lib-remote-0.11-0/blib/arch /home/cpan3/install/lib/perl5/site_perl/5.25.6/x86_64-linux-thread-multi /home/cpan3/install/lib/perl5/site_perl/5.25.6 /home/cpan3/install/lib/perl5/5.25.6/x86_64-linux-thread-multi /home/cpan3/install/lib/perl5/5.25.6 CODE(0x1cbacc8)) at /loader/0x1cbacc8/Module::Stubber line 85.
Subroutine _can_warn redefined at /loader/0x1cbacc8/Module/Stubber.pm line 20.
Subroutine AUTOLOAD redefined at /loader/0x1cbacc8/Module/Stubber.pm line 26.
Subroutine new redefined at /loader/0x1cbacc8/Module/Stubber.pm line 44.
Subroutine import redefined at /loader/0x1cbacc8/Module/Stubber.pm line 52.
Subroutine import redefined at /loader/0x1cbacc8/Module/Stubber.pm line 73.
Module::Stubber: Can't locate Unavailable/Module/As/Stub2.pm in @INC (you may need to install the Unavailable::Module::As::Stub2 module) (@INC contains: /home/cpan3/.cpan/build/lib-remote-0.11-0/blib/lib /home/cpan3/.cpan/build/lib-remote-0.11-0/blib/arch /home/cpan3/install/lib/perl5/site_perl/5.25.6/x86_64-linux-thread-multi /home/cpan3/install/lib/perl5/site_perl/5.25.6 /home/cpan3/install/lib/perl5/5.25.6/x86_64-linux-thread-multi /home/cpan3/install/lib/perl5/5.25.6 CODE(0x1cbacc8)) at /loader/0x1cbacc8/Module/Stubber.pm line 85.
Runtime start at t/01-use.t line 11.
*** 'Unavailable::Module::As::Stub::new' requested at t/01-use.t:23
*** This symbol does not really exist, and has been
*** implemented as a stub by Module::Stubber.
*** Depending on how important
*** this function is, this program may not function
*** correctly. This message will only display once.
lib::remote->import: incoming args = [ XXX HASH(0x1cbabf0) ] at t/01-use.t line 53.
lib::remote->INC_dispatcher: try dispatch of [XXX][path=XXX.pm][arg=XXX]] at t/01-use.t line 53.
lib::remote->INC_dispatcher: try dispatch of [Encode::ConfigLocal][path=Encode/ConfigLocal.pm][arg=Encode/ConfigLocal.pm]] at /home/cpan3/install/lib/perl5/site_perl/5.25.6/x86_64-linux-thread-multi/Encode.pm line 61.
lib::remote->INC_dispatcher: success LWP get content [XXX] by url=[ http://api.metacpan.org/source/INGY/XXX-0.18/lib/XXX.pm ] at t/01-use.t line 53.
lib::remote->import: success done [require XXX]
 at t/01-use.t line 53.
lib::remote->import: success done [XXX->import(-with Data::Dumper)]
 at t/01-use.t line 53.
Load the remote module: XXX at t/01-use.t line 53.
lib::remote->import: incoming args = [ Scalar::Random::PP HASH(0x277f4d0) ] at t/01-use.t line 60.
lib::remote->INC_dispatcher: try dispatch of [Scalar::Random::PP][path=Scalar/Random/PP.pm][arg=Scalar::Random::PP]] at t/01-use.t line 60.
lib::remote->INC_dispatcher: success LWP get content [Scalar::Random::PP] by url [ http://api.metacpan.org/source/INGY/Scalar-Random-PP-0.11/lib/Scalar/Random/PP.pm ] at t/01-use.t line 60.
lib::remote->INC_dispatcher: try dispatch of [Scalar::Random::PP::OO][path=Scalar/Random/PP/OO.pm][arg=Scalar/Random/PP/OO.pm]] at /loader/0x1cbacc8/Scalar::Random::PP line 2.
lib::remote->INC_dispatcher: success LWP get content [Scalar::Random::PP::OO] by url [ http://api.metacpan.org/source/INGY/Scalar-Random-PP-0.11/lib/Scalar/Random/PP/OO.pm ] at /loader/0x1cbacc8/Scalar::Random::PP line 2.
Constants from lexical variables potentially modified elsewhere are deprecated at /loader/0x1cbacc8/Scalar/Random/PP/OO.pm line 1144.
lib::remote->import: success done [require Scalar::Random::PP]
 at t/01-use.t line 60.
# Testing lib::remote Module::Stubber(0.03)=[Unavailable::Module::As::Stub=SCALAR(0x23d74e0)]&[Unavailable::Module::As::Stub2=SCALAR(0x1348b80)] Module::Hash(0.002)::Math::BigInt=[154919371] Scalar::Random::PP->randomize(1000)=[876]
Runtime stop at t/01-use.t line 72.
*** 'Unavailable::Module::As::Stub::DESTROY' requested at t/01-use.t:72
*** This symbol does not really exist, and has been
*** implemented as a stub by Module::Stubber.
*** Depending on how important
*** this function is, this program may not function
*** correctly. This message will only display once.
t/01-use.t ........ ok
t/manifest.t ...... skipped: Author tests not required for installation
Smartmatch is experimental at /home/cpan3/.cpan/build/lib-remote-0.11-0/blib/lib/lib/remote.pm line 133.
Smartmatch is experimental at /home/cpan3/.cpan/build/lib-remote-0.11-0/blib/lib/lib/remote.pm line 140.
t/pod-coverage.t .. ok
t/pod.t ........... ok
All tests successful.

Test Summary Report
-------------------
t/boilerplate.t (Wstat: 0 Tests: 3 Failed: 0)
  TODO passed:   1, 3
Files=6, Tests=8,  2 wallclock secs ( 0.03 usr  0.01 sys +  0.91 cusr  0.06 csys =  1.01 CPU)
Result: PASS

------------------------------
PREREQUISITES
------------------------------

Prerequisite modules loaded:

requires:

    Module         Need  Have    
    -------------- ----- --------
    LWP::UserAgent 0     6.15    
    perl           5.006 5.025006

build_requires:

    Module         Need  Have    
    -------------- ----- --------
    Test::More     0     1.302062

configure_requires:

    Module         Need  Have    
    -------------- ----- --------
    Module::Build  0.40  0.4220  


------------------------------
ENVIRONMENT AND OTHER CONTEXT
------------------------------

Environment variables:

    AUTOMATED_TESTING = 1
    HARNESS_OPTIONS = j3
    LANG = en_US.UTF-8
    PATH = /usr/local/bin:/usr/bin:/bin:/usr/local/games:/usr/games
    PERL5LIB = 
    PERL5OPT = 
    PERL5_CPANPLUS_IS_RUNNING = 1550
    PERL5_CPAN_IS_RUNNING = 1550
    PERL5_CPAN_IS_RUNNING_IN_RECURSION = 7970,1550
    PERLBREW_BASHRC_VERSION = 0.76
    PERLBREW_HOME = /home/dcollins/.perlbrew
    PERLBREW_ROOT = /home/dcollins/toolchain/perl5
    PERL_CR_SMOKER_CURRENT = lib-remote-0.11
    PERL_CR_SMOKER_RUNONCE = 1
    PERL_EXTUTILS_AUTOINSTALL = --defaultdeps
    PERL_MM_USE_DEFAULT = 1
    SHELL = /bin/bash
    TERM = putty

Perl special variables (and OS-specific diagnostics, for MSWin32):

    $^X = /home/cpan3/install/bin/perl
    $UID/$EUID = 1004 / 1004
    $GID = 1004 1004
    $EGID = 1004 1004

Perl module toolchain versions installed:

    Module              Have    
    ------------------- --------
    CPAN                2.14    
    CPAN::Meta          2.150010
    Cwd                 3.62    
    ExtUtils::CBuilder  0.280224
    ExtUtils::Command   7.24    
    ExtUtils::Install   2.04    
    ExtUtils::MakeMaker 7.24    
    ExtUtils::Manifest  1.70    
    ExtUtils::ParseXS   3.30    
    File::Spec          3.62    
    JSON                2.90    
    JSON::PP            2.27400 
    Module::Build       0.4220  
    Module::Signature   0.81    
    Parse::CPAN::Meta   2.150010
    Test::Harness       3.36    
    Test::More          1.302062
    YAML                1.18    
    YAML::Syck          1.29    
    version             0.9917  


--

Summary of my perl5 (revision 5 version 25 subversion 6) configuration:
  Commit id: 11a12be6c2df2fcd9601f9fde8c7df8c7538c956
  Platform:
    osname=linux
    osvers=3.16.0-4-amd64
    archname=x86_64-linux-thread-multi
    uname='linux digitalis 3.16.0-4-amd64 #1 smp debian 3.16.36-1+deb8u1 (2016-09-03) x86_64 gnulinux '
    config_args='-Dusedevel -DDEBUGGING -Dusethreads -Dprefix=/home/cpan3/install -Uversiononly -des'
    hint=recommended
    useposix=true
    d_sigaction=define
    useithreads=define
    usemultiplicity=define
    use64bitint=define
    use64bitall=define
    uselongdouble=undef
    usemymalloc=n
    bincompat5005=undef
  Compiler:
    cc='cc'
    ccflags ='-D_REENTRANT -D_GNU_SOURCE -fwrapv -DDEBUGGING -fno-strict-aliasing -pipe -fstack-protector-strong -I/usr/local/include -D_LARGEFILE_SOURCE -D_FILE_OFFSET_BITS=64 -D_FORTIFY_SOURCE=2'
    optimize='-O2 -g'
    cppflags='-D_REENTRANT -D_GNU_SOURCE -fwrapv -DDEBUGGING -fno-strict-aliasing -pipe -fstack-protector-strong -I/usr/local/include'
    ccversion=''
    gccversion='4.9.2'
    gccosandvers=''
    intsize=4
    longsize=8
    ptrsize=8
    doublesize=8
    byteorder=12345678
    doublekind=3
    d_longlong=define
    longlongsize=8
    d_longdbl=define
    longdblsize=16
    longdblkind=3
    ivtype='long'
    ivsize=8
    nvtype='double'
    nvsize=8
    Off_t='off_t'
    lseeksize=8
    alignbytes=8
    prototype=define
  Linker and Libraries:
    ld='cc'
    ldflags =' -fstack-protector-strong -L/usr/local/lib'
    libpth=/usr/local/lib /usr/lib/gcc/x86_64-linux-gnu/4.9/include-fixed /usr/include/x86_64-linux-gnu /usr/lib /lib/x86_64-linux-gnu /lib/../lib /usr/lib/x86_64-linux-gnu /usr/lib/../lib /lib
    libs=-lpthread -lnsl -ldl -lm -lcrypt -lutil -lc
    perllibs=-lpthread -lnsl -ldl -lm -lcrypt -lutil -lc
    libc=libc-2.19.so
    so=so
    useshrplib=false
    libperl=libperl.a
    gnulibc_version='2.19'
  Dynamic Linking:
    dlsrc=dl_dlopen.xs
    dlext=so
    d_dlsymun=undef
    ccdlflags='-Wl,-E'
    cccdlflags='-fPIC'
    lddlflags='-shared -O2 -g -L/usr/local/lib -fstack-protector-strong'


Characteristics of this binary (from libperl): 
  Compile-time options:
    DEBUGGING
    HAS_TIMES
    MULTIPLICITY
    PERLIO_LAYERS
    PERL_COPY_ON_WRITE
    PERL_DONT_CREATE_GVSV
    PERL_HASH_FUNC_ONE_AT_A_TIME_HARD
    PERL_IMPLICIT_CONTEXT
    PERL_MALLOC_WRAP
    PERL_OP_PARENT
    PERL_PRESERVE_IVUV
    PERL_TRACK_MEMPOOL
    PERL_USE_DEVEL
    USE_64_BIT_ALL
    USE_64_BIT_INT
    USE_ITHREADS
    USE_LARGE_FILES
    USE_LOCALE
    USE_LOCALE_COLLATE
    USE_LOCALE_CTYPE
    USE_LOCALE_NUMERIC
    USE_LOCALE_TIME
    USE_PERLIO
    USE_PERL_ATOF
    USE_REENTRANT_API
  Built under linux
  Compiled at Oct 30 2016 10:43:21
  %ENV:
    PERL5LIB=""
    PERL5OPT=""
    PERL5_CPANPLUS_IS_RUNNING="1550"
    PERL5_CPAN_IS_RUNNING="1550"
    PERL5_CPAN_IS_RUNNING_IN_RECURSION="7970,1550"
    PERLBREW_BASHRC_VERSION="0.76"
    PERLBREW_HOME="/home/dcollins/.perlbrew"
    PERLBREW_ROOT="/home/dcollins/toolchain/perl5"
    PERL_CR_SMOKER_CURRENT="lib-remote-0.11"
    PERL_CR_SMOKER_RUNONCE="1"
    PERL_EXTUTILS_AUTOINSTALL="--defaultdeps"
    PERL_MM_USE_DEFAULT="1"
  @INC:
    /home/cpan3/install/lib/perl5/site_perl/5.25.6/x86_64-linux-thread-multi
    /home/cpan3/install/lib/perl5/site_perl/5.25.6
    /home/cpan3/install/lib/perl5/5.25.6/x86_64-linux-thread-multi
    /home/cpan3/install/lib/perl5/5.25.6
    .