Database-Async v0.019 Perl 5 v5.32.1 amd64-freebsd-ld

Status
Pass
From
Slaven Rezić
Dist
Database-Async v0.019
Platform
Perl 5 v5.32.1 amd64-freebsd-ld
Date
2023-12-04 16:45:40
ID
8f2058a6-92c4-11ee-a45c-44e56d8775ea
This distribution has been tested as part of the CPAN Testers
project, supporting the Perl programming language.  See
http://wiki.cpantesters.org/ for more information or email
questions to cpan-testers-discuss@perl.org


--
Dear Tom Molesworth,

This is a computer-generated report for Database-Async-0.019
on perl 5.32.1, created by CPAN-Reporter-1.2018.

Thank you for uploading your work to CPAN.  Congratulations!
All tests were successful.

Sections of this report:

    * Tester comments
    * Program output
    * Prerequisites
    * Environment and other context

------------------------------
TESTER COMMENTS
------------------------------

Additional comments from tester:

none provided

------------------------------
PROGRAM OUTPUT
------------------------------

Output from '/usr/bin/make test':

PERL_DL_NONLAZY=1 "/usr/perl5.32.1Dp/bin/perl" "-MExtUtils::Command::MM" "-MTest::Harness" "-e" "undef *Test::Harness::Switches; test_harness(0, 'blib/lib', 'blib/arch')" t/*.t
t/00-check-deps.t ...... ok
t/00-compile.t ......... ok
# 
# Versions for all modules listed in MYMETA.json (including optional ones):
# 
# === Configure Requires ===
# 
#     Module              Want Have
#     ------------------- ---- ----
#     ExtUtils::MakeMaker  any 7.70
# 
# === Build Requires ===
# 
#     Module              Want Have
#     ------------------- ---- ----
#     ExtUtils::MakeMaker  any 7.70
# 
# === Test Requires ===
# 
#     Module               Want     Have
#     ------------------- ----- --------
#     ExtUtils::MakeMaker   any     7.70
#     File::Spec            any     3.78
#     IO::Handle            any     1.51
#     IPC::Open3            any     1.21
#     Test::CheckDeps     0.010    0.010
#     Test::Fatal         0.010    0.017
#     Test::More           0.98 1.302198
#     Test::Refcount       0.07     0.10
# 
# === Test Recommends ===
# 
#     Module         Want     Have
#     ---------- -------- --------
#     CPAN::Meta 2.120900 2.150010
# 
# === Runtime Requires ===
# 
#     Module                    Want     Have
#     ------------------------ ----- --------
#     Class::Method::Modifiers   any     2.14
#     Future                    0.40     0.48
#     Future::AsyncAwait        0.33     0.66
#     IO::Async                 0.68    0.802
#     IO::Async::Notifier       0.68    0.802
#     JSON::MaybeUTF8            any    2.000
#     List::Util                1.50     1.63
#     List::UtilsBy              any     0.11
#     Log::Any                 1.050    1.715
#     Module::Load               any     0.36
#     Path::Tiny               0.108    0.144
#     Ryu                      3.002    3.002
#     Ryu::Async               0.016    0.019
#     Scalar::Util              1.50     1.63
#     Syntax::Keyword::Try      0.11     0.29
#     Template                 3.000    3.101
#     URI                        any     5.21
#     URI::db                   0.19     0.19
#     YAML::XS                   any     0.88
#     curry                      any 2.000001
#     indirect                   any     0.39
#     mro                        any     1.23
#     parent                     any    0.238
#     perl                     5.024 5.032001
# 
t/00-report-prereqs.t .. ok
t/loop_removal.t ....... ok
t/new.t ................ ok
t/pool.t ............... ok
All tests successful.
Files=6, Tests=73,  2 wallclock secs ( 0.04 usr  0.00 sys +  1.16 cusr  0.13 csys =  1.33 CPU)
Result: PASS

------------------------------
PREREQUISITES
------------------------------

Prerequisite modules loaded:

requires:

    Module                   Need  Have    
    ------------------------ ----- --------
    Class::Method::Modifiers 0     2.14    
    curry                    0     2.000001
    Future                   0.40  0.48    
    Future::AsyncAwait       0.33  0.66    
    indirect                 0     0.39    
    IO::Async                0.68  0.802   
    IO::Async::Notifier      0.68  0.802   
    JSON::MaybeUTF8          0     2.000   
    List::Util               1.50  1.63    
    List::UtilsBy            0     0.11    
    Log::Any                 1.050 1.715   
    Module::Load             0     0.36    
    mro                      0     1.23    
    parent                   0     0.238   
    Path::Tiny               0.108 0.144   
    perl                     5.024 5.032001
    Ryu                      3.002 3.002   
    Ryu::Async               0.016 0.019   
    Scalar::Util             1.50  1.63    
    Syntax::Keyword::Try     0.11  0.29    
    Template                 3.000 3.101   
    URI                      0     5.21    
    URI::db                  0.19  0.19    
    YAML::XS                 0     0.88    

build_requires:

    Module                   Need  Have    
    ------------------------ ----- --------
    ExtUtils::MakeMaker      0     7.70    
    File::Spec               0     3.78    
    IO::Handle               0     1.51    
    IPC::Open3               0     1.21    
    Test::CheckDeps          0.010 0.010   
    Test::Fatal              0.010 0.017   
    Test::More               0.98  1.302198
    Test::Refcount           0.07  0.10    

configure_requires:

    Module                   Need  Have    
    ------------------------ ----- --------
    ExtUtils::MakeMaker      0     7.70    


------------------------------
ENVIRONMENT AND OTHER CONTEXT
------------------------------

Environment variables:

    PATH = /usr/local/bin:/usr/bin:/bin:/usr/local/sbin:/usr/sbin:/sbin:/home/cpansand/bin/sh:/home/cpansand/bin:/usr/games:/home/cpansand/devel:/usr/home/eserte/src/srezic-misc/scripts
    PERL5LIB = 
    PERL5OPT = 
    PERL5_CPANPLUS_IS_RUNNING = 86284
    PERL5_CPAN_IS_RUNNING = 86284
    PERL5_CPAN_IS_RUNNING_IN_RECURSION = 76722,86284
    PERL_BATCH = yes
    PERL_CANARY_STABILITY_NOPROMPT = 1
    PERL_CPAN_REPORTER_CONFIG = /var/tmp/cpansmoker-1023/2023120416/cpanreporter_000_config.ini
    PERL_EXTUTILS_AUTOINSTALL = --defaultdeps
    PERL_USE_UNSAFE_INC = 1
    SHELL = /bin/sh
    TMPDIR = /var/tmp/cpansmoker-1023/2023120416

Perl special variables (and OS-specific diagnostics, for MSWin32):

    $^X = /usr/perl5.32.1Dp/bin/perl
    $UID/$EUID = 1023 / 1023
    $GID = 1023 1023
    $EGID = 1023 1023

Perl module toolchain versions installed:

    Module              Have    
    ------------------- --------
    CPAN                2.36    
    CPAN::Meta          2.150010
    Cwd                 3.78    
    ExtUtils::CBuilder  0.280236
    ExtUtils::Command   7.70    
    ExtUtils::Install   2.20    
    ExtUtils::MakeMaker 7.70    
    ExtUtils::Manifest  1.75    
    ExtUtils::ParseXS   3.51    
    File::Spec          3.78    
    JSON                4.10    
    JSON::PP            4.15    
    Module::Build       0.4234  
    Module::Signature   0.88    
    Parse::CPAN::Meta   2.150010
    Test::Harness       3.47    
    Test::More          1.302198
    YAML                1.30    
    YAML::Syck          1.34    
    version             0.9929  


--

Summary of my perl5 (revision 5 version 32 subversion 1) configuration:
   
  Platform:
    osname=freebsd
    osvers=13.0-stable
    archname=amd64-freebsd-ld
    uname='freebsd cloud10.bbbike.org 13.0-stable freebsd 13.0-stable #0 stable13-n245623-e2872019983d: thu may 13 16:04:27 utc 2021 root@cloud10.bbbike.org:usrobjusrhomeprojectsfreebsdamd64.amd64sysgeneric amd64 '
    config_args='-ds -e -Dprefix=/usr/perl5.32.1Dp -Duselongdouble -Dcf_email=srezic@cpan.org -Doptimize=-O2 -pipe'
    hint=recommended
    useposix=true
    d_sigaction=define
    useithreads=undef
    usemultiplicity=undef
    use64bitint=define
    use64bitall=define
    uselongdouble=define
    usemymalloc=n
    default_inc_excludes_dot=define
    bincompat5005=undef
  Compiler:
    cc='cc'
    ccflags ='-DHAS_FPSETMASK -DHAS_FLOATINGPOINT_H -fno-strict-aliasing -pipe -fstack-protector-strong -I/usr/local/include'
    optimize='-O2 -pipe'
    cppflags='-DHAS_FPSETMASK -DHAS_FLOATINGPOINT_H -fno-strict-aliasing -pipe -fstack-protector-strong -I/usr/local/include'
    ccversion=''
    gccversion='FreeBSD Clang 11.0.1 (git@github.com:llvm/llvm-project.git llvmorg-11.0.1-0-g43ff75f2c3fe)'
    gccosandvers=''
    intsize=4
    longsize=8
    ptrsize=8
    doublesize=8
    byteorder=12345678
    doublekind=3
    d_longlong=define
    longlongsize=8
    d_longdbl=define
    longdblsize=16
    longdblkind=3
    ivtype='long'
    ivsize=8
    nvtype='long double'
    nvsize=16
    Off_t='off_t'
    lseeksize=8
    alignbytes=16
    prototype=define
  Linker and Libraries:
    ld='cc'
    ldflags ='-pthread -Wl,-E  -fstack-protector-strong -L/usr/local/lib'
    libpth=/usr/lib /usr/local/lib /usr/lib/clang/11.0.1/lib /usr/lib
    libs=-lpthread -lgdbm -ldl -lm -lcrypt -lutil -lc
    perllibs=-lpthread -ldl -lm -lcrypt -lutil -lc
    libc=
    so=so
    useshrplib=false
    libperl=libperl.a
    gnulibc_version=''
  Dynamic Linking:
    dlsrc=dl_dlopen.xs
    dlext=so
    d_dlsymun=undef
    ccdlflags=' '
    cccdlflags='-DPIC -fPIC'
    lddlflags='-shared  -L/usr/local/lib -fstack-protector-strong'


Characteristics of this binary (from libperl): 
  Compile-time options:
    HAS_TIMES
    PERLIO_LAYERS
    PERL_COPY_ON_WRITE
    PERL_DONT_CREATE_GVSV
    PERL_MALLOC_WRAP
    PERL_OP_PARENT
    PERL_PRESERVE_IVUV
    USE_64_BIT_ALL
    USE_64_BIT_INT
    USE_LARGE_FILES
    USE_LOCALE
    USE_LOCALE_COLLATE
    USE_LOCALE_CTYPE
    USE_LOCALE_NUMERIC
    USE_LOCALE_TIME
    USE_LONG_DOUBLE
    USE_PERLIO
    USE_PERL_ATOF
  Built under freebsd
  Compiled at May 16 2021 16:11:18
  %ENV:
    PERL5LIB=""
    PERL5OPT=""
    PERL5_CPANPLUS_IS_RUNNING="86284"
    PERL5_CPAN_IS_RUNNING="86284"
    PERL5_CPAN_IS_RUNNING_IN_RECURSION="76722,86284"
    PERL_BATCH="yes"
    PERL_CANARY_STABILITY_NOPROMPT="1"
    PERL_CPAN_REPORTER_CONFIG="/var/tmp/cpansmoker-1023/2023120416/cpanreporter_000_config.ini"
    PERL_EXTUTILS_AUTOINSTALL="--defaultdeps"
    PERL_USE_UNSAFE_INC="1"
  @INC:
    /usr/perl5.32.1Dp/lib/site_perl/5.32.1/amd64-freebsd-ld
    /usr/perl5.32.1Dp/lib/site_perl/5.32.1
    /usr/perl5.32.1Dp/lib/5.32.1/amd64-freebsd-ld
    /usr/perl5.32.1Dp/lib/5.32.1
    .