DBD-SQLeet v0.26.0 Perl 5 v5.18.4 amd64-freebsd

Status
Pass
From
Slaven Rezić (SREZIC)
Dist
DBD-SQLeet v0.26.0
Platform
Perl 5 v5.18.4 amd64-freebsd
Date
2019-02-03 22:32:16
ID
8f0b8e8e-2803-11e9-9ce4-bc0d2f849bae
This distribution has been tested as part of the CPAN Testers
project, supporting the Perl programming language.  See
http://wiki.cpantesters.org/ for more information or email
questions to cpan-testers-discuss@perl.org


--
Dear Dimitar D. Mitov,

This is a computer-generated report for DBD-SQLeet-0.26.0
on perl 5.18.4, created by CPAN-Reporter-1.2018.

Thank you for uploading your work to CPAN.  Congratulations!
All tests were successful.

Sections of this report:

    * Tester comments
    * Program output
    * Prerequisites
    * Environment and other context

------------------------------
TESTER COMMENTS
------------------------------

Additional comments from tester:

none provided

------------------------------
PROGRAM OUTPUT
------------------------------

Output from '/usr/bin/make test':

"/usr/perl5.18.4p/bin/perl5.18.4" -MExtUtils::Command::MM -e 'cp_nonempty' -- SQLeet.bs blib/arch/auto/DBD/SQLeet/SQLeet.bs 644
PERL_DL_NONLAZY=1 "/usr/perl5.18.4p/bin/perl5.18.4" "-MExtUtils::Command::MM" "-MTest::Harness" "-e" "undef *Test::Harness::Switches; test_harness(0, 'blib/lib', 'blib/arch')" t/*.t t/**/*.t
# $DBI::VERSION=1.641
# Compile Options:
#   COMPILER=clang-6.0.1
#   ENABLE_COLUMN_METADATA
#   ENABLE_FTS3_PARENTHESIS
#   ENABLE_FTS4
#   ENABLE_FTS5
#   ENABLE_JSON1
#   ENABLE_RTREE
#   THREADSAFE=0
t/01_compile.t ........................................ ok
# sqlite_version=3.26.0
t/02_logon.t .......................................... ok
t/03_create_table.t ................................... ok
t/04_insert.t ......................................... ok
t/05_select.t ......................................... ok
t/06_tran.t ........................................... ok
t/07_error.t .......................................... ok
t/08_busy.t ........................................... ok
t/09_create_function.t ................................ ok
t/10_create_aggregate.t ............................... ok
t/12_unicode.t ........................................ ok
t/13_create_collation.t ............................... ok
t/14_progress_handler.t ............................... ok
t/15_ak_dbd.t ......................................... ok
t/16_column_info.t .................................... ok
t/17_createdrop.t ..................................... ok
t/18_insertfetch.t .................................... ok
t/19_bindparam.t ...................................... ok
t/20_blobs.t .......................................... ok
t/21_blobtext.t ....................................... ok
t/22_listfields.t ..................................... ok
t/23_nulls.t .......................................... ok
t/24_numrows.t ........................................ ok
t/25_chopblanks.t ..................................... ok
t/26_commit.t ......................................... ok
t/27_metadata.t ....................................... ok
t/28_schemachange.t ................................... ok
t/30_auto_rollback.t .................................. ok
t/31_bind_weird_number_param.t ........................ ok
t/32_inactive_error.t ................................. ok
t/33_non_latin_path.t ................................. ok
t/34_online_backup.t .................................. ok
t/35_table_info.t ..................................... ok
t/36_hooks.t .......................................... ok
t/37_regexp.t ......................................... ok
t/38_empty_statement.t ................................ ok
t/39_foreign_keys.t ................................... ok
t/40_multiple_statements.t ............................ ok
t/41_placeholders.t ................................... ok
t/42_primary_key_info.t ............................... ok
t/43_fts3.t ........................................... ok
t/44_rtree.t .......................................... ok
t/45_savepoints.t ..................................... ok
t/46_mod_perl.t ....................................... skipped: requires APR::Table
t/47_execute.t ........................................ ok
t/48_bind_param_is_sticky.t ........................... ok
t/49_trace_and_profile.t .............................. ok
t/50_foreign_key_info.t ............................... ok
t/51_table_column_metadata.t .......................... ok
t/52_db_filename.t .................................... ok
t/53_status.t ......................................... ok
t/54_literal_txn.t .................................... ok
t/55_statistics_info.t ................................ ok
t/56_open_flags.t ..................................... ok
t/57_uri_filename.t ................................... ok
t/58_see_if_its_a_number_and_explicit_binding.t ....... ok
t/59_extended_result_codes.t .......................... skipped: this test is for Win32 only
t/60_readonly.t ....................................... ok
t/61_strlike.t ........................................ ok
t/62_regexp_multibyte_char_class.t .................... ok
t/63_param_values.t ................................... ok
t/rt_106151_outermost_savepoint.t ..................... ok
t/rt_106950_extra_warnings_with_savepoints.t .......... ok
t/rt_115465_column_info_with_spaces.t ................. ok
t/rt_124227_index_regression.t ........................ ok
t/rt_15186_prepcached.t ............................... ok
t/rt_21406_auto_finish.t .............................. ok
t/rt_25371_asymmetric_unicode.t ....................... ok
t/rt_25460_numeric_aggregate.t ........................ ok
t/rt_25924_user_defined_func_unicode.t ................ ok
t/rt_26775_distinct.t ................................. ok
t/rt_27553_prepared_cache_and_analyze.t ............... ok
t/rt_29058_group_by.t ................................. ok
t/rt_29629_sqlite_where_length.t ...................... ok
t/rt_31324_full_names.t ............................... ok
t/rt_32889_prepare_cached_reexecute.t ................. ok
t/rt_36836_duplicate_key.t ............................ ok
t/rt_36838_unique_and_bus_error.t ..................... ok
t/rt_40594_nullable.t ................................. ok
t/rt_48393_debug_panic_with_commit.t .................. skipped: set $ENV{TEST_DBD_SQLITE_WITH_DEBUGGER} to enable this test
t/rt_50503_fts3.t ..................................... ok
t/rt_52573_manual_exclusive_lock.t .................... ok
t/rt_53235_icu_compatibility.t ........................ skipped: requires SQLite ICU plugin to be enabled
t/rt_62370_diconnected_handles_operation.t ............ ok
t/rt_64177_ping_wipes_out_the_errstr.t ................ ok
t/rt_67581_bind_params_mismatch.t ..................... ok
t/rt_71311_bind_col_and_unicode.t ..................... ok
t/rt_73159_fts_tokenizer_segfault.t ................... ok
t/rt_73787_exponential_buffer_overflow.t .............. ok
t/rt_76395_int_overflow.t ............................. ok
t/rt_77724_primary_key_with_a_whitespace.t ............ ok
t/rt_78833_utf8_flag_for_column_names.t ............... ok
t/rt_81536_multi_column_primary_key_info.t ............ ok
t/rt_88228_sqlite_3_8_0_crash.t ....................... ok
t/rt_96050_db_filename_for_a_closed_database.t ........ ok
t/rt_96877_unicode_statements.t ....................... ok
t/rt_96878_fts_contentless_table.t .................... ok
t/rt_97598_crash_on_disconnect_with_virtual_tables.t .. ok
All tests successful.
Files=98, Tests=3469, 19 wallclock secs ( 0.64 usr  0.18 sys +  7.90 cusr  2.28 csys = 11.00 CPU)
Result: PASS

------------------------------
PREREQUISITES
------------------------------

Prerequisite modules loaded:

requires:

    Module              Need  Have    
    ------------------- ----- --------
    DBI                 1.57  1.641   
    File::Spec          0.82  3.74    
    perl                5.006 5.018004
    Test::Builder       0.86  1.302136
    Test::More          0.47  1.302136
    Tie::Hash           0     1.04    

build_requires:

    Module              Need  Have    
    ------------------- ----- --------
    ExtUtils::MakeMaker 0     7.34    

configure_requires:

    Module              Need  Have    
    ------------------- ----- --------
    DBI                 1.57  1.641   
    ExtUtils::MakeMaker 6.48  7.34    
    File::Spec          0.82  3.74    


------------------------------
ENVIRONMENT AND OTHER CONTEXT
------------------------------

Environment variables:

    PATH = /usr/local/bin:/usr/bin:/bin:/usr/local/sbin:/usr/sbin:/sbin:/home/cpansand/bin/sh:/home/cpansand/bin:/usr/games:/home/cpansand/devel:/home/eserte/src/srezic-misc/scripts
    PERL5LIB = /home/cpansand/.cpan/build/2019020405/Bundle-Locale-CLDR-Southernafrica-0.34.0-1/blib/arch:/home/cpansand/.cpan/build/2019020405/Bundle-Locale-CLDR-Southernafrica-0.34.0-1/blib/lib:/home/cpansand/.cpan/build/2019020405/Bundle-Locale-CLDR-Subsaharanafrica-0.34.0-1/blib/arch:/home/cpansand/.cpan/build/2019020405/Bundle-Locale-CLDR-Subsaharanafrica-0.34.0-1/blib/lib:/home/cpansand/.cpan/build/2019020405/Bundle-Locale-CLDR-Europe-0.34.0-1/blib/arch:/home/cpansand/.cpan/build/2019020405/Bundle-Locale-CLDR-Europe-0.34.0-1/blib/lib:/home/cpansand/.cpan/build/2019020405/Bundle-Locale-CLDR-Westerneurope-0.34.0-1/blib/arch:/home/cpansand/.cpan/build/2019020405/Bundle-Locale-CLDR-Westerneurope-0.34.0-1/blib/lib:/home/cpansand/.cpan/build/2019020405/Bundle-Locale-CLDR-Easterneurope-0.34.0-1/blib/arch:/home/cpansand/.cpan/build/2019020405/Bundle-Locale-CLDR-Easterneurope-0.34.0-1/blib/lib:/home/cpansand/.cpan/build/2019020405/Bundle-Locale-CLDR-Northerneurope-0.34.0-1/blib/arch:/home/cpansand/.cpan/build/2019020405/Bundle-Locale-CLDR-Northerneurope-0.34.0-1/blib/lib:/home/cpansand/.cpan/build/2019020405/Bundle-Locale-CLDR-Southerneurope-0.34.0-1/blib/arch:/home/cpansand/.cpan/build/2019020405/Bundle-Locale-CLDR-Southerneurope-0.34.0-1/blib/lib
    PERL5OPT = 
    PERL5_CPANPLUS_IS_RUNNING = 72323
    PERL5_CPAN_IS_RUNNING = 72323
    PERL5_CPAN_IS_RUNNING_IN_RECURSION = 71476,72323
    PERL_BATCH = yes
    PERL_CANARY_STABILITY_NOPROMPT = 1
    PERL_CPAN_REPORTER_CONFIG = /var/tmp/cpansmoker-1023/2019020405/cpanreporter_000_config.ini
    PERL_EXTUTILS_AUTOINSTALL = --defaultdeps
    SHELL = /bin/sh
    TMPDIR = /var/tmp/cpansmoker-1023/2019020405

Perl special variables (and OS-specific diagnostics, for MSWin32):

    $^X = /usr/perl5.18.4p/bin/perl5.18.4
    $UID/$EUID = 1023 / 1023
    $GID = 1023 1023
    $EGID = 1023 1023

Perl module toolchain versions installed:

    Module              Have    
    ------------------- --------
    CPAN                2.16    
    CPAN::Meta          2.150010
    Cwd                 3.74    
    ExtUtils::CBuilder  0.280230
    ExtUtils::Command   7.34    
    ExtUtils::Install   2.06    
    ExtUtils::MakeMaker 7.34    
    ExtUtils::Manifest  1.70    
    ExtUtils::ParseXS   3.35    
    File::Spec          3.74    
    JSON                2.97001 
    JSON::PP            2.94    
    Module::Build       0.4224  
    Module::Signature   0.81    
    Parse::CPAN::Meta   2.150010
    Test::Harness       3.42    
    Test::More          1.302136
    YAML                1.26    
    YAML::Syck          1.30    
    version             0.9924  


--

Summary of my perl5 (revision 5 version 18 subversion 4) configuration:
   
  Platform:
    osname=freebsd, osvers=11.1-stable, archname=amd64-freebsd
    uname='freebsd ali3.bbbike.org 11.1-stable freebsd 11.1-stable #0 b7ba9aef7e5(stable11): wed oct 11 00:23:27 utc 2017 root@ali3.bbbike.org:usrobjhomeprojectsfreebsdsysgeneric amd64 '
    config_args='-ds -e -Dprefix=/usr/perl5.18.4p -Dcf_email=srezic@cpan.org -Doptimize=-O2 -pipe'
    hint=recommended, useposix=true, d_sigaction=define
    useithreads=undef, usemultiplicity=undef
    useperlio=define, d_sfio=undef, uselargefiles=define, usesocks=undef
    use64bitint=define, use64bitall=define, uselongdouble=undef
    usemymalloc=n, bincompat5005=undef
  Compiler:
    cc='cc', ccflags ='-DHAS_FPSETMASK -DHAS_FLOATINGPOINT_H -fno-strict-aliasing -pipe -fstack-protector -I/usr/local/include',
    optimize='-O2 -pipe',
    cppflags='-DHAS_FPSETMASK -DHAS_FLOATINGPOINT_H -fno-strict-aliasing -pipe -fstack-protector -I/usr/local/include'
    ccversion='', gccversion='4.2.1 Compatible FreeBSD Clang 5.0.0 (tags/RELEASE_500/final 312559)', gccosandvers=''
    intsize=4, longsize=8, ptrsize=8, doublesize=8, byteorder=12345678
    d_longlong=define, longlongsize=8, d_longdbl=define, longdblsize=16
    ivtype='long', ivsize=8, nvtype='double', nvsize=8, Off_t='off_t', lseeksize=8
    alignbytes=8, prototype=define
  Linker and Libraries:
    ld='cc', ldflags ='-pthread -Wl,-E  -fstack-protector -L/usr/local/lib'
    libpth=/usr/lib /usr/local/lib
    libs=-lgdbm -lm -lcrypt -lutil -lc
    perllibs=-lm -lcrypt -lutil -lc
    libc=, so=so, useshrplib=false, libperl=libperl.a
    gnulibc_version=''
  Dynamic Linking:
    dlsrc=dl_dlopen.xs, dlext=so, d_dlsymun=undef, ccdlflags=' '
    cccdlflags='-DPIC -fPIC', lddlflags='-shared  -L/usr/local/lib -fstack-protector'


Characteristics of this binary (from libperl): 
  Compile-time options: HAS_TIMES PERLIO_LAYERS PERL_DONT_CREATE_GVSV
                        PERL_HASH_FUNC_ONE_AT_A_TIME_HARD PERL_MALLOC_WRAP
                        PERL_PRESERVE_IVUV PERL_SAWAMPERSAND USE_64_BIT_ALL
                        USE_64_BIT_INT USE_LARGE_FILES USE_LOCALE
                        USE_LOCALE_COLLATE USE_LOCALE_CTYPE
                        USE_LOCALE_NUMERIC USE_PERLIO USE_PERL_ATOF
  Built under freebsd
  Compiled at Oct 19 2017 14:17:00
  %ENV:
    PERL5LIB="/home/cpansand/.cpan/build/2019020405/Bundle-Locale-CLDR-Southernafrica-0.34.0-1/blib/arch:/home/cpansand/.cpan/build/2019020405/Bundle-Locale-CLDR-Southernafrica-0.34.0-1/blib/lib:/home/cpansand/.cpan/build/2019020405/Bundle-Locale-CLDR-Subsaharanafrica-0.34.0-1/blib/arch:/home/cpansand/.cpan/build/2019020405/Bundle-Locale-CLDR-Subsaharanafrica-0.34.0-1/blib/lib:/home/cpansand/.cpan/build/2019020405/Bundle-Locale-CLDR-Europe-0.34.0-1/blib/arch:/home/cpansand/.cpan/build/2019020405/Bundle-Locale-CLDR-Europe-0.34.0-1/blib/lib:/home/cpansand/.cpan/build/2019020405/Bundle-Locale-CLDR-Westerneurope-0.34.0-1/blib/arch:/home/cpansand/.cpan/build/2019020405/Bundle-Locale-CLDR-Westerneurope-0.34.0-1/blib/lib:/home/cpansand/.cpan/build/2019020405/Bundle-Locale-CLDR-Easterneurope-0.34.0-1/blib/arch:/home/cpansand/.cpan/build/2019020405/Bundle-Locale-CLDR-Easterneurope-0.34.0-1/blib/lib:/home/cpansand/.cpan/build/2019020405/Bundle-Locale-CLDR-Northerneurope-0.34.0-1/blib/arch:/home/cpansand/.cpan/build/2019020405/Bundle-Locale-CLDR-Northerneurope-0.34.0-1/blib/lib:/home/cpansand/.cpan/build/2019020405/Bundle-Locale-CLDR-Southerneurope-0.34.0-1/blib/arch:/home/cpansand/.cpan/build/2019020405/Bundle-Locale-CLDR-Southerneurope-0.34.0-1/blib/lib"
    PERL5OPT=""
    PERL5_CPANPLUS_IS_RUNNING="72323"
    PERL5_CPAN_IS_RUNNING="72323"
    PERL5_CPAN_IS_RUNNING_IN_RECURSION="71476,72323"
    PERL_BATCH="yes"
    PERL_CANARY_STABILITY_NOPROMPT="1"
    PERL_CPAN_REPORTER_CONFIG="/var/tmp/cpansmoker-1023/2019020405/cpanreporter_000_config.ini"
    PERL_EXTUTILS_AUTOINSTALL="--defaultdeps"
  @INC:
    /home/cpansand/.cpan/build/2019020405/Bundle-Locale-CLDR-Southernafrica-0.34.0-1/blib/arch
    /home/cpansand/.cpan/build/2019020405/Bundle-Locale-CLDR-Southernafrica-0.34.0-1/blib/lib
    /home/cpansand/.cpan/build/2019020405/Bundle-Locale-CLDR-Subsaharanafrica-0.34.0-1/blib/arch
    /home/cpansand/.cpan/build/2019020405/Bundle-Locale-CLDR-Subsaharanafrica-0.34.0-1/blib/lib
    /home/cpansand/.cpan/build/2019020405/Bundle-Locale-CLDR-Europe-0.34.0-1/blib/arch
    /home/cpansand/.cpan/build/2019020405/Bundle-Locale-CLDR-Europe-0.34.0-1/blib/lib
    /home/cpansand/.cpan/build/2019020405/Bundle-Locale-CLDR-Westerneurope-0.34.0-1/blib/arch
    /home/cpansand/.cpan/build/2019020405/Bundle-Locale-CLDR-Westerneurope-0.34.0-1/blib/lib
    /home/cpansand/.cpan/build/2019020405/Bundle-Locale-CLDR-Easterneurope-0.34.0-1/blib/arch
    /home/cpansand/.cpan/build/2019020405/Bundle-Locale-CLDR-Easterneurope-0.34.0-1/blib/lib
    /home/cpansand/.cpan/build/2019020405/Bundle-Locale-CLDR-Northerneurope-0.34.0-1/blib/arch
    /home/cpansand/.cpan/build/2019020405/Bundle-Locale-CLDR-Northerneurope-0.34.0-1/blib/lib
    /home/cpansand/.cpan/build/2019020405/Bundle-Locale-CLDR-Southerneurope-0.34.0-1/blib/arch
    /home/cpansand/.cpan/build/2019020405/Bundle-Locale-CLDR-Southerneurope-0.34.0-1/blib/lib
    /usr/perl5.18.4p/lib/site_perl/5.18.4/amd64-freebsd
    /usr/perl5.18.4p/lib/site_perl/5.18.4
    /usr/perl5.18.4p/lib/5.18.4/amd64-freebsd
    /usr/perl5.18.4p/lib/5.18.4
    .