W3C-SOAP v0.14 Perl 5 v5.31.12 x86_64-linux

Status
Pass
From
Andreas J. König (ANDK)
Dist
W3C-SOAP v0.14
Platform
Perl 5 v5.31.12 x86_64-linux
Date
2020-05-03 17:14:33
ID
8ef5f1fe-8d61-11ea-8027-e05b24f61b5c
This distribution has been tested as part of the CPAN Testers
project, supporting the Perl programming language.  See
http://wiki.cpantesters.org/ for more information or email
questions to cpan-testers-discuss@perl.org


--
Dear Ivan Wills,

This is a computer-generated report for W3C-SOAP-0.14
on perl 5.31.12, created by CPAN-Reporter-1.2018.

Thank you for uploading your work to CPAN.  Congratulations!
All tests were successful.

Sections of this report:

    * Tester comments
    * Program output
    * Prerequisites
    * Environment and other context

------------------------------
TESTER COMMENTS
------------------------------

Additional comments from tester:

this report is from an automated smoke testing program
and was not reviewed by a human for accuracy

------------------------------
PROGRAM OUTPUT
------------------------------

Output from './Build test':

# Testing W3C::SOAP::XSD::VERSION, Perl 5.031012, /tmp/basesmoker-reloperl-0oD2/bin/perl
t/00-load.t ..................... ok
t/boilerplate.t ................. ok
t/critic.t ...................... skipped: Author test.  Set TEST_AUTHOR environment variable to a true value to run.
# 
t/elementFormDefault.t .......... ok
# 
t/elementFormDefault_dynamic.t .. ok
t/kwalitee.t .................... skipped: Author test.  Set TEST_AUTHOR environment variable to a true value to run.
t/pod-coverage.t ................ skipped: Author test.  Set TEST_AUTHOR environment variable to a true value to run.
t/pod.t ......................... ok
t/sec-username.t ................ ok
t/spelling.t .................... skipped: Author test.  Set TEST_AUTHOR environment variable to a true value to run.
t/utils.t ....................... ok
t/wsdl_header.t ................. ok
t/wsdl_parser.t ................. ok
t/wsdl_parser_dynamic.t ......... ok
t/wsdl_unusual_names.t .......... ok
All tests successful.
Files=15, Tests=216,  9 wallclock secs ( 0.06 usr  0.08 sys +  7.97 cusr  0.77 csys =  8.88 CPU)
Result: PASS

------------------------------
PREREQUISITES
------------------------------

Prerequisite modules loaded:

requires:

    Module                         Need  Have    
    ------------------------------ ----- --------
    DateTime                       0     1.52    
    DateTime::Format::Strptime     0     1.77    
    File::ShareDir                 1     1.116   
    File::Temp                     0.22  0.2309  
    List::MoreUtils                0     0.428   
    List::Util                     0     1.55    
    LWP::UserAgent                 0     6.44    
    Module::Build                  0.3   0.4231  
    Moose                          1     2.2012  
    Moose::Meta::Method            1     2.2012  
    Moose::Role                    1     2.2012  
    Moose::Util::TypeConstraints   1     2.2012  
    MooseX::Exception::Base        0     0.0.6   
    MooseX::Types                  0     0.50    
    MooseX::Types::XMLSchema       0.03  0.06    
    namespace::autoclean           0     0.29    
    Path::Tiny                     0     0.114   
    perl                           5.006 5.031012
    Scalar::Util                   0     1.55    
    Template                       2.2   3.008   
    Time::HiRes                    0     1.9764  
    Try::Tiny                      0     0.30    
    URI                            0     1.76    
    WWW::Mechanize                 1.6   1.96    
    XML::LibXML                    1.7   2.0204  

build_requires:

    Module                         Need  Have    
    ------------------------------ ----- --------
    parent                         0.225 0.238   
    Test::More                     0.88  1.302175
    Test::Warnings                 0     0.030   
    Test::XML                      0     0.08    

configure_requires:

    Module                         Need  Have    
    ------------------------------ ----- --------
    Module::Build                  0.38  0.4231  

opt_requires:

    Module                         Need  Have    
    ------------------------------ ----- --------
    AnyEvent                       0     7.17    
    AnyEvent::HTTP::LWP::UserAgent 0     0.10    
    MooseX::Aliases                0     0.11    
    Pod::Coverage                  0     0.23    
    Test::Kwalitee                 0     1.28    
    Test::Perl::Critic             0     1.04    
    Test::Spelling                 0     0.25    


------------------------------
ENVIRONMENT AND OTHER CONTEXT
------------------------------

Environment variables:

    AUTOMATED_TESTING = 1
    LANG = en_US.UTF-8
    PATH = /home/sand/bin:/usr/local/bin:/usr/bin:/bin:/usr/games:/usr/local/perl/bin:/usr/X11/bin:/sbin:/usr/sbin
    PERL5LIB = 
    PERL5OPT = 
    PERL5_CPANPLUS_IS_RUNNING = 3502509
    PERL5_CPAN_IS_RUNNING = 3502509
    PERL_CANARY_STABILITY_NOPROMPT = 1
    PERL_MM_USE_DEFAULT = 1
    PERL_USE_UNSAFE_INC = 1
    SHELL = /usr/bin/zsh
    TERM = screen

Perl special variables (and OS-specific diagnostics, for MSWin32):

    $^X = /tmp/basesmoker-reloperl-0oD2/bin/perl
    $UID/$EUID = 1005 / 1005
    $GID = 1005 1005
    $EGID = 1005 1005

Perl module toolchain versions installed:

    Module              Have    
    ------------------- --------
    CPAN                2.27    
    CPAN::Meta          2.150010
    Cwd                 3.78    
    ExtUtils::CBuilder  0.280234
    ExtUtils::Command   7.44    
    ExtUtils::Install   2.14    
    ExtUtils::MakeMaker 7.44    
    ExtUtils::Manifest  1.72    
    ExtUtils::ParseXS   3.40    
    File::Spec          3.78    
    JSON                4.02    
    JSON::PP            4.04    
    Module::Build       0.4231  
    Module::Signature   0.83    
    Parse::CPAN::Meta   2.150010
    Test::Harness       3.42    
    Test::More          1.302175
    YAML                1.30    
    YAML::Syck          1.32    
    version             0.9924  


--

Summary of my perl5 (revision 5 version 31 subversion 12) configuration:
  Commit id: 8ced1423dbb2a874f2d95e9c5c4c46960c2bf318
  Platform:
    osname=linux
    osvers=5.3.0-2-amd64
    archname=x86_64-linux
    uname='linux k93msid 5.3.0-2-amd64 #1 smp debian 5.3.9-3 (2019-11-19) x86_64 gnulinux '
    config_args='-Dprefix=/home/sand/src/perl/repoperls/installed-perls/host/k93msid/v5.31.11-18-g8ced1423db/bb7f -Dmyhostname=k93msid -Dinstallusrbinperl=n -Uversiononly -Dusedevel -des -Ui_db -Dlibswanted=cl pthread socket inet nsl gdbm dbm malloc dl ld sun m crypt sec util c cposix posix ucb BSD gdbm_compat -Uuseithreads -Uuselongdouble -DEBUGGING=both'
    hint=recommended
    useposix=true
    d_sigaction=define
    useithreads=undef
    usemultiplicity=undef
    use64bitint=define
    use64bitall=define
    uselongdouble=undef
    usemymalloc=n
    default_inc_excludes_dot=define
    bincompat5005=undef
  Compiler:
    cc='cc'
    ccflags ='-fwrapv -DDEBUGGING -fno-strict-aliasing -pipe -fstack-protector-strong -I/usr/local/include -D_LARGEFILE_SOURCE -D_FILE_OFFSET_BITS=64 -D_FORTIFY_SOURCE=2'
    optimize='-O2 -g'
    cppflags='-fwrapv -DDEBUGGING -fno-strict-aliasing -pipe -fstack-protector-strong -I/usr/local/include'
    ccversion=''
    gccversion='9.2.1 20191109'
    gccosandvers=''
    intsize=4
    longsize=8
    ptrsize=8
    doublesize=8
    byteorder=12345678
    doublekind=3
    d_longlong=define
    longlongsize=8
    d_longdbl=define
    longdblsize=16
    longdblkind=3
    ivtype='long'
    ivsize=8
    nvtype='double'
    nvsize=8
    Off_t='off_t'
    lseeksize=8
    alignbytes=8
    prototype=define
  Linker and Libraries:
    ld='cc'
    ldflags =' -fstack-protector-strong -L/usr/local/lib'
    libpth=/usr/local/lib /usr/lib/gcc/x86_64-linux-gnu/9/include-fixed /usr/include/x86_64-linux-gnu /usr/lib /lib/x86_64-linux-gnu /lib/../lib /usr/lib/x86_64-linux-gnu /usr/lib/../lib /lib
    libs=-lpthread -lnsl -ldl -lm -lcrypt -lutil -lc
    perllibs=-lpthread -lnsl -ldl -lm -lcrypt -lutil -lc
    libc=libc-2.29.so
    so=so
    useshrplib=false
    libperl=libperl.a
    gnulibc_version='2.29'
  Dynamic Linking:
    dlsrc=dl_dlopen.xs
    dlext=so
    d_dlsymun=undef
    ccdlflags='-Wl,-E'
    cccdlflags='-fPIC'
    lddlflags='-shared -O2 -g -L/usr/local/lib -fstack-protector-strong'


Characteristics of this binary (from libperl): 
  Compile-time options:
    DEBUGGING
    HAS_TIMES
    PERLIO_LAYERS
    PERL_COPY_ON_WRITE
    PERL_DONT_CREATE_GVSV
    PERL_MALLOC_WRAP
    PERL_OP_PARENT
    PERL_PRESERVE_IVUV
    PERL_USE_DEVEL
    USE_64_BIT_ALL
    USE_64_BIT_INT
    USE_LARGE_FILES
    USE_LOCALE
    USE_LOCALE_COLLATE
    USE_LOCALE_CTYPE
    USE_LOCALE_NUMERIC
    USE_LOCALE_TIME
    USE_PERLIO
    USE_PERL_ATOF
  Built under linux
  Compiled at May  3 2020 00:17:51
  %ENV:
    PERL5LIB=""
    PERL5OPT=""
    PERL5_CPANPLUS_IS_RUNNING="3502509"
    PERL5_CPAN_IS_RUNNING="3502509"
    PERL_CANARY_STABILITY_NOPROMPT="1"
    PERL_MM_USE_DEFAULT="1"
    PERL_USE_UNSAFE_INC="1"
  @INC:
    /home/sand/src/perl/repoperls/installed-perls/host/k93msid/v5.31.11-18-g8ced1423db/bb7f/lib/site_perl/5.31.12/x86_64-linux
    /home/sand/src/perl/repoperls/installed-perls/host/k93msid/v5.31.11-18-g8ced1423db/bb7f/lib/site_perl/5.31.12
    /home/sand/src/perl/repoperls/installed-perls/host/k93msid/v5.31.11-18-g8ced1423db/bb7f/lib/5.31.12/x86_64-linux
    /home/sand/src/perl/repoperls/installed-perls/host/k93msid/v5.31.11-18-g8ced1423db/bb7f/lib/5.31.12
    .