Back
From: metabase:user:68a9c4ac-1ec7-11e0-bf29-9c4bfeb2ac3f
Subject: PASS Digest-ECHO-0.04 v5.20.0 GNU/Linux
Date: 2014-06-29T00:01:45Z
This distribution has been tested as part of the CPAN Testers
project, supporting the Perl programming language. See
http://wiki.cpantesters.org/ for more information or email
questions to cpan-testers-discuss@perl.org
--
Dear gray,
This is a computer-generated report for Digest-ECHO-0.04
on perl 5.20.0, created by CPAN-Reporter-1.2011.
Thank you for uploading your work to CPAN. Congratulations!
All tests were successful.
Sections of this report:
* Tester comments
* Program output
* Prerequisites
* Environment and other context
------------------------------
TESTER COMMENTS
------------------------------
Additional comments from tester:
none provided
------------------------------
PROGRAM OUTPUT
------------------------------
Output from '/usr/bin/make test':
Running Mkbootstrap for Digest::ECHO ()
chmod 644 ECHO.bs
PERL_DL_NONLAZY=1 /home/rando/perl5/perlbrew/perls/20.0sf/bin/perl "-MExtUtils::Command::MM" "-MTest::Harness" "-e" "undef *Test::Harness::Switches; test_harness(0, 'blib/lib', 'blib/arch')" t/*.t
# Testing Digest::ECHO 0.04
t/00_load.t .. ok
t/01_new.t ... ok
t/224.t ...... ok
t/256.t ...... ok
t/384.t ...... ok
t/512.t ...... ok
All tests successful.
Files=6, Tests=292, 0 wallclock secs ( 0.07 usr 0.01 sys + 0.17 cusr 0.02 csys = 0.27 CPU)
Result: PASS
------------------------------
PREREQUISITES
------------------------------
Prerequisite modules loaded:
requires:
Module Need Have
------------------- ---- --------
Digest 0 1.17
MIME::Base64 0 3.14
parent 0 0.228
build_requires:
Module Need Have
------------------- ---- --------
Test::More 0.82 1.001003
configure_requires:
Module Need Have
------------------- ---- --------
ExtUtils::MakeMaker 0 6.98
------------------------------
ENVIRONMENT AND OTHER CONTEXT
------------------------------
Environment variables:
HARNESS_SUBCLASS = TAP::Harness::Restricted
LANG = en_US.UTF-8
LANGUAGE = en_US.UTF-8
LC_ALL = en_US.UTF-8
LC_CTYPE = en_US.UTF-8
PATH = /home/rando/perl5/perlbrew/bin:/home/rando/perl5/perlbrew/perls/20.0sf/bin:/home/rando/devel/linux:/home/rando/scala/sbt/bin:/home/rando/scala/local/bin:/home/rando/python/venv/2.7.3/bin:/home/rando/perl5/perlbrew/bin:/home/rando/perl5/perlbrew/perls/local/bin:/home/rando/node/global/bin:/home/rando/java/grails-2.1.1/bin:/home/rando/java/groovy-2.0.5/bin:/home/rando/java/jdk1.7.0_11/bin:/home/rando/gopath/bin:/home/rando/go/bin:/home/rando/bin:/home/rando/bin/contrib:/usr/lib/lightdm/lightdm:/usr/local/sbin:/usr/local/bin:/usr/sbin:/usr/bin:/sbin:/bin:/usr/games
PERL5LIB =
PERL5OPT =
PERL5_CPANPLUS_IS_RUNNING = 11823
PERL5_CPAN_IS_RUNNING = 11823
PERLBREW_BASHRC_VERSION = 0.69
PERLBREW_HOME = /home/rando/.perlbrew
PERLBREW_MANPATH = /home/rando/perl5/perlbrew/perls/20.0sf/man
PERLBREW_PATH = /home/rando/perl5/perlbrew/bin:/home/rando/perl5/perlbrew/perls/20.0sf/bin
PERLBREW_PERL = 20.0sf
PERLBREW_ROOT = /home/rando/perl5/perlbrew
PERLBREW_VERSION = 0.67
PERL_CPANM_OPT = --save-dists /home/rando/perl5/cpan/mini --mirror http://cpan.local:4999/-CPAN/ --mirror http://cpan.ezarticleinformation.com/ --mirror http://search.cpan.org/CPAN/
SHELL = /bin/bash
TERM = screen-256color
Perl special variables (and OS-specific diagnostics, for MSWin32):
$^X = /home/rando/perl5/perlbrew/perls/20.0sf/bin/perl
$UID/$EUID = 1000 / 1000
$GID = 1000 4 24 27 30 46 105 110 123 127 1000 1002
$EGID = 1000 4 24 27 30 46 105 110 123 127 1000 1002
Perl module toolchain versions installed:
Module Have
------------------- --------
CPAN 2.05
CPAN::Meta 2.141520
Cwd 3.47
ExtUtils::CBuilder 0.280216
ExtUtils::Command 1.18
ExtUtils::Install 1.67
ExtUtils::MakeMaker 6.98
ExtUtils::Manifest 1.63
ExtUtils::ParseXS 3.24
File::Spec 3.47
JSON 2.90
JSON::PP 2.27203
Module::Build 0.4205
Module::Signature 0.73
Parse::CPAN::Meta 1.4414
Test::Harness 3.32
Test::More 1.001003
YAML 0.94
YAML::Syck 1.27
version 0.9908
--
Summary of my perl5 (revision 5 version 20 subversion 0) configuration:
Platform:
osname=linux, osvers=3.2.0-65-generic, archname=x86_64-linux
uname='linux raptor 3.2.0-65-generic #98-ubuntu smp wed jun 11 20:27:07 utc 2014 x86_64 x86_64 x86_64 gnulinux '
config_args='-de -Dprefix=/home/rando/perl5/perlbrew/perls/20.0sf -Dman1dir=none -Dman3dir=none -Dcccdlflags=-fPIC -Duseshrplib -Aeval:scriptdir=/home/rando/perl5/perlbrew/perls/20.0sf/bin'
hint=recommended, useposix=true, d_sigaction=define
useithreads=undef, usemultiplicity=undef
use64bitint=define, use64bitall=define, uselongdouble=undef
usemymalloc=n, bincompat5005=undef
Compiler:
cc='cc', ccflags ='-fwrapv -fno-strict-aliasing -pipe -fstack-protector -I/usr/local/include -D_LARGEFILE_SOURCE -D_FILE_OFFSET_BITS=64',
optimize='-O2',
cppflags='-fwrapv -fno-strict-aliasing -pipe -fstack-protector -I/usr/local/include'
ccversion='', gccversion='4.6.3', gccosandvers=''
intsize=4, longsize=8, ptrsize=8, doublesize=8, byteorder=12345678
d_longlong=define, longlongsize=8, d_longdbl=define, longdblsize=16
ivtype='long', ivsize=8, nvtype='double', nvsize=8, Off_t='off_t', lseeksize=8
alignbytes=8, prototype=define
Linker and Libraries:
ld='cc', ldflags =' -fstack-protector -L/usr/local/lib'
libpth=/usr/local/lib /usr/lib/gcc/x86_64-linux-gnu/4.6/include-fixed /usr/include/x86_64-linux-gnu /usr/lib /lib/x86_64-linux-gnu /lib/../lib /usr/lib/x86_64-linux-gnu /usr/lib/../lib /lib
libs=-lnsl -ldl -lm -lcrypt -lutil -lc
perllibs=-lnsl -ldl -lm -lcrypt -lutil -lc
libc=, so=so, useshrplib=true, libperl=libperl.so
gnulibc_version='2.15'
Dynamic Linking:
dlsrc=dl_dlopen.xs, dlext=so, d_dlsymun=undef, ccdlflags='-Wl,-E -Wl,-rpath,/home/rando/perl5/perlbrew/perls/20.0sf/lib/5.20.0/x86_64-linux/CORE'
cccdlflags='-fPIC', lddlflags='-shared -O2 -L/usr/local/lib -fstack-protector'
Characteristics of this binary (from libperl):
Compile-time options: HAS_TIMES PERLIO_LAYERS PERL_DONT_CREATE_GVSV
PERL_HASH_FUNC_ONE_AT_A_TIME_HARD PERL_MALLOC_WRAP
PERL_NEW_COPY_ON_WRITE PERL_PRESERVE_IVUV
USE_64_BIT_ALL USE_64_BIT_INT USE_LARGE_FILES
USE_LOCALE USE_LOCALE_COLLATE USE_LOCALE_CTYPE
USE_LOCALE_NUMERIC USE_PERLIO USE_PERL_ATOF
Built under linux
Compiled at Jun 28 2014 07:22:44
%ENV:
PERL5LIB=""
PERL5OPT=""
PERL5_CPANPLUS_IS_RUNNING="11823"
PERL5_CPAN_IS_RUNNING="11823"
PERLBREW_BASHRC_VERSION="0.69"
PERLBREW_HOME="/home/rando/.perlbrew"
PERLBREW_MANPATH="/home/rando/perl5/perlbrew/perls/20.0sf/man"
PERLBREW_PATH="/home/rando/perl5/perlbrew/bin:/home/rando/perl5/perlbrew/perls/20.0sf/bin"
PERLBREW_PERL="20.0sf"
PERLBREW_ROOT="/home/rando/perl5/perlbrew"
PERLBREW_VERSION="0.67"
PERL_CPANM_OPT="--save-dists /home/rando/perl5/cpan/mini --mirror http://cpan.local:4999/-CPAN/ --mirror http://cpan.ezarticleinformation.com/ --mirror http://search.cpan.org/CPAN/"
@INC:
/home/rando/perl5/perlbrew/perls/20.0sf/lib/site_perl/5.20.0/x86_64-linux
/home/rando/perl5/perlbrew/perls/20.0sf/lib/site_perl/5.20.0
/home/rando/perl5/perlbrew/perls/20.0sf/lib/5.20.0/x86_64-linux
/home/rando/perl5/perlbrew/perls/20.0sf/lib/5.20.0
.