MooseX-Util v0.006 Perl 5 v5.24.4 x86_64-linux-multi
- Status
- Pass
- From
- Serguei Trouchelle (STRO)
- Dist
-
MooseX-Util v0.006
- Platform
- Perl 5 v5.24.4 x86_64-linux-multi
- Date
- 2018-08-24 02:58:20
- ID
- 8ebef4ba-a749-11e8-ab81-a57af8766df6
This distribution has been tested as part of the CPAN Testers
project, supporting the Perl programming language. See
http://wiki.cpantesters.org/ for more information or email
questions to cpan-testers-discuss@perl.org
--
Dear Chris Weyl,
This is a computer-generated report for MooseX-Util-0.006
on perl 5.24.4, created by CPAN-Reporter-1.2018.
Thank you for uploading your work to CPAN. Congratulations!
All tests were successful.
Sections of this report:
* Tester comments
* Program output
* Prerequisites
* Environment and other context
------------------------------
TESTER COMMENTS
------------------------------
Additional comments from tester:
none provided
------------------------------
PROGRAM OUTPUT
------------------------------
Output from '/usr/bin/make test':
PERL_DL_NONLAZY=1 "/home/stro/perl/5.24.4m/bin/perl" "-MExtUtils::Command::MM" "-MTest::Harness" "-e" "undef *Test::Harness::Switches; test_harness(0, 'blib/lib', 'blib/arch')" t/*.t t/metaclass/*.t
t/00-check-deps.t ............. ok
t/00-compile.t ................ ok
#
#
# Generated by Dist::Zilla::Plugin::ReportVersions::Tiny v1.12
# perl: 5.024004 (wanted 5.006) on linux from /home/stro/perl/5.24.4m/bin/perl
#
# Carp => 1.40 (want any version)
# ExtUtils::MakeMaker => 7.34 (want any version)
# File::Spec => 3.6301 (want any version)
# IO::Handle => 1.36 (want any version)
# IPC::Open3 => 1.20 (want any version)
# Moose => 2.2011 (want any version)
# Moose::Meta::Class => 2.2011 (want any version)
# Moose::Role => 2.2011 (want any version)
# Moose::Util => 2.2011 (want any version)
# MooseX::TraitFor::Meta::Class::BetterAnonClassNames => 0.002003 (want 0.002001)
# Sub::Exporter::Progressive => 0.001013 (want any version)
# Test::CheckDeps => 0.010 (want 0.010)
# Test::Moose::More => 0.050 (want 0.016)
# Test::More => 1.302138 (want 0.94)
# Test::Requires => 0.10 (want any version)
# aliased => 0.34 (want any version)
# namespace::autoclean => 0.28 (want any version)
# parent => 0.234 (want any version)
# strict => 1.11 (want any version)
# warnings => 1.36 (want any version)
#
# Thanks for using my code. I hope it works for you.
# If not, please try and include this output in the bug report.
# That will help me reproduce the issue and solve your problem.
#
t/000-report-versions-tiny.t .. ok
t/basic.t ..................... ok
t/find_meta.t ................. ok
t/is_private.t ................ ok
t/metaclass/compat.t .......... skipped: Test requires module 'Reindeer' but it's not found
t/metaclass/validate.t ........ ok
t/with_traits.t ............... ok
All tests successful.
Files=9, Tests=61, 4 wallclock secs ( 0.03 usr 0.00 sys + 1.81 cusr 0.09 csys = 1.93 CPU)
Result: PASS
------------------------------
PREREQUISITES
------------------------------
Prerequisite modules loaded:
requires:
Module Need Have
--------------------------------------------------- -------- --------
Carp 0 1.40
Moose 0 2.2011
Moose::Meta::Class 0 2.2011
Moose::Util 0 2.2011
MooseX::TraitFor::Meta::Class::BetterAnonClassNames 0.002001 0.002003
namespace::autoclean 0 0.28
parent 0 0.234
perl 5.006 5.024004
strict 0 1.11
Sub::Exporter::Progressive 0 0.001013
warnings 0 1.36
build_requires:
Module Need Have
--------------------------------------------------- -------- --------
aliased 0 0.34
ExtUtils::MakeMaker 0 7.34
File::Spec 0 3.63_01
IO::Handle 0 1.36
IPC::Open3 0 1.20
Moose::Role 0 2.2011
Test::CheckDeps 0.010 0.010
Test::Moose::More 0.016 0.050
Test::More 0.94 1.302138
Test::Requires 0 0.10
configure_requires:
Module Need Have
--------------------------------------------------- -------- --------
ExtUtils::MakeMaker 0 7.34
perl 5.006 5.024004
------------------------------
ENVIRONMENT AND OTHER CONTEXT
------------------------------
Environment variables:
LANG = en_US.UTF-8
NONINTERACTIVE_TESTING = 1
PATH = /usr/local/bin:/usr/bin:/bin:/usr/local/games:/usr/games
PERL5LIB =
PERL5OPT =
PERL5_CPANPLUS_IS_RUNNING = 28761
PERL5_CPAN_IS_RUNNING = 28761
PERL_MM_USE_DEFAULT = 1
SHELL = /bin/bash
TERM = xterm
Perl special variables (and OS-specific diagnostics, for MSWin32):
$^X = /home/stro/perl/5.24.4m/bin/perl
$UID/$EUID = 1000 / 1000
$GID = 1000 24 25 29 30 44 46 108 114 1000
$EGID = 1000 24 25 29 30 44 46 108 114 1000
Perl module toolchain versions installed:
Module Have
------------------- ----------
CPAN 2.16
CPAN::Meta 2.150005
Cwd 3.63_01
ExtUtils::CBuilder 0.280225
ExtUtils::Command 7.34
ExtUtils::Install 2.06
ExtUtils::MakeMaker 7.34
ExtUtils::Manifest 1.70
ExtUtils::ParseXS 3.31
File::Spec 3.63_01
JSON 2.97001
JSON::PP 2.97001
Module::Build 0.4224
Module::Signature n/a
Parse::CPAN::Meta 1.4417_001
Test::Harness 3.36_01
Test::More 1.302138
YAML 1.24
YAML::Syck 1.30
version 0.9916
--
Summary of my perl5 (revision 5 version 24 subversion 4) configuration:
Platform:
osname=linux, osvers=3.16.0-4-amd64, archname=x86_64-linux-multi
uname='linux vm-debian-001 3.16.0-4-amd64 #1 smp debian 3.16.7-ckt11-1 (2015-05-24) x86_64 gnulinux '
config_args=''
hint=recommended, useposix=true, d_sigaction=define
useithreads=undef, usemultiplicity=define
use64bitint=define, use64bitall=define, uselongdouble=undef
usemymalloc=n, bincompat5005=undef
Compiler:
cc='cc', ccflags ='-fwrapv -fno-strict-aliasing -pipe -fstack-protector-strong -I/usr/local/include -D_LARGEFILE_SOURCE -D_FILE_OFFSET_BITS=64 -D_FORTIFY_SOURCE=2',
optimize='-O2',
cppflags='-fwrapv -fno-strict-aliasing -pipe -fstack-protector-strong -I/usr/local/include'
ccversion='', gccversion='4.9.2', gccosandvers=''
intsize=4, longsize=8, ptrsize=8, doublesize=8, byteorder=12345678, doublekind=3
d_longlong=define, longlongsize=8, d_longdbl=define, longdblsize=16, longdblkind=3
ivtype='long', ivsize=8, nvtype='double', nvsize=8, Off_t='off_t', lseeksize=8
alignbytes=8, prototype=define
Linker and Libraries:
ld='cc', ldflags =' -fstack-protector-strong -L/usr/local/lib'
libpth=/usr/local/lib /usr/lib/gcc/x86_64-linux-gnu/4.9/include-fixed /usr/include/x86_64-linux-gnu /usr/lib /lib/x86_64-linux-gnu /lib/../lib /usr/lib/x86_64-linux-gnu /usr/lib/../lib /lib
libs=-lpthread -lnsl -ldl -lm -lcrypt -lutil -lc
perllibs=-lpthread -lnsl -ldl -lm -lcrypt -lutil -lc
libc=libc-2.19.so, so=so, useshrplib=false, libperl=libperl.a
gnulibc_version='2.19'
Dynamic Linking:
dlsrc=dl_dlopen.xs, dlext=so, d_dlsymun=undef, ccdlflags='-Wl,-E'
cccdlflags='-fPIC', lddlflags='-shared -O2 -L/usr/local/lib -fstack-protector-strong'
Characteristics of this binary (from libperl):
Compile-time options: HAS_TIMES MULTIPLICITY PERLIO_LAYERS
PERL_COPY_ON_WRITE PERL_DONT_CREATE_GVSV
PERL_HASH_FUNC_ONE_AT_A_TIME_HARD
PERL_IMPLICIT_CONTEXT PERL_MALLOC_WRAP
PERL_PRESERVE_IVUV USE_64_BIT_ALL USE_64_BIT_INT
USE_LARGE_FILES USE_LOCALE USE_LOCALE_COLLATE
USE_LOCALE_CTYPE USE_LOCALE_NUMERIC USE_LOCALE_TIME
USE_PERLIO USE_PERL_ATOF
Built under linux
Compiled at Apr 18 2018 01:49:13
%ENV:
PERL5LIB=""
PERL5OPT=""
PERL5_CPANPLUS_IS_RUNNING="28761"
PERL5_CPAN_IS_RUNNING="28761"
PERL_MM_USE_DEFAULT="1"
@INC:
/home/stro/perl/5.24.4m/lib/site_perl/5.24.4/x86_64-linux-multi
/home/stro/perl/5.24.4m/lib/site_perl/5.24.4
/home/stro/perl/5.24.4m/lib/5.24.4/x86_64-linux-multi
/home/stro/perl/5.24.4m/lib/5.24.4
.