Test-CleanNamespaces v0.24 Perl 5 v5.34.0 x86_64-linux-quadmath

Status
Pass
From
Andreas J. König (ANDK)
Dist
Test-CleanNamespaces v0.24
Platform
Perl 5 v5.34.0 x86_64-linux-quadmath
Date
2024-06-04 19:28:01
ID
8eb484e0-22a8-11ef-a2b8-af92bdef2f0a
This distribution has been tested as part of the CPAN Testers
project, supporting the Perl programming language.  See
http://wiki.cpantesters.org/ for more information or email
questions to cpan-testers-discuss@perl.org


--
Dear Karen Etheridge,

This is a computer-generated report for Test-CleanNamespaces-0.24
on perl 5.34.0, created by CPAN-Reporter-1.2019.

Thank you for uploading your work to CPAN.  Congratulations!
All tests were successful.

Sections of this report:

    * Tester comments
    * Program output
    * Prerequisites
    * Environment and other context

------------------------------
TESTER COMMENTS
------------------------------

Additional comments from tester:

this report is from an automated smoke testing program
and was not reviewed by a human for accuracy

------------------------------
PROGRAM OUTPUT
------------------------------

Output from '/usr/bin/make test':

PERL_DL_NONLAZY=1 "/home/sand/src/perl/repoperls/installed-perls/host/k93msid/v5.34.0/ec94/bin/perl" "-MExtUtils::Command::MM" "-MTest::Harness" "-e" "undef *Test::Harness::Switches; test_harness(0, 'blib/lib', 'blib/arch')" t/*.t
# 
# Versions for all modules listed in MYMETA.json (including optional ones):
# 
# === Configure Requires ===
# 
#     Module                       Want     Have
#     ------------------------ -------- --------
#     CPAN::Meta::Requirements 2.120620    2.143
#     ExtUtils::MakeMaker           any     7.70
#     Module::Metadata              any 1.000037
# 
# === Build Requires ===
# 
#     Module              Want Have
#     ------------------- ---- ----
#     ExtUtils::MakeMaker  any 7.70
# 
# === Test Requires ===
# 
#     Module                 Want     Have
#     --------------------- ----- --------
#     ExtUtils::MakeMaker     any     7.70
#     File::Spec              any     3.80
#     File::Spec::Functions   any     3.80
#     File::pushd             any    1.016
#     Scalar::Util            any     1.63
#     Sub::Exporter           any    0.991
#     Test::Deep              any    1.204
#     Test::More             0.96 1.302198
#     Test::Needs             any 0.002010
#     Test::Tester            any 1.302198
#     Test::Warnings        0.009    0.033
#     constant                any     1.33
#     if                      any   0.0609
#     lib                     any     0.65
#     namespace::clean        any     0.27
#     overload                any     1.33
#     parent                  any    0.241
# 
# === Test Recommends ===
# 
#     Module         Want     Have
#     ---------- -------- --------
#     CPAN::Meta 2.120900 2.150010
# 
# === Test Suggests ===
# 
#     Module                          Want     Have
#     --------------------------- -------- --------
#     Class::MOP::Class                any   2.2207
#     Moo                              any 2.005005
#     Moo::Role                        any 2.005005
#     Moose                            any   2.2207
#     Moose::Exporter                  any   2.2207
#     Moose::Role                      any   2.2207
#     MooseX::Role::Parameterized      any     1.11
#     Mouse                            any  missing
#     Mouse::Role                      any  missing
#     Role::Tiny                  1.003000 2.002004
#     metaclass                        any   2.2207
# 
# === Runtime Requires ===
# 
#     Module              Want     Have
#     --------------- -------- --------
#     Exporter            5.57     5.76
#     File::Find           any     1.39
#     File::Spec           any     3.80
#     Module::Runtime      any    0.016
#     Package::Stash      0.14     0.40
#     Role::Tiny      1.003000 2.002004
#     Sub::Identify        any     0.14
#     Test::Builder        any 1.302198
#     strict               any     1.12
#     warnings             any     1.51
# 
# === Runtime Recommends ===
# 
#     Module             Want Have
#     ------------------ ---- ----
#     Package::Stash::XS  any 0.30
# 
# === Runtime Suggests ===
# 
#     Module     Want     Have
#     ---------- ---- --------
#     Role::Tiny  any 2.002004
# 
# === Other Modules ===
# 
#     Module            Have
#     --------------- ------
#     Encode            3.21
#     File::Temp      0.2311
#     JSON::PP          4.16
#     Module::Runtime  0.016
#     Pod::Coverage     0.23
#     Sub::Name         0.27
#     YAML              1.31
#     autodie           2.34
# 
t/00-report-prereqs.t ......... ok
t/basic.t ..................... ok
t/class_mop.t ................. ok
t/clean-namespaces.t .......... ok
t/find_modules.t .............. ok
t/moo.t ....................... ok
t/moose-parameterized-role.t .. ok
t/moose.t ..................... ok
t/mouse.t ..................... skipped: Need Mouse
t/overload.t .................. ok
t/role_tiny.t ................. ok
t/self.t ...................... ok
t/zzz-check-breaks.t .......... ok
All tests successful.
Files=13, Tests=192,  7 wallclock secs ( 0.05 usr  0.06 sys +  2.28 cusr  0.90 csys =  3.29 CPU)
Result: PASS

------------------------------
PREREQUISITES
------------------------------

Prerequisite modules loaded:

requires:

    Module                   Need     Have    
    ------------------------ -------- --------
    Exporter                 5.57     5.76    
    File::Find               0        1.39    
    File::Spec               0        3.80    
    Module::Runtime          0        0.016   
    Package::Stash           0.14     0.40    
    perl                     5.006    5.034000
    Role::Tiny               1.003000 2.002004
    strict                   0        1.12    
    Sub::Identify            0        0.14    
    Test::Builder            0        1.302198
    warnings                 0        1.51    

build_requires:

    Module                   Need     Have    
    ------------------------ -------- --------
    constant                 0        1.33    
    ExtUtils::MakeMaker      0        7.70    
    File::pushd              0        1.016   
    File::Spec               0        3.80    
    File::Spec::Functions    0        3.80    
    if                       0        0.0609  
    lib                      0        0.65    
    namespace::clean         0        0.27    
    overload                 0        1.33    
    parent                   0        0.241   
    Scalar::Util             0        1.63    
    Sub::Exporter            0        0.991   
    Test::Deep               0        1.204   
    Test::More               0.96     1.302198
    Test::Needs              0        0.002010
    Test::Tester             0        1.302198
    Test::Warnings           0.009    0.033   

configure_requires:

    Module                   Need     Have    
    ------------------------ -------- --------
    CPAN::Meta::Requirements 2.120620 2.143   
    ExtUtils::MakeMaker      0        7.70    
    Module::Metadata         0        1.000037
    perl                     5.006    5.034000

opt_requires:

    Module                   Need     Have    
    ------------------------ -------- --------
    Package::Stash::XS       0        0.30    


------------------------------
ENVIRONMENT AND OTHER CONTEXT
------------------------------

Environment variables:

    AUTOMATED_TESTING = 1
    LANG = en_US.UTF-8
    LANGUAGE = en_US:en
    PATH = /home/sand/bin:/usr/local/bin:/usr/bin:/bin:/usr/games:/usr/local/perl/bin:/usr/X11/bin:/sbin:/usr/sbin
    PERL5LIB = 
    PERL5OPT = 
    PERL5_CPANPLUS_IS_RUNNING = 3844396
    PERL5_CPAN_IS_RUNNING = 3844396
    PERL_CANARY_STABILITY_NOPROMPT = 1
    PERL_MM_USE_DEFAULT = 1
    PERL_USE_UNSAFE_INC = 1
    SHELL = /usr/bin/zsh
    TERM = screen

Perl special variables (and OS-specific diagnostics, for MSWin32):

    $^X = /home/sand/src/perl/repoperls/installed-perls/host/k93msid/v5.34.0/ec94/bin/perl
    $UID/$EUID = 1005 / 1005
    $GID = 1005 1005
    $EGID = 1005 1005

Perl module toolchain versions installed:

    Module              Have    
    ------------------- --------
    CPAN                2.36    
    CPAN::Meta          2.150010
    Cwd                 3.80    
    ExtUtils::CBuilder  0.280236
    ExtUtils::Command   7.70    
    ExtUtils::Install   2.20    
    ExtUtils::MakeMaker 7.70    
    ExtUtils::Manifest  1.73    
    ExtUtils::ParseXS   3.43    
    File::Spec          3.80    
    JSON                4.10    
    JSON::PP            4.16    
    Module::Build       0.4234  
    Module::Signature   0.88    
    Parse::CPAN::Meta   2.150010
    Test2               1.302198
    Test::Harness       3.48    
    Test::More          1.302198
    YAML                1.31    
    YAML::Syck          1.34    
    version             0.9930  


--

Summary of my perl5 (revision 5 version 34 subversion 0) configuration:
  Commit id: 79a7b254d85a10b65126ad99bf10e70480569d68
  Platform:
    osname=linux
    osvers=6.7.9-amd64
    archname=x86_64-linux-quadmath
    uname='linux k93msid 6.7.9-amd64 #1 smp preempt_dynamic debian 6.7.9-2 (2024-03-13) x86_64 gnulinux '
    config_args='-Dprefix=/home/sand/src/perl/repoperls/installed-perls/host/k93msid/v5.34.0/ec94 -Dmyhostname=k93msid -Dinstallusrbinperl=n -Uversiononly -Dusedevel -des -Ui_db -Dlibswanted=cl pthread socket inet nsl gdbm dbm malloc dl ld sun m crypt sec util c cposix posix ucb BSD gdbm_compat -Uuseithreads -Uuselongdouble -DEBUGGING=both -Dusequadmath'
    hint=recommended
    useposix=true
    d_sigaction=define
    useithreads=undef
    usemultiplicity=undef
    use64bitint=define
    use64bitall=define
    uselongdouble=undef
    usemymalloc=n
    default_inc_excludes_dot=define
  Compiler:
    cc='cc'
    ccflags ='-fwrapv -DDEBUGGING -fno-strict-aliasing -pipe -fstack-protector-strong -I/usr/local/include -D_LARGEFILE_SOURCE -D_FILE_OFFSET_BITS=64 -D_FORTIFY_SOURCE=2'
    optimize='-O2 -g'
    cppflags='-fwrapv -DDEBUGGING -fno-strict-aliasing -pipe -fstack-protector-strong -I/usr/local/include'
    ccversion=''
    gccversion='13.2.0'
    gccosandvers=''
    intsize=4
    longsize=8
    ptrsize=8
    doublesize=8
    byteorder=12345678
    doublekind=3
    d_longlong=define
    longlongsize=8
    d_longdbl=define
    longdblsize=16
    longdblkind=3
    ivtype='long'
    ivsize=8
    nvtype='__float128'
    nvsize=16
    Off_t='off_t'
    lseeksize=8
    alignbytes=16
    prototype=define
  Linker and Libraries:
    ld='cc'
    ldflags =' -fstack-protector-strong -L/usr/local/lib'
    libpth=/usr/local/lib /usr/lib/x86_64-linux-gnu /usr/lib /usr/lib64
    libs=-lpthread -ldl -lm -lcrypt -lutil -lc -lquadmath
    perllibs=-lpthread -ldl -lm -lcrypt -lutil -lc -lquadmath
    libc=/lib/x86_64-linux-gnu/libc.so.6
    so=so
    useshrplib=false
    libperl=libperl.a
    gnulibc_version='2.37'
  Dynamic Linking:
    dlsrc=dl_dlopen.xs
    dlext=so
    d_dlsymun=undef
    ccdlflags='-Wl,-E'
    cccdlflags='-fPIC'
    lddlflags='-shared -O2 -g -L/usr/local/lib -fstack-protector-strong'


Characteristics of this binary (from libperl): 
  Compile-time options:
    DEBUGGING
    HAS_TIMES
    PERLIO_LAYERS
    PERL_COPY_ON_WRITE
    PERL_DONT_CREATE_GVSV
    PERL_MALLOC_WRAP
    PERL_OP_PARENT
    PERL_PRESERVE_IVUV
    PERL_USE_DEVEL
    USE_64_BIT_ALL
    USE_64_BIT_INT
    USE_LARGE_FILES
    USE_LOCALE
    USE_LOCALE_COLLATE
    USE_LOCALE_CTYPE
    USE_LOCALE_NUMERIC
    USE_LOCALE_TIME
    USE_PERLIO
    USE_PERL_ATOF
    USE_QUADMATH
  Built under linux
  Compiled at Apr 15 2024 21:36:40
  %ENV:
    PERL5LIB=""
    PERL5OPT=""
    PERL5_CPANPLUS_IS_RUNNING="3844396"
    PERL5_CPAN_IS_RUNNING="3844396"
    PERL_CANARY_STABILITY_NOPROMPT="1"
    PERL_MM_USE_DEFAULT="1"
    PERL_USE_UNSAFE_INC="1"
  @INC:
    /home/sand/src/perl/repoperls/installed-perls/host/k93msid/v5.34.0/ec94/lib/site_perl/5.34.0/x86_64-linux-quadmath
    /home/sand/src/perl/repoperls/installed-perls/host/k93msid/v5.34.0/ec94/lib/site_perl/5.34.0
    /home/sand/src/perl/repoperls/installed-perls/host/k93msid/v5.34.0/ec94/lib/5.34.0/x86_64-linux-quadmath
    /home/sand/src/perl/repoperls/installed-perls/host/k93msid/v5.34.0/ec94/lib/5.34.0
    .