XS-Parse-Keyword v0.40 Perl 5 v5.26.1 amd64-freebsd

Status
Pass
From
Slaven Rezić
Dist
XS-Parse-Keyword v0.40
Platform
Perl 5 v5.26.1 amd64-freebsd
Date
2024-04-23 12:03:54
ID
8e93cd14-0169-11ef-bc6c-c94b6e8775ea
This distribution has been tested as part of the CPAN Testers
project, supporting the Perl programming language.  See
http://wiki.cpantesters.org/ for more information or email
questions to cpan-testers-discuss@perl.org


--
Dear Paul Evans,

This is a computer-generated report for XS-Parse-Keyword-0.40
on perl 5.26.1, created by CPAN-Reporter-1.2018.

Thank you for uploading your work to CPAN.  Congratulations!
All tests were successful.

Sections of this report:

    * Tester comments
    * Program output
    * Prerequisites
    * Environment and other context

------------------------------
TESTER COMMENTS
------------------------------

Additional comments from tester:

none provided

------------------------------
PROGRAM OUTPUT
------------------------------

Output from './Build test':

cc -I/usr/perl5.26.1p/lib/5.26.1/amd64-freebsd/CORE -DVERSION="0.40" -DXS_VERSION="0.40" -DPIC -fPIC -I. -Ihax -std=c99 -c -DHAS_FPSETMASK -DHAS_FLOATINGPOINT_H -fno-strict-aliasing -pipe -fstack-protector -I/usr/local/include -D_FORTIFY_SOURCE=2 -O2 -pipe -o t/build.o t/build.c
ExtUtils::Mkbootstrap::Mkbootstrap('t/blib/arch/auto/t/build/build.bs')
cc -shared -L/usr/local/lib -fstack-protector -o t/blib/arch/auto/t/build/build.so t/build.o
cc -I/usr/perl5.26.1p/lib/5.26.1/amd64-freebsd/CORE -DVERSION="0.40" -DXS_VERSION="0.40" -DPIC -fPIC -I. -Ihax -std=c99 -c -DHAS_FPSETMASK -DHAS_FLOATINGPOINT_H -fno-strict-aliasing -pipe -fstack-protector -I/usr/local/include -D_FORTIFY_SOURCE=2 -O2 -pipe -o t/flags.o t/flags.c
ExtUtils::Mkbootstrap::Mkbootstrap('t/blib/arch/auto/t/flags/flags.bs')
cc -shared -L/usr/local/lib -fstack-protector -o t/blib/arch/auto/t/flags/flags.so t/flags.o
cc -I/usr/perl5.26.1p/lib/5.26.1/amd64-freebsd/CORE -DVERSION="0.40" -DXS_VERSION="0.40" -DPIC -fPIC -I. -Ihax -std=c99 -c -DHAS_FPSETMASK -DHAS_FLOATINGPOINT_H -fno-strict-aliasing -pipe -fstack-protector -I/usr/local/include -D_FORTIFY_SOURCE=2 -O2 -pipe -o t/infix.o t/infix.c
ExtUtils::Mkbootstrap::Mkbootstrap('t/blib/arch/auto/t/infix/infix.bs')
cc -shared -L/usr/local/lib -fstack-protector -o t/blib/arch/auto/t/infix/infix.so t/infix.o
cc -I/usr/perl5.26.1p/lib/5.26.1/amd64-freebsd/CORE -DVERSION="0.40" -DXS_VERSION="0.40" -DPIC -fPIC -I. -Ihax -std=c99 -c -DHAS_FPSETMASK -DHAS_FLOATINGPOINT_H -fno-strict-aliasing -pipe -fstack-protector -I/usr/local/include -D_FORTIFY_SOURCE=2 -O2 -pipe -o t/line.o t/line.c
ExtUtils::Mkbootstrap::Mkbootstrap('t/blib/arch/auto/t/line/line.bs')
cc -shared -L/usr/local/lib -fstack-protector -o t/blib/arch/auto/t/line/line.so t/line.o
cc -I/usr/perl5.26.1p/lib/5.26.1/amd64-freebsd/CORE -DVERSION="0.40" -DXS_VERSION="0.40" -DPIC -fPIC -I. -Ihax -std=c99 -c -DHAS_FPSETMASK -DHAS_FLOATINGPOINT_H -fno-strict-aliasing -pipe -fstack-protector -I/usr/local/include -D_FORTIFY_SOURCE=2 -O2 -pipe -o t/pieces.o t/pieces.c
ExtUtils::Mkbootstrap::Mkbootstrap('t/blib/arch/auto/t/pieces/pieces.bs')
cc -shared -L/usr/local/lib -fstack-protector -o t/blib/arch/auto/t/pieces/pieces.so t/pieces.o
cc -I/usr/perl5.26.1p/lib/5.26.1/amd64-freebsd/CORE -DVERSION="0.40" -DXS_VERSION="0.40" -DPIC -fPIC -I. -Ihax -std=c99 -c -DHAS_FPSETMASK -DHAS_FLOATINGPOINT_H -fno-strict-aliasing -pipe -fstack-protector -I/usr/local/include -D_FORTIFY_SOURCE=2 -O2 -pipe -o t/probing.o t/probing.c
ExtUtils::Mkbootstrap::Mkbootstrap('t/blib/arch/auto/t/probing/probing.bs')
cc -shared -L/usr/local/lib -fstack-protector -o t/blib/arch/auto/t/probing/probing.so t/probing.o
cc -I/usr/perl5.26.1p/lib/5.26.1/amd64-freebsd/CORE -DVERSION="0.40" -DXS_VERSION="0.40" -DPIC -fPIC -I. -Ihax -std=c99 -c -DHAS_FPSETMASK -DHAS_FLOATINGPOINT_H -fno-strict-aliasing -pipe -fstack-protector -I/usr/local/include -D_FORTIFY_SOURCE=2 -O2 -pipe -o t/stages.o t/stages.c
ExtUtils::Mkbootstrap::Mkbootstrap('t/blib/arch/auto/t/stages/stages.bs')
cc -shared -L/usr/local/lib -fstack-protector -o t/blib/arch/auto/t/stages/stages.so t/stages.o
cc -I/usr/perl5.26.1p/lib/5.26.1/amd64-freebsd/CORE -DVERSION="0.40" -DXS_VERSION="0.40" -DPIC -fPIC -I. -Ihax -std=c99 -c -DHAS_FPSETMASK -DHAS_FLOATINGPOINT_H -fno-strict-aliasing -pipe -fstack-protector -I/usr/local/include -D_FORTIFY_SOURCE=2 -O2 -pipe -o t/structures.o t/structures.c
ExtUtils::Mkbootstrap::Mkbootstrap('t/blib/arch/auto/t/structures/structures.bs')
cc -shared -L/usr/local/lib -fstack-protector -o t/blib/arch/auto/t/structures/structures.so t/structures.o
t/00use.t ............... ok
t/10stages-permit.t ..... ok
t/11stages-check.t ...... ok
t/30pieces-literal.t .... ok
t/31pieces-block.t ...... ok
t/32pieces-anonsub.t .... ok
t/33pieces-arithexpr.t .. ok
t/33pieces-listexpr.t ... ok
t/33pieces-termexpr.t ... ok
t/34pieces-ident.t ...... ok
t/35pieces-lexvar.t ..... ok
t/36pieces-attrs.t ...... ok
t/37pieces-vstring.t .... ok
t/38pieces-infix.t ...... ok
t/39pieces-warning.t .... ok
t/40build.t ............. ok
t/41structures.t ........ ok
t/42containers.t ........ ok
t/43probing.t ........... ok
t/50flags-autosemi.t .... ok
t/60line.t .............. ok
t/70infix.t ............. skipped: No PL_infix_plugin
t/71infix-wrapper.t ..... ok
t/99pod.t ............... ok
All tests successful.
Files=24, Tests=170,  3 wallclock secs ( 0.05 usr  0.03 sys +  1.45 cusr  1.27 csys =  2.81 CPU)
Result: PASS

------------------------------
PREREQUISITES
------------------------------

Prerequisite modules loaded:

requires:

    Module             Need   Have    
    ------------------ ------ --------
    perl               5.014  5.026001

build_requires:

    Module             Need   Have    
    ------------------ ------ --------
    ExtUtils::CBuilder 0      0.280226
    ExtUtils::ParseXS  3.16   3.34    
    Test2::V0          0      0.000083

configure_requires:

    Module             Need   Have    
    ------------------ ------ --------
    ExtUtils::CChecker 0.11   0.12    
    Module::Build      0.4004 0.4224  


------------------------------
ENVIRONMENT AND OTHER CONTEXT
------------------------------

Environment variables:

    LC_ALL = de_DE.ISO8859-1
    PATH = /usr/local/bin:/usr/bin:/bin:/usr/local/sbin:/usr/sbin:/sbin:/home/cpansand/bin/freebsd10.3:/home/cpansand/bin/sh:/home/cpansand/bin:/usr/games:/home/cpansand/devel:/home/eserte/src/srezic-misc/scripts
    PERL5LIB = /home/cpansand/.cpan/build/2024042314/ExtUtils-CChecker-0.12-0/blib/arch:/home/cpansand/.cpan/build/2024042314/ExtUtils-CChecker-0.12-0/blib/lib
    PERL5OPT = 
    PERL5_CPANPLUS_IS_RUNNING = 34561
    PERL5_CPAN_IS_RUNNING = 34561
    PERL5_CPAN_IS_RUNNING_IN_RECURSION = 34078,34561
    PERLDOC = -MPod::Perldoc::ToTextOverstrike
    PERL_BATCH = yes
    PERL_CANARY_STABILITY_NOPROMPT = 1
    PERL_CPAN_REPORTER_CONFIG = /var/tmp/cpansmoker-1023/2024042314/cpanreporter_000_config.ini
    PERL_EXTUTILS_AUTOINSTALL = --defaultdeps
    PERL_USE_UNSAFE_INC = 1
    SHELL = /usr/local/bin/zsh
    TERM = screen
    TMPDIR = /var/tmp/cpansmoker-1023/2024042314

Perl special variables (and OS-specific diagnostics, for MSWin32):

    $^X = /usr/perl5.26.1p/bin/perl
    $UID/$EUID = 1023 / 1023
    $GID = 1023 1023
    $EGID = 1023 1023

Perl module toolchain versions installed:

    Module              Have    
    ------------------- --------
    CPAN                2.18    
    CPAN::Meta          2.150010
    Cwd                 3.67    
    ExtUtils::CBuilder  0.280226
    ExtUtils::Command   7.58    
    ExtUtils::Install   2.06    
    ExtUtils::MakeMaker 7.58    
    ExtUtils::Manifest  1.70    
    ExtUtils::ParseXS   3.34    
    File::Spec          3.67    
    JSON                2.94    
    JSON::PP            2.94    
    Module::Build       0.4224  
    Module::Signature   0.81    
    Parse::CPAN::Meta   2.150010
    Test::Harness       3.39    
    Test::More          1.302106
    YAML                1.24    
    YAML::Syck          1.30    
    version             0.9917  


--

Summary of my perl5 (revision 5 version 26 subversion 1) configuration:
   
  Platform:
    osname=freebsd
    osvers=10.3-release-p11
    archname=amd64-freebsd
    uname='freebsd cvrsnica-freebsd-101.herceg.de 10.3-release-p11 freebsd 10.3-release-p11 #0: mon oct 24 18:49:24 utc 2016 root@amd64-builder.daemonology.net:usrobjusrsrcsysgeneric amd64 '
    config_args='-ds -e -Dprefix=/usr/perl5.26.1p -Dcf_email=srezic@cpan.org -Doptimize=-O2 -pipe'
    hint=recommended
    useposix=true
    d_sigaction=define
    useithreads=undef
    usemultiplicity=undef
    use64bitint=define
    use64bitall=define
    uselongdouble=undef
    usemymalloc=n
    default_inc_excludes_dot=define
    bincompat5005=undef
  Compiler:
    cc='cc'
    ccflags ='-DHAS_FPSETMASK -DHAS_FLOATINGPOINT_H -fno-strict-aliasing -pipe -fstack-protector -I/usr/local/include -D_FORTIFY_SOURCE=2'
    optimize='-O2 -pipe'
    cppflags='-DHAS_FPSETMASK -DHAS_FLOATINGPOINT_H -fno-strict-aliasing -pipe -fstack-protector -I/usr/local/include'
    ccversion=''
    gccversion='4.2.1 Compatible FreeBSD Clang 3.4.1 (tags/RELEASE_34/dot1-final 208032)'
    gccosandvers=''
    intsize=4
    longsize=8
    ptrsize=8
    doublesize=8
    byteorder=12345678
    doublekind=3
    d_longlong=define
    longlongsize=8
    d_longdbl=define
    longdblsize=16
    longdblkind=3
    ivtype='long'
    ivsize=8
    nvtype='double'
    nvsize=8
    Off_t='off_t'
    lseeksize=8
    alignbytes=8
    prototype=define
  Linker and Libraries:
    ld='cc'
    ldflags ='-pthread -Wl,-E  -fstack-protector -L/usr/local/lib'
    libpth=/usr/lib /usr/local/lib /usr/include/clang/3.4.1 /usr/lib
    libs=-lpthread -lgdbm -lm -lcrypt -lutil -lc -lelf
    perllibs=-lpthread -lm -lcrypt -lutil -lc -lelf
    libc=
    so=so
    useshrplib=false
    libperl=libperl.a
    gnulibc_version=''
  Dynamic Linking:
    dlsrc=dl_dlopen.xs
    dlext=so
    d_dlsymun=undef
    ccdlflags=' '
    cccdlflags='-DPIC -fPIC'
    lddlflags='-shared  -L/usr/local/lib -fstack-protector'


Characteristics of this binary (from libperl): 
  Compile-time options:
    HAS_TIMES
    PERLIO_LAYERS
    PERL_COPY_ON_WRITE
    PERL_DONT_CREATE_GVSV
    PERL_MALLOC_WRAP
    PERL_OP_PARENT
    PERL_PRESERVE_IVUV
    USE_64_BIT_ALL
    USE_64_BIT_INT
    USE_LARGE_FILES
    USE_LOCALE
    USE_LOCALE_COLLATE
    USE_LOCALE_CTYPE
    USE_LOCALE_NUMERIC
    USE_LOCALE_TIME
    USE_PERLIO
    USE_PERL_ATOF
  Built under freebsd
  Compiled at Oct 31 2017 09:43:34
  %ENV:
    PERL5LIB="/home/cpansand/.cpan/build/2024042314/ExtUtils-CChecker-0.12-0/blib/arch:/home/cpansand/.cpan/build/2024042314/ExtUtils-CChecker-0.12-0/blib/lib"
    PERL5OPT=""
    PERL5_CPANPLUS_IS_RUNNING="34561"
    PERL5_CPAN_IS_RUNNING="34561"
    PERL5_CPAN_IS_RUNNING_IN_RECURSION="34078,34561"
    PERLDOC="-MPod::Perldoc::ToTextOverstrike"
    PERL_BATCH="yes"
    PERL_CANARY_STABILITY_NOPROMPT="1"
    PERL_CPAN_REPORTER_CONFIG="/var/tmp/cpansmoker-1023/2024042314/cpanreporter_000_config.ini"
    PERL_EXTUTILS_AUTOINSTALL="--defaultdeps"
    PERL_USE_UNSAFE_INC="1"
  @INC:
    /home/cpansand/.cpan/build/2024042314/ExtUtils-CChecker-0.12-0/blib/arch
    /home/cpansand/.cpan/build/2024042314/ExtUtils-CChecker-0.12-0/blib/lib
    /usr/perl5.26.1p/lib/site_perl/5.26.1/amd64-freebsd
    /usr/perl5.26.1p/lib/site_perl/5.26.1
    /usr/perl5.26.1p/lib/5.26.1/amd64-freebsd
    /usr/perl5.26.1p/lib/5.26.1
    .