Test-Output v1.036 Perl 5 v5.28.2 x86_64-linux

Status
Pass
From
Nigel Horne
Dist
Test-Output v1.036
Platform
Perl 5 v5.28.2 x86_64-linux
Date
2025-11-07 21:20:17
ID
8e8da458-bc1f-11f0-9fd1-a000ac89be80
This distribution has been tested as part of the CPAN Testers
project, supporting the Perl programming language.  See
http://wiki.cpantesters.org/ for more information or email
questions to cpan-testers-discuss@perl.org


--
Dear brian d foy,

This is a computer-generated report for Test-Output-1.036
on perl 5.28.2, created by CPAN-Reporter-1.2020.

Thank you for uploading your work to CPAN.  Congratulations!
All tests were successful.

Sections of this report:

    * Tester comments
    * Program output
    * Prerequisites
    * Environment and other context

------------------------------
TESTER COMMENTS
------------------------------

Additional comments from tester:

this report is from an automated smoke testing program
and was not reviewed by a human for accuracy

------------------------------
PROGRAM OUTPUT
------------------------------

Output from '/usr/bin/make test':

PERL_DL_NONLAZY=1 "/home/njh/perl5/perlbrew/perls/perl-5.28.2-64all/bin/perl5.28.2" "-MExtUtils::Command::MM" "-MTest::Harness" "-e" "undef *Test::Harness::Switches; test_harness(0, 'blib/lib', 'blib/arch')" t/*.t
# Testing Test::Output 1.036
t/00.load.t .......... ok
t/binmode.t .......... ok
t/carp-5.6.t ......... ok
t/combined_is.t ...... ok
t/combined_like.t .... ok
t/combined_isnt.t .... ok
t/combined_unlike.t .. ok
t/output_is.t ........ ok
t/output_isnt.t ...... ok
t/output_like.t ...... ok
t/output_unlike.t .... ok
t/pod-coverage.t ..... ok
t/stderr_is.t ........ ok
t/pod.t .............. ok
t/stderr_isnt.t ...... ok
t/stderr_like.t ...... ok
t/stderr_unlike.t .... ok
t/stdout_is.t ........ ok
t/stdout_like.t ...... ok
t/stdout_isnt.t ...... ok
t/stdout_unlike.t .... ok
All tests successful.
Files=21, Tests=1218,  0 wallclock secs ( 0.11 usr  0.04 sys +  1.12 cusr  0.31 csys =  1.58 CPU)
Result: PASS

------------------------------
PREREQUISITES
------------------------------

Prerequisite modules loaded:

requires:

    Module                Need  Have    
    --------------------- ----- --------
    Capture::Tiny         0.17  0.48    
    File::Temp            0.17  0.2304  
    perl                  5.008 5.028002

build_requires:

    Module                Need  Have    
    --------------------- ----- --------
    Test::More            1     1.302214
    Test::Tester          0.107 1.302214
    version               0.86  0.9923  

configure_requires:

    Module                Need  Have    
    --------------------- ----- --------
    ExtUtils::MakeMaker   6.64  7.62    
    File::Spec::Functions 0     3.75    


------------------------------
ENVIRONMENT AND OTHER CONTEXT
------------------------------

Environment variables:

    AUTOMATED_TESTING = 1
    HARNESS_OPTIONS = j4
    LANG = en_US.UTF-8
    PATH = /home/njh/perl5/perlbrew/bin:/home/njh/perl5/perlbrew/perls/perl-5.28.2-64all/bin:/home/njh/perl5/perlbrew/bin:/home/njh/src/njh/smoker/bin:/usr/bin:/bin
    PERL5LIB = /tmp/user/1000/build/Test-Simple-1.302214-0/blib/arch:/tmp/user/1000/build/Test-Simple-1.302214-0/blib/lib:/tmp/user/1000/build/Readonly-2.05-0/blib/arch:/tmp/user/1000/build/Readonly-2.05-0/blib/lib:/tmp/user/1000/build/Pod-Markdown-3.400-0/blib/arch:/tmp/user/1000/build/Pod-Markdown-3.400-0/blib/lib:/tmp/user/1000/build/Net-Amazon-Signature-V4-0.22-0/blib/arch:/tmp/user/1000/build/Net-Amazon-Signature-V4-0.22-0/blib/lib:/tmp/user/1000/build/LWP-UserAgent-Determined-1.07-0/blib/arch:/tmp/user/1000/build/LWP-UserAgent-Determined-1.07-0/blib/lib:/tmp/user/1000/build/Digest-MD5-File-0.08-0/blib/arch:/tmp/user/1000/build/Digest-MD5-File-0.08-0/blib/lib:/tmp/user/1000/build/File-ShareDir-Install-0.14-0/blib/arch:/tmp/user/1000/build/File-ShareDir-Install-0.14-0/blib/lib
    PERL5OPT = 
    PERL5_CPANPLUS_IS_RUNNING = 2310347
    PERL5_CPAN_IS_RUNNING = 2310347
    PERL5_CPAN_IS_RUNNING_IN_RECURSION = 2310336,2310347
    PERLBREW_LIB = 
    PERLBREW_MANPATH = /home/njh/perl5/perlbrew/perls/perl-5.28.2-64all/man
    PERLBREW_PATH = /home/njh/perl5/perlbrew/bin:/home/njh/perl5/perlbrew/perls/perl-5.28.2-64all/bin
    PERLBREW_PERL = perl-5.28.2-64all
    PERLBREW_ROOT = /home/njh/perl5/perlbrew
    PERLBREW_SHELLRC_VERSION = 1.02
    PERLBREW_VERSION = 1.02
    PERL_LOCAL_LIB_ROOT = 
    PERL_MM_USE_DEFAULT = 1
    PERL_USE_UNSAFE_INC = 1
    SHELL = /bin/sh
    TEMP = /tmp/user/1000
    TMPDIR = /tmp/user/1000/testwrapper.2310339

Perl special variables (and OS-specific diagnostics, for MSWin32):

    $^X = /home/njh/perl5/perlbrew/perls/perl-5.28.2-64all/bin/perl5.28.2
    $UID/$EUID = 1000 / 1000
    $GID = 1000 4 24 25 29 30 44 46 103 108 115 123 996 1000
    $EGID = 1000 4 24 25 29 30 44 46 103 108 115 123 996 1000

Perl module toolchain versions installed:

    Module              Have    
    ------------------- --------
    CPAN                2.28    
    CPAN::Meta          2.150010
    Cwd                 3.75    
    ExtUtils::CBuilder  0.280230
    ExtUtils::Command   7.62    
    ExtUtils::Install   2.14    
    ExtUtils::MakeMaker 7.62    
    ExtUtils::Manifest  1.70    
    ExtUtils::ParseXS   3.39    
    File::Spec          3.75    
    JSON                4.02    
    JSON::PP            4.03    
    Module::Build       0.4229  
    Module::Signature   n/a     
    Parse::CPAN::Meta   2.150010
    Test2               1.302214
    Test::Harness       3.42    
    Test::More          1.302214
    YAML                1.31    
    YAML::Syck          1.36    
    version             0.9923  


--

Summary of my perl5 (revision 5 version 28 subversion 2) configuration:
   
  Platform:
    osname=linux
    osvers=4.16.0-2-amd64
    archname=x86_64-linux
    uname='linux amelia 4.16.0-2-amd64 #1 smp debian 4.16.16-2 (2018-06-22) x86_64 gnulinux '
    config_args='-de -Dprefix=/home/njh/perl5/perlbrew/perls/perl-5.28.2-64all -Dusedevel -Duse64bitall -Accflags= -Aeval:scriptdir=/home/njh/perl5/perlbrew/perls/perl-5.28.2-64all/bin'
    hint=recommended
    useposix=true
    d_sigaction=define
    useithreads=undef
    usemultiplicity=undef
    use64bitint=define
    use64bitall=define
    uselongdouble=undef
    usemymalloc=n
    default_inc_excludes_dot=define
    bincompat5005=undef
  Compiler:
    cc='cc'
    ccflags ='-fwrapv -fno-strict-aliasing -pipe -fstack-protector-strong -I/usr/local/include -D_LARGEFILE_SOURCE -D_FILE_OFFSET_BITS=64'
    optimize='-O2'
    cppflags='-fwrapv -fno-strict-aliasing -pipe -fstack-protector-strong -I/usr/local/include'
    ccversion=''
    gccversion='8.3.0'
    gccosandvers=''
    intsize=4
    longsize=8
    ptrsize=8
    doublesize=8
    byteorder=12345678
    doublekind=3
    d_longlong=define
    longlongsize=8
    d_longdbl=define
    longdblsize=16
    longdblkind=3
    ivtype='long'
    ivsize=8
    nvtype='double'
    nvsize=8
    Off_t='off_t'
    lseeksize=8
    alignbytes=8
    prototype=define
  Linker and Libraries:
    ld='cc'
    ldflags =' -fstack-protector-strong -L/usr/local/lib'
    libpth=/usr/local/lib /usr/lib/gcc/x86_64-linux-gnu/8/include-fixed /usr/include/x86_64-linux-gnu /usr/lib /lib/x86_64-linux-gnu /lib/../lib /usr/lib/x86_64-linux-gnu /usr/lib/../lib /lib /lib64 /usr/lib64
    libs=-lpthread -lnsl -lgdbm -ldb -ldl -lm -lcrypt -lutil -lc
    perllibs=-lpthread -lnsl -ldl -lm -lcrypt -lutil -lc
    libc=libc-2.28.so
    so=so
    useshrplib=false
    libperl=libperl.a
    gnulibc_version='2.28'
  Dynamic Linking:
    dlsrc=dl_dlopen.xs
    dlext=so
    d_dlsymun=undef
    ccdlflags='-Wl,-E'
    cccdlflags='-fPIC'
    lddlflags='-shared -O2 -L/usr/local/lib -fstack-protector-strong'


Characteristics of this binary (from libperl): 
  Compile-time options:
    HAS_TIMES
    PERLIO_LAYERS
    PERL_COPY_ON_WRITE
    PERL_DONT_CREATE_GVSV
    PERL_MALLOC_WRAP
    PERL_OP_PARENT
    PERL_PRESERVE_IVUV
    PERL_USE_DEVEL
    USE_64_BIT_ALL
    USE_64_BIT_INT
    USE_LARGE_FILES
    USE_LOCALE
    USE_LOCALE_COLLATE
    USE_LOCALE_CTYPE
    USE_LOCALE_NUMERIC
    USE_LOCALE_TIME
    USE_PERLIO
    USE_PERL_ATOF
  Locally applied patches:
    Devel::PatchPerl 1.48
  Built under linux
  Compiled at Apr 24 2019 01:07:47
  %ENV:
    PERL5LIB="/tmp/user/1000/build/Test-Simple-1.302214-0/blib/arch:/tmp/user/1000/build/Test-Simple-1.302214-0/blib/lib:/tmp/user/1000/build/Readonly-2.05-0/blib/arch:/tmp/user/1000/build/Readonly-2.05-0/blib/lib:/tmp/user/1000/build/Pod-Markdown-3.400-0/blib/arch:/tmp/user/1000/build/Pod-Markdown-3.400-0/blib/lib:/tmp/user/1000/build/Net-Amazon-Signature-V4-0.22-0/blib/arch:/tmp/user/1000/build/Net-Amazon-Signature-V4-0.22-0/blib/lib:/tmp/user/1000/build/LWP-UserAgent-Determined-1.07-0/blib/arch:/tmp/user/1000/build/LWP-UserAgent-Determined-1.07-0/blib/lib:/tmp/user/1000/build/Digest-MD5-File-0.08-0/blib/arch:/tmp/user/1000/build/Digest-MD5-File-0.08-0/blib/lib:/tmp/user/1000/build/File-ShareDir-Install-0.14-0/blib/arch:/tmp/user/1000/build/File-ShareDir-Install-0.14-0/blib/lib"
    PERL5OPT=""
    PERL5_CPANPLUS_IS_RUNNING="2310347"
    PERL5_CPAN_IS_RUNNING="2310347"
    PERL5_CPAN_IS_RUNNING_IN_RECURSION="2310336,2310347"
    PERLBREW_LIB=""
    PERLBREW_MANPATH="/home/njh/perl5/perlbrew/perls/perl-5.28.2-64all/man"
    PERLBREW_PATH="/home/njh/perl5/perlbrew/bin:/home/njh/perl5/perlbrew/perls/perl-5.28.2-64all/bin"
    PERLBREW_PERL="perl-5.28.2-64all"
    PERLBREW_ROOT="/home/njh/perl5/perlbrew"
    PERLBREW_SHELLRC_VERSION="1.02"
    PERLBREW_VERSION="1.02"
    PERL_LOCAL_LIB_ROOT=""
    PERL_MM_USE_DEFAULT="1"
    PERL_USE_UNSAFE_INC="1"
  @INC:
    /tmp/user/1000/build/Test-Simple-1.302214-0/blib/arch
    /tmp/user/1000/build/Test-Simple-1.302214-0/blib/lib
    /tmp/user/1000/build/Readonly-2.05-0/blib/arch
    /tmp/user/1000/build/Readonly-2.05-0/blib/lib
    /tmp/user/1000/build/Pod-Markdown-3.400-0/blib/arch
    /tmp/user/1000/build/Pod-Markdown-3.400-0/blib/lib
    /tmp/user/1000/build/Net-Amazon-Signature-V4-0.22-0/blib/arch
    /tmp/user/1000/build/Net-Amazon-Signature-V4-0.22-0/blib/lib
    /tmp/user/1000/build/LWP-UserAgent-Determined-1.07-0/blib/arch
    /tmp/user/1000/build/LWP-UserAgent-Determined-1.07-0/blib/lib
    /tmp/user/1000/build/Digest-MD5-File-0.08-0/blib/arch
    /tmp/user/1000/build/Digest-MD5-File-0.08-0/blib/lib
    /tmp/user/1000/build/File-ShareDir-Install-0.14-0/blib/arch
    /tmp/user/1000/build/File-ShareDir-Install-0.14-0/blib/lib
    /home/njh/perl5/perlbrew/perls/perl-5.28.2-64all/lib/site_perl/5.28.2/x86_64-linux
    /home/njh/perl5/perlbrew/perls/perl-5.28.2-64all/lib/site_perl/5.28.2
    /home/njh/perl5/perlbrew/perls/perl-5.28.2-64all/lib/5.28.2/x86_64-linux
    /home/njh/perl5/perlbrew/perls/perl-5.28.2-64all/lib/5.28.2
    .