Test-CleanNamespaces v0.24 Perl 5 v5.29.9 i86pc-solaris-thread-multi-64

Status
Pass
From
Carlos Guevara
Dist
Test-CleanNamespaces v0.24
Platform
Perl 5 v5.29.9 i86pc-solaris-thread-multi-64
Date
2019-02-24 01:07:29
ID
8e76b94e-37d0-11e9-bd80-9b88786da381
This distribution has been tested as part of the CPAN Testers
project, supporting the Perl programming language.  See
http://wiki.cpantesters.org/ for more information or email
questions to cpan-testers-discuss@perl.org


--
Dear Karen Etheridge,

This is a computer-generated report for Test-CleanNamespaces-0.24
on perl 5.29.9, created by CPAN-Reporter-1.2018.

Thank you for uploading your work to CPAN.  Congratulations!
All tests were successful.

Sections of this report:

    * Tester comments
    * Program output
    * Prerequisites
    * Environment and other context

------------------------------
TESTER COMMENTS
------------------------------

Additional comments from tester:

none provided

------------------------------
PROGRAM OUTPUT
------------------------------

Output from '/usr/bin/make test':

PERL_DL_NONLAZY=1 "/export/home/cpan/bin/perl-blead/bin/perl5.29.9" "-MExtUtils::Command::MM" "-MTest::Harness" "-e" "undef *Test::Harness::Switches; test_harness(0, 'blib/lib', 'blib/arch')" t/*.t
# 
# Versions for all modules listed in MYMETA.json (including optional ones):
# 
# === Configure Requires ===
# 
#     Module                       Want     Have
#     ------------------------ -------- --------
#     CPAN::Meta::Requirements 2.120620    2.140
#     ExtUtils::MakeMaker           any     7.34
#     Module::Metadata              any 1.000033
# 
# === Build Requires ===
# 
#     Module              Want Have
#     ------------------- ---- ----
#     ExtUtils::MakeMaker  any 7.34
# 
# === Test Requires ===
# 
#     Module                 Want     Have
#     --------------------- ----- --------
#     ExtUtils::MakeMaker     any     7.34
#     File::Spec              any     3.77
#     File::Spec::Functions   any     3.77
#     File::pushd             any    1.016
#     Scalar::Util            any     1.50
#     Sub::Exporter           any    0.987
#     Test::Deep              any    1.128
#     Test::More             0.96 1.302162
#     Test::Needs             any 0.002005
#     Test::Tester            any 1.302162
#     Test::Warnings        0.009    0.026
#     constant                any     1.33
#     if                      any   0.0608
#     lib                     any     0.65
#     namespace::clean        any     0.27
#     overload                any     1.30
#     parent                  any    0.237
# 
# === Test Recommends ===
# 
#     Module         Want     Have
#     ---------- -------- --------
#     CPAN::Meta 2.120900 2.150010
# 
# === Test Suggests ===
# 
#     Module                          Want     Have
#     --------------------------- -------- --------
#     Class::MOP::Class                any  missing
#     Moo                              any 2.003004
#     Moo::Role                        any 2.003004
#     Moose                            any  missing
#     Moose::Exporter                  any  missing
#     Moose::Role                      any  missing
#     MooseX::Role::Parameterized      any  missing
#     Mouse                            any  missing
#     Mouse::Role                      any  missing
#     Role::Tiny                  1.003000 2.000006
#     metaclass                        any  missing
# 
# === Runtime Requires ===
# 
#     Module              Want     Have
#     --------------- -------- --------
#     Exporter            5.57     5.73
#     File::Find           any     1.36
#     File::Spec           any     3.77
#     Module::Runtime      any    0.016
#     Package::Stash      0.14     0.38
#     Role::Tiny      1.003000 2.000006
#     Sub::Identify        any     0.14
#     Test::Builder        any 1.302162
#     strict               any     1.11
#     warnings             any     1.43
# 
# === Runtime Recommends ===
# 
#     Module             Want Have
#     ------------------ ---- ----
#     Package::Stash::XS  any 0.29
# 
# === Runtime Suggests ===
# 
#     Module     Want     Have
#     ---------- ---- --------
#     Role::Tiny  any 2.000006
# 
# === Other Modules ===
# 
#     Module            Have
#     --------------- ------
#     Encode            3.00
#     File::Temp      0.2309
#     JSON::PP          4.00
#     Module::Runtime  0.016
#     Pod::Coverage     0.23
#     Sub::Name         0.21
#     YAML              1.27
#     autodie           2.29
# 
t/00-report-prereqs.t ......... ok
t/basic.t ..................... ok
t/class_mop.t ................. skipped: skipping for regular installs, due to possible circular dependency issues
t/clean-namespaces.t .......... ok
t/find_modules.t .............. ok
t/moo.t ....................... ok
t/moose-parameterized-role.t .. skipped: skipping for regular installs, due to possible circular dependency issues
t/moose.t ..................... skipped: skipping for regular installs, due to possible circular dependency issues
t/mouse.t ..................... skipped: Need Mouse
t/overload.t .................. ok
t/role_tiny.t ................. ok
t/self.t ...................... ok
t/zzz-check-breaks.t .......... ok
All tests successful.
Files=13, Tests=134,  4 wallclock secs ( 0.10 usr  0.05 sys +  2.29 cusr  0.56 csys =  3.00 CPU)
Result: PASS

------------------------------
PREREQUISITES
------------------------------

Prerequisite modules loaded:

requires:

    Module                   Need     Have    
    ------------------------ -------- --------
    Exporter                 5.57     5.73    
    File::Find               0        1.36    
    File::Spec               0        3.77    
    Module::Runtime          0        0.016   
    Package::Stash           0.14     0.38    
    perl                     5.006    5.029009
    Role::Tiny               1.003000 2.000006
    strict                   0        1.11    
    Sub::Identify            0        0.14    
    Test::Builder            0        1.302162
    warnings                 0        1.43    

build_requires:

    Module                   Need     Have    
    ------------------------ -------- --------
    constant                 0        1.33    
    ExtUtils::MakeMaker      0        7.34    
    File::pushd              0        1.016   
    File::Spec               0        3.77    
    File::Spec::Functions    0        3.77    
    if                       0        0.0608  
    lib                      0        0.65    
    namespace::clean         0        0.27    
    overload                 0        1.30    
    parent                   0        0.237   
    Scalar::Util             0        1.50    
    Sub::Exporter            0        0.987   
    Test::Deep               0        1.128   
    Test::More               0.96     1.302162
    Test::Needs              0        0.002005
    Test::Tester             0        1.302162
    Test::Warnings           0.009    0.026   

configure_requires:

    Module                   Need     Have    
    ------------------------ -------- --------
    CPAN::Meta::Requirements 2.120620 2.140   
    ExtUtils::MakeMaker      0        7.34    
    Module::Metadata         0        1.000033
    perl                     5.006    5.029009


------------------------------
ENVIRONMENT AND OTHER CONTEXT
------------------------------

Environment variables:

    LANG = en_US.UTF-8
    LC_ALL = C
    NONINTERACTIVE_TESTING = 1
    PATH = /export/home/cpan/bin/perl-blead/bin:/export/home/cpan/bin/perl-blead/bin:/usr/bin:/usr/sbin:/sbin:/usr/gnu/bin
    PERL5LIB = 
    PERL5OPT = 
    PERL5_CPANPLUS_IS_RUNNING = 9465
    PERL5_CPAN_IS_RUNNING = 9465
    PERL_MM_USE_DEFAULT = 1
    PERL_USE_UNSAFE_INC = 1
    PERL_VERSION = blead
    SHELL = /usr/bin/bash
    TERM = screen

Perl special variables (and OS-specific diagnostics, for MSWin32):

    $^X = /export/home/cpan/bin/perl-blead/bin/perl5.29.9
    $UID/$EUID = 101 / 101
    $GID = 1 1
    $EGID = 1 1

Perl module toolchain versions installed:

    Module              Have    
    ------------------- --------
    CPAN                2.22    
    CPAN::Meta          2.150010
    Cwd                 3.77    
    ExtUtils::CBuilder  0.280230
    ExtUtils::Command   7.34    
    ExtUtils::Install   2.14    
    ExtUtils::MakeMaker 7.34    
    ExtUtils::Manifest  1.71    
    ExtUtils::ParseXS   3.40    
    File::Spec          3.77    
    JSON                n/a     
    JSON::PP            4.00    
    Module::Build       0.4224  
    Module::Signature   n/a     
    Parse::CPAN::Meta   2.150010
    Test::Harness       3.42    
    Test::More          1.302162
    YAML                1.27    
    YAML::Syck          n/a     
    version             0.9924  


--

Summary of my perl5 (revision 5 version 29 subversion 9) configuration:
  Commit id: 678ae29284d351e19c3401c94ccf83538266b096
  Platform:
    osname=solaris
    osvers=2.11
    archname=i86pc-solaris-thread-multi-64
    uname='sunos cjg-hipster 5.11 illumos-eef4f27b27 i86pc i386 i86pc '
    config_args='-des -Dprefix=~/bin/perl-blead -Dscriptdir=~/bin/perl-blead/bin -Dusedevel -Duse64bitall -Dcc=gcc -Duseithreads'
    hint=recommended
    useposix=true
    d_sigaction=define
    useithreads=define
    usemultiplicity=define
    use64bitint=define
    use64bitall=define
    uselongdouble=undef
    usemymalloc=n
    default_inc_excludes_dot=define
    bincompat5005=undef
  Compiler:
    cc='gcc'
    ccflags ='-D_REENTRANT -m64 -fwrapv -fno-strict-aliasing -pipe -fstack-protector-strong -I/usr/gnu/include -D_LARGEFILE_SOURCE -D_FILE_OFFSET_BITS=64 -D_FORTIFY_SOURCE=2 -DPERL_USE_SAFE_PUTENV'
    optimize='-O'
    cppflags='-D_REENTRANT -m64 -fwrapv -fno-strict-aliasing -pipe -fstack-protector-strong -I/usr/gnu/include'
    ccversion=''
    gccversion='6.4.0'
    gccosandvers=''
    intsize=4
    longsize=8
    ptrsize=8
    doublesize=8
    byteorder=12345678
    doublekind=3
    d_longlong=define
    longlongsize=8
    d_longdbl=define
    longdblsize=16
    longdblkind=3
    ivtype='long'
    ivsize=8
    nvtype='double'
    nvsize=8
    Off_t='off_t'
    lseeksize=8
    alignbytes=8
    prototype=define
  Linker and Libraries:
    ld='gcc'
    ldflags =' -m64 -fstack-protector-strong -L/usr/gnu/lib '
    libpth=/usr/gcc/6/lib /usr/lib /usr/gnu/lib /usr/ccs/lib
    libs=-lpthread -lsocket -lnsl -lgdbm -ldb -ldl -lm -lc
    perllibs=-lpthread -lsocket -lnsl -ldl -lm -lc
    libc=/lib/libc.so
    so=so
    useshrplib=true
    libperl=libperl.so
    gnulibc_version=''
  Dynamic Linking:
    dlsrc=dl_dlopen.xs
    dlext=so
    d_dlsymun=undef
    ccdlflags='  -R /export/home/cpan/bin/perl-blead/lib/5.29.9/i86pc-solaris-thread-multi-64/CORE'
    cccdlflags='-fPIC'
    lddlflags=' -shared -m64 -L/usr/gnu/lib -fstack-protector-strong'


Characteristics of this binary (from libperl): 
  Compile-time options:
    HAS_TIMES
    MULTIPLICITY
    PERLIO_LAYERS
    PERL_COPY_ON_WRITE
    PERL_DONT_CREATE_GVSV
    PERL_IMPLICIT_CONTEXT
    PERL_MALLOC_WRAP
    PERL_OP_PARENT
    PERL_PRESERVE_IVUV
    PERL_USE_DEVEL
    PERL_USE_SAFE_PUTENV
    USE_64_BIT_ALL
    USE_64_BIT_INT
    USE_ITHREADS
    USE_LARGE_FILES
    USE_LOCALE
    USE_LOCALE_COLLATE
    USE_LOCALE_CTYPE
    USE_LOCALE_NUMERIC
    USE_LOCALE_TIME
    USE_PERLIO
    USE_PERL_ATOF
    USE_REENTRANT_API
    USE_THREAD_SAFE_LOCALE
  Built under solaris
  Compiled at Feb 23 2019 16:50:29
  %ENV:
    PERL5LIB=""
    PERL5OPT=""
    PERL5_CPANPLUS_IS_RUNNING="9465"
    PERL5_CPAN_IS_RUNNING="9465"
    PERL_MM_USE_DEFAULT="1"
    PERL_USE_UNSAFE_INC="1"
    PERL_VERSION="blead"
  @INC:
    /export/home/cpan/bin/perl-blead/lib/site_perl/5.29.9/i86pc-solaris-thread-multi-64
    /export/home/cpan/bin/perl-blead/lib/site_perl/5.29.9
    /export/home/cpan/bin/perl-blead/lib/5.29.9/i86pc-solaris-thread-multi-64
    /export/home/cpan/bin/perl-blead/lib/5.29.9
    .