Java-Javap v0.05 Perl 5 v5.8.9 i686-linux

Status
Pass
From
Serguei Trouchelle (STRO)
Dist
Java-Javap v0.05
Platform
Perl 5 v5.8.9 i686-linux
Date
2010-07-06T14:55:45
ID
8e51a142-890e-11df-a1b0-cb4b1419b993
This distribution has been tested as part of the CPAN Testers
project, supporting the Perl programming language.  See
http://wiki.cpantesters.org/ for more information or email
questions to cpan-testers-discuss@perl.org


--
Dear Tim Bunce,

This is a computer-generated report for Java-Javap-0.05
on perl 5.8.9, created by CPAN-Reporter-1.1711.

Thank you for uploading your work to CPAN.  Congratulations!
All tests were successful.

Sections of this report:

    * Tester comments
    * Program output
    * Prerequisites
    * Environment and other context

------------------------------
TESTER COMMENTS
------------------------------

Additional comments from tester:

this report is from an automated smoke testing program
and was not reviewed by a human for accuracy

------------------------------
PROGRAM OUTPUT
------------------------------

Output from '/usr/bin/make test':

PERL_DL_NONLAZY=1 /home/stro/perl/perl589m/bin/perl "-MExtUtils::Command::MM" "-e" "test_harness(0, 'blib/lib', 'blib/arch')" t/*.t
t/01_use.t .............. ok
Can't exec "javap": No such file or directory at lib/Java/Javap.pm line 63.
t/02_interface.t ........ skipped: javap from Java SDK required: No such file or directory
Can't exec "javap": No such file or directory at lib/Java/Javap.pm line 63.
t/02_invoke_javap.t ..... skipped: javap from Java SDK required: 'javap  java.lang.String' failed: No such file or directory at t/02_invoke_javap.t line 9
Can't exec "javap": No such file or directory at lib/Java/Javap.pm line 63.
t/03_class.t ............ skipped: javap from Java SDK required: No such file or directory
Can't exec "javap": No such file or directory at lib/Java/Javap.pm line 63.
t/04_java2perl6.t ....... skipped: javap from Java SDK required: No such file or directory
Can't exec "javap": No such file or directory at lib/Java/Javap.pm line 63.
t/05_final.t ............ skipped: javap from Java SDK required: No such file or directory
t/release-pod-syntax.t .. skipped: these tests are for release candidate testing
All tests successful.
Files=7, Tests=1,  4 wallclock secs ( 0.05 usr  0.05 sys +  0.52 cusr  0.24 csys =  0.86 CPU)
Result: PASS

------------------------------
PREREQUISITES
------------------------------

Prerequisite modules loaded:

requires:

    Module            Need Have    
    ----------------- ---- --------
    Parse::RecDescent 1.0  1.965001
    Template          2.0  2.22    
    Test::Differences 0    0.500   
    Test::More        0.82 0.94    
    Test::Most        0    0.21    


------------------------------
ENVIRONMENT AND OTHER CONTEXT
------------------------------

Environment variables:

    AUTOMATED_TESTING = 1
    LANG = en_US.UTF-8
    PATH = /usr/local/bin:/usr/bin:/bin:/usr/games
    PERL5LIB = 
    PERL5OPT = 
    PERL5_CPANPLUS_IS_RUNNING = 17331
    PERL5_CPAN_IS_RUNNING = 17331
    PERL5_CPAN_IS_RUNNING_IN_RECURSION = 1285,17331
    PERL_CR_SMOKER_CURRENT = Java-Javap-0.05
    PERL_EXTUTILS_AUTOINSTALL = --defaultdeps
    PERL_MM_USE_DEFAULT = 1
    SHELL = /bin/bash
    TERM = xterm

Perl special variables (and OS-specific diagnostics, for MSWin32):

    $^X = /home/stro/perl/perl589m/bin/perl
    $UID/$EUID = 1000 / 1000
    $GID = 1000 20 24 25 29 44 46 1000
    $EGID = 1000 20 24 25 29 44 46 1000

Perl module toolchain versions installed:

    Module              Have  
    ------------------- ------
    CPAN                1.9402
    Cwd                 3.31  
    ExtUtils::CBuilder  0.2703
    ExtUtils::Command   1.16  
    ExtUtils::Install   1.52  
    ExtUtils::MakeMaker 6.56  
    ExtUtils::Manifest  1.56  
    ExtUtils::ParseXS   2.2205
    File::Spec          3.31  
    Module::Build       0.3607
    Module::Signature   n/a   
    Test::Harness       3.21  
    Test::More          0.94  
    YAML                0.71  
    YAML::Syck          1.10  
    version             0.82  


--

Summary of my perl5 (revision 5 version 8 subversion 9) configuration:
  Platform:
    osname=linux, osvers=2.6.26-2-686, archname=i686-linux-multi
    uname='linux debian5 2.6.26-2-686 #1 smp wed may 12 21:56:10 utc 2010 i686 gnulinux '
    config_args=''
    hint=recommended, useposix=true, d_sigaction=define
    usethreads=undef use5005threads=undef useithreads=undef usemultiplicity=define
    useperlio=define d_sfio=undef uselargefiles=define usesocks=undef
    use64bitint=undef use64bitall=undef uselongdouble=undef
    usemymalloc=n, bincompat5005=undef
  Compiler:
    cc='cc', ccflags ='-fno-strict-aliasing -pipe -I/usr/local/include -D_LARGEFILE_SOURCE -D_FILE_OFFSET_BITS=64',
    optimize='-O2',
    cppflags='-fno-strict-aliasing -pipe -I/usr/local/include'
    ccversion='', gccversion='4.3.2', gccosandvers=''
    intsize=4, longsize=4, ptrsize=4, doublesize=8, byteorder=1234
    d_longlong=define, longlongsize=8, d_longdbl=define, longdblsize=12
    ivtype='long', ivsize=4, nvtype='double', nvsize=8, Off_t='off_t', lseeksize=8
    alignbytes=4, prototype=define
  Linker and Libraries:
    ld='cc', ldflags =' -L/usr/local/lib'
    libpth=/usr/local/lib /lib /usr/lib
    libs=-lnsl -ldb -ldl -lm -lcrypt -lutil -lc
    perllibs=-lnsl -ldl -lm -lcrypt -lutil -lc
    libc=/lib/libc-2.7.so, so=so, useshrplib=false, libperl=libperl.a
    gnulibc_version='2.7'
  Dynamic Linking:
    dlsrc=dl_dlopen.xs, dlext=so, d_dlsymun=undef, ccdlflags='-Wl,-E'
    cccdlflags='-fPIC', lddlflags='-shared -O2 -L/usr/local/lib'


Characteristics of this binary (from libperl): 
  Compile-time options: MULTIPLICITY PERL_IMPLICIT_CONTEXT PERL_MALLOC_WRAP
                        USE_FAST_STDIO USE_LARGE_FILES USE_PERLIO
  Built under linux
  Compiled at Jun 16 2010 17:14:57
  %ENV:
    PERL5LIB=""
    PERL5OPT=""
    PERL5_CPANPLUS_IS_RUNNING="17331"
    PERL5_CPAN_IS_RUNNING="17331"
    PERL5_CPAN_IS_RUNNING_IN_RECURSION="1285,17331"
    PERL_CR_SMOKER_CURRENT="Java-Javap-0.05"
    PERL_EXTUTILS_AUTOINSTALL="--defaultdeps"
    PERL_MM_USE_DEFAULT="1"
  @INC:
    /home/stro/perl/perl589m/lib/5.8.9/i686-linux-multi
    /home/stro/perl/perl589m/lib/5.8.9
    /home/stro/perl/perl589m/lib/site_perl/5.8.9/i686-linux-multi
    /home/stro/perl/perl589m/lib/site_perl/5.8.9
    .