Report for File-Tasks-0.07

Back
From: metabase:user:9820532a-708b-1014-9a05-b18a96298da1
Subject: PASS File-Tasks-0.07 v5.12.1 GNU/Linux
Date: 2010-10-10T19:14:07Z

This distribution has been tested as part of the CPAN Testers
project, supporting the Perl programming language.  See
http://wiki.cpantesters.org/ for more information or email
questions to cpan-testers-discuss@perl.org


--
Dear Adam Kennedy,

This is a computer-generated report for File-Tasks-0.07
on perl 5.12.1, created by CPAN-Reporter-1.1803.

Thank you for uploading your work to CPAN.  Congratulations!
All tests were successful.

Sections of this report:

    * Tester comments
    * Program output
    * Prerequisites
    * Environment and other context

------------------------------
TESTER COMMENTS
------------------------------

Additional comments from tester:

this report is from an automated smoke testing program
and was not reviewed by a human for accuracy

------------------------------
PROGRAM OUTPUT
------------------------------

Output from '/usr/bin/make test':

PERL_DL_NONLAZY=1 /home/test/perl/bin/perl5.12.1 "-MExtUtils::Command::MM" "-e" "test_harness(0, 'inc', 'blib/lib', 'blib/arch')" t/*.t
t/01_compile.t ... ok
t/02_api.t ....... ok
t/03_provider.t .. ok
t/04_remove.t .... ok
t/98_pod.t ....... skipped: Test::Pod not available for testing
t/99_pmv.t ....... skipped: Test::MinimumVersion not available
All tests successful.
Files=6, Tests=84,  1 wallclock secs ( 0.05 usr  0.01 sys +  0.29 cusr  0.09 csys =  0.44 CPU)
Result: PASS

------------------------------
PREREQUISITES
------------------------------

Prerequisite modules loaded:

requires:

    Module           Need Have
    ---------------- ---- ----
    Archive::Builder 1.04 1.14
    Class::Inspector 1.11 1.24
    Clone            0.21 0.31
    File::Find::Rule 0.20 0.32
    File::Flat       0.92 1.04
    File::Spec       0.80 3.31
    List::Util       1.15 1.22
    Params::Coerce   0.05 0.14
    Params::Util     0.06 1.01
    Scalar::Util     1.15 1.22
    Test::ClassAPI   1.02 1.06
    Test::More       0.47 0.94


------------------------------
ENVIRONMENT AND OTHER CONTEXT
------------------------------

Environment variables:

    AUTOMATED_TESTING = 1
    LANG = C
    LC_ALL = C
    PATH = /home/test/perl/bin:~/bin:/usr/bin:/bin
    PERL5LIB = /home/test/.cpan/build/Params-Coerce-0.14-tP8wjv/blib/arch:/home/test/.cpan/build/Params-Coerce-0.14-tP8wjv/blib/lib:/home/test/.cpan/build/Archive-Builder-1.14-PNuLxG/blib/arch:/home/test/.cpan/build/Archive-Builder-1.14-PNuLxG/blib/lib:/home/test/.cpan/build/File-Flat-1.04-JLVoDV/blib/arch:/home/test/.cpan/build/File-Flat-1.04-JLVoDV/blib/lib:/home/test/.cpan/build/prefork-1.04-bq9DPz/blib/arch:/home/test/.cpan/build/prefork-1.04-bq9DPz/blib/lib:/home/test/.cpan/build/Archive-Zip-1.30-SyIunQ/blib/arch:/home/test/.cpan/build/Archive-Zip-1.30-SyIunQ/blib/lib:/home/test/.cpan/build/Class-Autouse-1.29-vcKPM8/blib/arch:/home/test/.cpan/build/Class-Autouse-1.29-vcKPM8/blib/lib:/home/test/.cpan/build/Test-ClassAPI-1.06-SK2xwN/blib/arch:/home/test/.cpan/build/Test-ClassAPI-1.06-SK2xwN/blib/lib
    PERL5OPT = 
    PERL5_CPANPLUS_IS_RUNNING = 27244
    PERL5_CPAN_IS_RUNNING = 27244
    PERL5_CPAN_IS_RUNNING_IN_RECURSION = 26423,27244
    PERL_CR_SMOKER_CURRENT = File-Tasks-0.07
    PERL_EXTUTILS_AUTOINSTALL = --defaultdeps
    PERL_MM_USE_DEFAULT = 1
    SHELL = /bin/bash
    TERM = linux

Perl special variables (and OS-specific diagnostics, for MSWin32):

    $^X = /home/test/perl/bin/perl5.12.1
    $UID/$EUID = 1001 / 1001
    $GID = 1001 1001
    $EGID = 1001 1001

Perl module toolchain versions installed:

    Module              Have   
    ------------------- -------
    CPAN                1.94_56
    Cwd                 3.31   
    ExtUtils::CBuilder  0.27   
    ExtUtils::Command   1.16   
    ExtUtils::Install   1.55   
    ExtUtils::MakeMaker 6.56   
    ExtUtils::Manifest  1.57   
    ExtUtils::ParseXS   2.21   
    File::Spec          3.31   
    Module::Build       0.3603 
    Module::Signature   n/a    
    Test::Harness       3.17   
    Test::More          0.94   
    YAML                n/a    
    YAML::Syck          1.15   
    version             0.82   


--

Summary of my perl5 (revision 5 version 12 subversion 1) configuration:
   
  Platform:
    osname=linux, osvers=2.6.26-2-amd64, archname=x86_64-linux-thread-multi-ld
    uname='linux zippy 2.6.26-2-amd64 #1 smp tue jan 12 22:12:20 utc 2010 x86_64 gnulinux '
    config_args='-des -Dusedevel -des -Duselongdouble -Duse64bitall -Dusethreads -Dprefix=~/perl'
    hint=recommended, useposix=true, d_sigaction=define
    useithreads=define, usemultiplicity=define
    useperlio=define, d_sfio=undef, uselargefiles=define, usesocks=undef
    use64bitint=define, use64bitall=define, uselongdouble=define
    usemymalloc=n, bincompat5005=undef
  Compiler:
    cc='cc', ccflags ='-D_REENTRANT -D_GNU_SOURCE -fno-strict-aliasing -pipe -fstack-protector -I/usr/local/include -D_LARGEFILE_SOURCE -D_FILE_OFFSET_BITS=64',
    optimize='-O2',
    cppflags='-D_REENTRANT -D_GNU_SOURCE -fno-strict-aliasing -pipe -fstack-protector -I/usr/local/include'
    ccversion='', gccversion='4.4.4', gccosandvers=''
    intsize=4, longsize=8, ptrsize=8, doublesize=8, byteorder=12345678
    d_longlong=define, longlongsize=8, d_longdbl=define, longdblsize=16
    ivtype='long', ivsize=8, nvtype='long double', nvsize=16, Off_t='off_t', lseeksize=8
    alignbytes=16, prototype=define
  Linker and Libraries:
    ld='cc', ldflags =' -fstack-protector -L/usr/local/lib'
    libpth=/usr/local/lib /lib /usr/lib /lib64 /usr/lib64
    libs=-lnsl -ldb -ldl -lm -lcrypt -lutil -lpthread -lc
    perllibs=-lnsl -ldl -lm -lcrypt -lutil -lpthread -lc
    libc=/lib/libc-2.11.2.so, so=so, useshrplib=false, libperl=libperl.a
    gnulibc_version='2.11.2'
  Dynamic Linking:
    dlsrc=dl_dlopen.xs, dlext=so, d_dlsymun=undef, ccdlflags='-Wl,-E'
    cccdlflags='-fPIC', lddlflags='-shared -O2 -L/usr/local/lib -fstack-protector'


Characteristics of this binary (from libperl): 
  Compile-time options: MULTIPLICITY PERL_DONT_CREATE_GVSV
                        PERL_IMPLICIT_CONTEXT PERL_MALLOC_WRAP PERL_USE_DEVEL
                        USE_64_BIT_ALL USE_64_BIT_INT USE_ITHREADS
                        USE_LARGE_FILES USE_LONG_DOUBLE USE_PERLIO
                        USE_PERL_ATOF USE_REENTRANT_API
  Built under linux
  Compiled at Aug 23 2010 11:08:01
  %ENV:
    PERL5LIB="/home/test/.cpan/build/Params-Coerce-0.14-tP8wjv/blib/arch:/home/test/.cpan/build/Params-Coerce-0.14-tP8wjv/blib/lib:/home/test/.cpan/build/Archive-Builder-1.14-PNuLxG/blib/arch:/home/test/.cpan/build/Archive-Builder-1.14-PNuLxG/blib/lib:/home/test/.cpan/build/File-Flat-1.04-JLVoDV/blib/arch:/home/test/.cpan/build/File-Flat-1.04-JLVoDV/blib/lib:/home/test/.cpan/build/prefork-1.04-bq9DPz/blib/arch:/home/test/.cpan/build/prefork-1.04-bq9DPz/blib/lib:/home/test/.cpan/build/Archive-Zip-1.30-SyIunQ/blib/arch:/home/test/.cpan/build/Archive-Zip-1.30-SyIunQ/blib/lib:/home/test/.cpan/build/Class-Autouse-1.29-vcKPM8/blib/arch:/home/test/.cpan/build/Class-Autouse-1.29-vcKPM8/blib/lib:/home/test/.cpan/build/Test-ClassAPI-1.06-SK2xwN/blib/arch:/home/test/.cpan/build/Test-ClassAPI-1.06-SK2xwN/blib/lib"
    PERL5OPT=""
    PERL5_CPANPLUS_IS_RUNNING="27244"
    PERL5_CPAN_IS_RUNNING="27244"
    PERL5_CPAN_IS_RUNNING_IN_RECURSION="26423,27244"
    PERL_CR_SMOKER_CURRENT="File-Tasks-0.07"
    PERL_EXTUTILS_AUTOINSTALL="--defaultdeps"
    PERL_MM_USE_DEFAULT="1"
  @INC:
    /home/test/.cpan/build/Params-Coerce-0.14-tP8wjv/blib/arch
    /home/test/.cpan/build/Params-Coerce-0.14-tP8wjv/blib/lib
    /home/test/.cpan/build/Archive-Builder-1.14-PNuLxG/blib/arch
    /home/test/.cpan/build/Archive-Builder-1.14-PNuLxG/blib/lib
    /home/test/.cpan/build/File-Flat-1.04-JLVoDV/blib/arch
    /home/test/.cpan/build/File-Flat-1.04-JLVoDV/blib/lib
    /home/test/.cpan/build/prefork-1.04-bq9DPz/blib/arch
    /home/test/.cpan/build/prefork-1.04-bq9DPz/blib/lib
    /home/test/.cpan/build/Archive-Zip-1.30-SyIunQ/blib/arch
    /home/test/.cpan/build/Archive-Zip-1.30-SyIunQ/blib/lib
    /home/test/.cpan/build/Class-Autouse-1.29-vcKPM8/blib/arch
    /home/test/.cpan/build/Class-Autouse-1.29-vcKPM8/blib/lib
    /home/test/.cpan/build/Test-ClassAPI-1.06-SK2xwN/blib/arch
    /home/test/.cpan/build/Test-ClassAPI-1.06-SK2xwN/blib/lib
    /home/test/perl/lib/site_perl/5.12.1/x86_64-linux-thread-multi-ld
    /home/test/perl/lib/site_perl/5.12.1
    /home/test/perl/lib/5.12.1/x86_64-linux-thread-multi-ld
    /home/test/perl/lib/5.12.1
    .