Params-ValidationCompiler v0.27 Perl 5 v5.18.2 i686-linux-thread-multi

Status
Pass
From
Nigel Horne
Dist
Params-ValidationCompiler v0.27
Platform
Perl 5 v5.18.2 i686-linux-thread-multi
Date
2018-02-12 02:22:20
ID
8de0e88c-0f9b-11e8-af2b-acaf1d79aee4
This distribution has been tested as part of the CPAN Testers
project, supporting the Perl programming language.  See
http://wiki.cpantesters.org/ for more information or email
questions to cpan-testers-discuss@perl.org


--
Dear Dave Rolsky,

This is a computer-generated report for Params-ValidationCompiler-0.27
on perl 5.18.2, created by CPAN-Reporter-1.2018.

Thank you for uploading your work to CPAN.  Congratulations!
All tests were successful.

Sections of this report:

    * Tester comments
    * Program output
    * Prerequisites
    * Environment and other context

------------------------------
TESTER COMMENTS
------------------------------

Additional comments from tester:

this report is from an automated smoke testing program
and was not reviewed by a human for accuracy

------------------------------
PROGRAM OUTPUT
------------------------------

Output from '/usr/bin/make test':

PERL_DL_NONLAZY=1 /home/njh/perl5/perlbrew/perls/perl-5.18.2-sanitize-address/bin/perl5.18.2 "-MExtUtils::Command::MM" "-e" "test_harness(0, 'blib/lib', 'blib/arch')" t/*.t t/named/*.t t/positional/*.t
t/default.t .............. ok
# 
# Versions for all modules listed in MYMETA.json (including optional ones):
# 
# === Configure Requires ===
# 
#     Module              Want Have
#     ------------------- ---- ----
#     ExtUtils::MakeMaker  any 6.66
# 
# === Build Requires ===
# 
#     Module              Want Have
#     ------------------- ---- ----
#     ExtUtils::MakeMaker  any 6.66
# 
# === Test Requires ===
# 
#     Module                        Want     Have
#     ------------------------- -------- --------
#     ExtUtils::MakeMaker            any     6.66
#     File::Spec                     any     3.40
#     Hash::Util                     any     0.16
#     Specio                        0.14     0.42
#     Test2::Plugin::NoWarnings      any     0.06
#     Test2::Require::Module         any 0.000097
#     Test2::V0                      any 0.000097
#     Test::More                1.302015 1.302120
#     Test::Without::Module          any     0.20
# 
# === Test Recommends ===
# 
#     Module         Want     Have
#     ---------- -------- --------
#     CPAN::Meta 2.120900 2.150010
# 
# === Runtime Requires ===
# 
#     Module           Want    Have
#     ---------------- ---- -------
#     B                 any 1.42_02
#     Carp              any    1.29
#     Eval::Closure     any    0.14
#     Exception::Class  any    1.44
#     Exporter          any    5.68
#     List::Util       1.29    1.49
#     Scalar::Util      any    1.49
#     overload          any    1.22
#     strict            any    1.07
#     warnings          any    1.18
# 
# === Runtime Recommends ===
# 
#     Module    Want Have
#     --------- ---- ----
#     Sub::Util 1.40 1.49
# 
t/00-report-prereqs.t .... ok
t/exceptions.t ........... ok
t/name-fails.t ........... ok
t/moose.t ................ ok
t/name.t ................. ok
t/named/args-check.t ..... ok
t/named/const-hash.t ..... skipped: Module 'Const::Fast' is not installed
t/named/locked-hash.t .... ok
t/named/required.t ....... ok
t/named/slurpy.t ......... ok
t/pairs-to-value-list.t .. ok
t/positional/default.t ... ok
t/positional/required.t .. ok
t/positional/slurpy.t .... ok
t/self-check.t ........... ok
t/source_for.t ........... ok
t/specio.t ............... ok
t/type-tiny.t ............ ok
All tests successful.
Files=19, Tests=82,  8 wallclock secs ( 0.34 usr  0.09 sys + 13.68 cusr  1.45 csys = 15.56 CPU)
Result: PASS

------------------------------
PREREQUISITES
------------------------------

Prerequisite modules loaded:

requires:

    Module                    Need     Have    
    ------------------------- -------- --------
    B                         0        1.42_02 
    Carp                      0        1.29    
    Eval::Closure             0        0.14    
    Exception::Class          0        1.44    
    Exporter                  0        5.68    
    List::Util                1.29     1.49    
    overload                  0        1.22    
    Scalar::Util              0        1.49    
    strict                    0        1.07    
    warnings                  0        1.18    

build_requires:

    Module                    Need     Have    
    ------------------------- -------- --------
    ExtUtils::MakeMaker       0        6.66    
    File::Spec                0        3.40    
    Hash::Util                0        0.16    
    Specio                    0.14     0.42    
    Test2::Plugin::NoWarnings 0        0.06    
    Test2::Require::Module    0        0.000097
    Test2::V0                 0        0.000097
    Test::More                1.302015 1.302120
    Test::Without::Module     0        0.20    

configure_requires:

    Module                    Need     Have    
    ------------------------- -------- --------
    ExtUtils::MakeMaker       0        6.66    


------------------------------
ENVIRONMENT AND OTHER CONTEXT
------------------------------

Environment variables:

    AUTOMATED_TESTING = 1
    HARNESS_OPTIONS = j2
    LANG = en_US.UTF-8
    PATH = /home/njh/perl5/perlbrew/bin:/home/njh/perl5/perlbrew/perls/perl-5.18.2-sanitize-address/bin:src/njh/smoker/bin:/usr/bin:/bin
    PERL5LIB = /home/njh/.cpan/build/Test2-Plugin-NoWarnings-0.06-NBv5pK/blib/arch:/home/njh/.cpan/build/Test2-Plugin-NoWarnings-0.06-NBv5pK/blib/lib:/home/njh/.cpan/build/IPC-Run3-0.048-EMzx5x/blib/arch:/home/njh/.cpan/build/IPC-Run3-0.048-EMzx5x/blib/lib:/home/njh/.cpan/build/Specio-0.42-EWRRAD/blib/arch:/home/njh/.cpan/build/Specio-0.42-EWRRAD/blib/lib:/home/njh/.cpan/build/File-ChangeNotify-0.28-9AXMhn/blib/arch:/home/njh/.cpan/build/File-ChangeNotify-0.28-9AXMhn/blib/lib:/home/njh/.cpan/build/Test-Without-Module-0.20-fdja7u/blib/arch:/home/njh/.cpan/build/Test-Without-Module-0.20-fdja7u/blib/lib:/home/njh/.cpan/build/Type-Tiny-1.002001-PPNHkK/blib/arch:/home/njh/.cpan/build/Type-Tiny-1.002001-PPNHkK/blib/lib:/home/njh/.cpan/build/Moo-2.003004-gzXm9v/blib/arch:/home/njh/.cpan/build/Moo-2.003004-gzXm9v/blib/lib:/home/njh/.cpan/build/Role-Tiny-2.000006-6LbjT8/blib/arch:/home/njh/.cpan/build/Role-Tiny-2.000006-6LbjT8/blib/lib:/home/njh/.cpan/build/Sub-Quote-2.005000-viuNW3/blib/arch:/home/njh/.cpan/build/Sub-Quote-2.005000-viuNW3/blib/lib:/home/njh/.cpan/build/Class-Method-Modifiers-2.12-Veq8OE/blib/arch:/home/njh/.cpan/build/Class-Method-Modifiers-2.12-Veq8OE/blib/lib
    PERL5OPT = 
    PERL5_CPANPLUS_IS_RUNNING = 10903
    PERL5_CPAN_IS_RUNNING = 10903
    PERLBREW_BASHRC_VERSION = 0.73
    PERLBREW_HOME = /home/njh/.perlbrew
    PERLBREW_MANPATH = /home/njh/perl5/perlbrew/perls/perl-5.18.2-sanitize-address/man
    PERLBREW_PATH = /home/njh/perl5/perlbrew/bin:/home/njh/perl5/perlbrew/perls/perl-5.18.2-sanitize-address/bin
    PERLBREW_PERL = perl-5.18.2-sanitize-address
    PERLBREW_ROOT = /home/njh/perl5/perlbrew
    PERLBREW_VERSION = 0.73
    SHELL = /bin/sh

Perl special variables (and OS-specific diagnostics, for MSWin32):

    $^X = /home/njh/perl5/perlbrew/perls/perl-5.18.2-sanitize-address/bin/perl5.18.2
    $UID/$EUID = 1000 / 1000
    $GID = 1000 4 24 25 29 30 44 46 108 1000
    $EGID = 1000 4 24 25 29 30 44 46 108 1000

Perl module toolchain versions installed:

    Module              Have    
    ------------------- --------
    CPAN                2.00    
    CPAN::Meta          2.150010
    Cwd                 3.40    
    ExtUtils::CBuilder  0.280210
    ExtUtils::Command   1.17    
    ExtUtils::Install   1.59    
    ExtUtils::MakeMaker 6.66    
    ExtUtils::Manifest  1.63    
    ExtUtils::ParseXS   3.18    
    File::Spec          3.40    
    JSON                2.97001 
    JSON::PP            2.97001 
    Module::Build       0.4224  
    Module::Signature   n/a     
    Parse::CPAN::Meta   2.150010
    Test::Harness       3.39    
    Test::More          1.302120
    YAML                n/a     
    YAML::Syck          n/a     
    version             0.9902  


--

Summary of my perl5 (revision 5 version 18 subversion 2) configuration:
   
  Platform:
    osname=linux, osvers=4.3.0-1-686-pae, archname=i686-linux-thread-multi
    uname='linux zack 4.3.0-1-686-pae #1 smp debian 4.3.5-1 (2016-02-06) i686 gnulinux '
    config_args='-de -Dprefix=/home/njh/perl5/perlbrew/perls/perl-5.18.2-sanitize-address -Dusedevel -Dcc= -Dusethreads -Accflags=-fsanitize=address -g -O2 -Aldflags=-fsanitize=address -g -Alddflags=-shared -O2 -L/usr/local/lib -fstack-protector-string -fsanitize=address -g -Aeval:scriptdir=/home/njh/perl5/perlbrew/perls/perl-5.18.2-sanitize-address/bin'
    hint=recommended, useposix=true, d_sigaction=define
    useithreads=define, usemultiplicity=define
    useperlio=define, d_sfio=undef, uselargefiles=define, usesocks=undef
    use64bitint=undef, use64bitall=undef, uselongdouble=undef
    usemymalloc=n, bincompat5005=undef
  Compiler:
    cc='cc', ccflags ='-D_REENTRANT -D_GNU_SOURCE -fsanitize=address -g -O2 -fno-strict-aliasing -pipe -fstack-protector -I/usr/local/include -D_LARGEFILE_SOURCE -D_FILE_OFFSET_BITS=64',
    optimize='-O2',
    cppflags='-D_REENTRANT -D_GNU_SOURCE -fsanitize=address -g -O2 -fno-strict-aliasing -pipe -fstack-protector -I/usr/local/include'
    ccversion='', gccversion='7.2.0', gccosandvers=''
    intsize=4, longsize=4, ptrsize=4, doublesize=8, byteorder=1234
    d_longlong=define, longlongsize=8, d_longdbl=define, longdblsize=12
    ivtype='long', ivsize=4, nvtype='double', nvsize=8, Off_t='off_t', lseeksize=8
    alignbytes=4, prototype=define
  Linker and Libraries:
    ld='cc', ldflags =' -fsanitize=address -g -fstack-protector -L/usr/local/lib'
    libpth=/usr/local/lib /lib/i386-linux-gnu /lib/../lib /usr/lib/i386-linux-gnu /usr/lib/../lib /lib /usr/lib /lib64 /usr/lib64
    libs=-lnsl -lgdbm -ldb -ldl -lm -lcrypt -lutil -lpthread -lc -lgdbm_compat
    perllibs=-lnsl -ldl -lm -lcrypt -lutil -lpthread -lc
    libc=libc-2.26.so, so=so, useshrplib=false, libperl=libperl.a
    gnulibc_version='2.26'
  Dynamic Linking:
    dlsrc=dl_dlopen.xs, dlext=so, d_dlsymun=undef, ccdlflags='-Wl,-E'
    cccdlflags='-fPIC', lddlflags='-shared -O2 -L/usr/local/lib -fstack-protector'


Characteristics of this binary (from libperl): 
  Compile-time options: HAS_TIMES MULTIPLICITY PERLIO_LAYERS
                        PERL_DONT_CREATE_GVSV
                        PERL_HASH_FUNC_ONE_AT_A_TIME_HARD
                        PERL_IMPLICIT_CONTEXT PERL_MALLOC_WRAP
                        PERL_PRESERVE_IVUV PERL_SAWAMPERSAND PERL_USE_DEVEL
                        USE_ITHREADS USE_LARGE_FILES USE_LOCALE
                        USE_LOCALE_COLLATE USE_LOCALE_CTYPE
                        USE_LOCALE_NUMERIC USE_PERLIO USE_PERL_ATOF
                        USE_REENTRANT_API
  Locally applied patches:
	Devel::PatchPerl 1.38
  Built under linux
  Compiled at Jan 26 2018 01:23:44
  %ENV:
    PERL5LIB="/home/njh/.cpan/build/Test2-Plugin-NoWarnings-0.06-NBv5pK/blib/arch:/home/njh/.cpan/build/Test2-Plugin-NoWarnings-0.06-NBv5pK/blib/lib:/home/njh/.cpan/build/IPC-Run3-0.048-EMzx5x/blib/arch:/home/njh/.cpan/build/IPC-Run3-0.048-EMzx5x/blib/lib:/home/njh/.cpan/build/Specio-0.42-EWRRAD/blib/arch:/home/njh/.cpan/build/Specio-0.42-EWRRAD/blib/lib:/home/njh/.cpan/build/File-ChangeNotify-0.28-9AXMhn/blib/arch:/home/njh/.cpan/build/File-ChangeNotify-0.28-9AXMhn/blib/lib:/home/njh/.cpan/build/Test-Without-Module-0.20-fdja7u/blib/arch:/home/njh/.cpan/build/Test-Without-Module-0.20-fdja7u/blib/lib:/home/njh/.cpan/build/Type-Tiny-1.002001-PPNHkK/blib/arch:/home/njh/.cpan/build/Type-Tiny-1.002001-PPNHkK/blib/lib:/home/njh/.cpan/build/Moo-2.003004-gzXm9v/blib/arch:/home/njh/.cpan/build/Moo-2.003004-gzXm9v/blib/lib:/home/njh/.cpan/build/Role-Tiny-2.000006-6LbjT8/blib/arch:/home/njh/.cpan/build/Role-Tiny-2.000006-6LbjT8/blib/lib:/home/njh/.cpan/build/Sub-Quote-2.005000-viuNW3/blib/arch:/home/njh/.cpan/build/Sub-Quote-2.005000-viuNW3/blib/lib:/home/njh/.cpan/build/Class-Method-Modifiers-2.12-Veq8OE/blib/arch:/home/njh/.cpan/build/Class-Method-Modifiers-2.12-Veq8OE/blib/lib"
    PERL5OPT=""
    PERL5_CPANPLUS_IS_RUNNING="10903"
    PERL5_CPAN_IS_RUNNING="10903"
    PERLBREW_BASHRC_VERSION="0.73"
    PERLBREW_HOME="/home/njh/.perlbrew"
    PERLBREW_MANPATH="/home/njh/perl5/perlbrew/perls/perl-5.18.2-sanitize-address/man"
    PERLBREW_PATH="/home/njh/perl5/perlbrew/bin:/home/njh/perl5/perlbrew/perls/perl-5.18.2-sanitize-address/bin"
    PERLBREW_PERL="perl-5.18.2-sanitize-address"
    PERLBREW_ROOT="/home/njh/perl5/perlbrew"
    PERLBREW_VERSION="0.73"
  @INC:
    /home/njh/.cpan/build/Test2-Plugin-NoWarnings-0.06-NBv5pK/blib/arch
    /home/njh/.cpan/build/Test2-Plugin-NoWarnings-0.06-NBv5pK/blib/lib
    /home/njh/.cpan/build/IPC-Run3-0.048-EMzx5x/blib/arch
    /home/njh/.cpan/build/IPC-Run3-0.048-EMzx5x/blib/lib
    /home/njh/.cpan/build/Specio-0.42-EWRRAD/blib/arch
    /home/njh/.cpan/build/Specio-0.42-EWRRAD/blib/lib
    /home/njh/.cpan/build/File-ChangeNotify-0.28-9AXMhn/blib/arch
    /home/njh/.cpan/build/File-ChangeNotify-0.28-9AXMhn/blib/lib
    /home/njh/.cpan/build/Test-Without-Module-0.20-fdja7u/blib/arch
    /home/njh/.cpan/build/Test-Without-Module-0.20-fdja7u/blib/lib
    /home/njh/.cpan/build/Type-Tiny-1.002001-PPNHkK/blib/arch
    /home/njh/.cpan/build/Type-Tiny-1.002001-PPNHkK/blib/lib
    /home/njh/.cpan/build/Moo-2.003004-gzXm9v/blib/arch
    /home/njh/.cpan/build/Moo-2.003004-gzXm9v/blib/lib
    /home/njh/.cpan/build/Role-Tiny-2.000006-6LbjT8/blib/arch
    /home/njh/.cpan/build/Role-Tiny-2.000006-6LbjT8/blib/lib
    /home/njh/.cpan/build/Sub-Quote-2.005000-viuNW3/blib/arch
    /home/njh/.cpan/build/Sub-Quote-2.005000-viuNW3/blib/lib
    /home/njh/.cpan/build/Class-Method-Modifiers-2.12-Veq8OE/blib/arch
    /home/njh/.cpan/build/Class-Method-Modifiers-2.12-Veq8OE/blib/lib
    /home/njh/perl5/perlbrew/perls/perl-5.18.2-sanitize-address/lib/site_perl/5.18.2/i686-linux-thread-multi
    /home/njh/perl5/perlbrew/perls/perl-5.18.2-sanitize-address/lib/site_perl/5.18.2
    /home/njh/perl5/perlbrew/perls/perl-5.18.2-sanitize-address/lib/5.18.2/i686-linux-thread-multi
    /home/njh/perl5/perlbrew/perls/perl-5.18.2-sanitize-address/lib/5.18.2
    .