DateTime-Format-Strptime v1.79 Perl 5 v5.24.4 MSWin32-x64-multi-thread
- Status
- Pass
- From
- twata
- Dist
-
DateTime-Format-Strptime v1.79
- Platform
- Perl 5 v5.24.4 MSWin32-x64-multi-thread
- Date
- 2021-05-03 08:15:46
- ID
- 8dda50d7-6f16-1014-b49b-8f2f76a13fd6
This distribution has been tested as part of the CPAN Testers
project, supporting the Perl programming language. See
http://wiki.cpantesters.org/ for more information or email
questions to cpan-testers-discuss@perl.org
--
Dear Dave Rolsky,
This is a computer-generated report for DateTime-Format-Strptime-1.79
on perl 5.24.4, created by CPAN-Reporter-1.2018.
Thank you for uploading your work to CPAN. Congratulations!
All tests were successful.
Sections of this report:
* Tester comments
* Program output
* Prerequisites
* Environment and other context
------------------------------
TESTER COMMENTS
------------------------------
Additional comments from tester:
none provided
------------------------------
PROGRAM OUTPUT
------------------------------
Output from 'C:\Strawberry\c\bin\dmake.exe test':
C:\"Strawberry\perl\bin\perl.exe" "-MExtUtils::Command::MM" "-MTest::Harness" "-e" "undef *Test::Harness::Switches; test_harness(0, 'blib\lib', 'blib\arch')" t/*.t
#
# Versions for all modules listed in MYMETA.json (including optional ones):
#
# === Configure Requires ===
#
# Module Want Have
# ------------------- ---- ----
# ExtUtils::MakeMaker any 7.62
#
# === Configure Suggests ===
#
# Module Want Have
# -------- ------- ----
# JSON::PP 2.27300 4.06
#
# === Build Requires ===
#
# Module Want Have
# ------------------- ---- ----
# ExtUtils::MakeMaker any 7.62
#
# === Test Requires ===
#
# Module Want Have
# ------------------- ---- --------
# ExtUtils::MakeMaker any 7.62
# File::Spec any 3.74
# FindBin any 1.51
# Test::Builder any 1.302183
# Test::Fatal any 0.014
# Test::More 0.96 1.302183
# Test::Warnings any 0.026
# lib any 0.63
# utf8 any 1.19
#
# === Test Recommends ===
#
# Module Want Have
# ---------- -------- --------
# CPAN::Meta 2.120900 2.150010
#
# === Runtime Requires ===
#
# Module Want Have
# -------------------------- ---- -----
# Carp any 1.40
# DateTime 1.00 1.54
# DateTime::Locale 1.30 1.32
# DateTime::Locale::Base any 1.32
# DateTime::Locale::FromData any 1.32
# DateTime::TimeZone 2.09 2.47
# Exporter any 5.74
# Params::ValidationCompiler any 0.30
# Specio 0.33 0.47
# Specio::Declare any 0.47
# Specio::Exporter any 0.47
# Specio::Library::Builtins any 0.47
# Specio::Library::String any 0.47
# Try::Tiny any 0.30
# constant any 1.33
# parent any 0.238
# strict any 1.11
# warnings any 1.36
#
t/00-report-prereqs.t .... ok
t/basic.t ................ ok
Subroutine olson_version redefined at C:\home\westwindow\perl5\lib\perl5/DateTime/TimeZone/america/new_york.pm line 2098, <DATA> line 1.
Subroutine has_dst_changes redefined at C:\home\westwindow\perl5\lib\perl5/DateTime/TimeZone/america/new_york.pm line 2100, <DATA> line 1.
Subroutine _max_year redefined at C:\home\westwindow\perl5\lib\perl5/DateTime/TimeZone/america/new_york.pm line 2102, <DATA> line 1.
Subroutine _new_instance redefined at C:\home\westwindow\perl5\lib\perl5/DateTime/TimeZone/america/new_york.pm line 2104, <DATA> line 1.
Subroutine _last_offset redefined at C:\home\westwindow\perl5\lib\perl5/DateTime/TimeZone/america/new_york.pm line 2108, <DATA> line 1.
Subroutine _last_observance redefined at C:\home\westwindow\perl5\lib\perl5/DateTime/TimeZone/america/new_york.pm line 2146, <DATA> line 1.
Subroutine _rules redefined at C:\home\westwindow\perl5\lib\perl5/DateTime/TimeZone/america/new_york.pm line 2173, <DATA> line 1.
Subroutine olson_version redefined at C:\home\westwindow\perl5\lib\perl5/DateTime/TimeZone/amERicA/new_YORK.pm line 2098, <DATA> line 1.
Subroutine has_dst_changes redefined at C:\home\westwindow\perl5\lib\perl5/DateTime/TimeZone/amERicA/new_YORK.pm line 2100, <DATA> line 1.
Subroutine _max_year redefined at C:\home\westwindow\perl5\lib\perl5/DateTime/TimeZone/amERicA/new_YORK.pm line 2102, <DATA> line 1.
Subroutine _new_instance redefined at C:\home\westwindow\perl5\lib\perl5/DateTime/TimeZone/amERicA/new_YORK.pm line 2104, <DATA> line 1.
Subroutine _last_offset redefined at C:\home\westwindow\perl5\lib\perl5/DateTime/TimeZone/amERicA/new_YORK.pm line 2108, <DATA> line 1.
Subroutine _last_observance redefined at C:\home\westwindow\perl5\lib\perl5/DateTime/TimeZone/amERicA/new_YORK.pm line 2146, <DATA> line 1.
Subroutine _rules redefined at C:\home\westwindow\perl5\lib\perl5/DateTime/TimeZone/amERicA/new_YORK.pm line 2173, <DATA> line 1.
t/edge.t ................. ok
t/errors.t ............... ok
t/format-datetime.t ...... ok
t/format-with-locale.t ... ok
t/generated-locale-de.t .. ok
t/generated-locale-en.t .. ok
t/generated-locale-ga.t .. ok
t/generated-locale-pt.t .. ok
t/generated-locale-zh.t .. ok
t/import.t ............... ok
t/zones.t ................ ok
All tests successful.
Files=13, Tests=143, 12 wallclock secs ( 0.16 usr + 0.14 sys = 0.30 CPU)
Result: PASS
------------------------------
PREREQUISITES
------------------------------
Prerequisite modules loaded:
requires:
Module Need Have
-------------------------- ---- --------
Carp 0 1.40
constant 0 1.33
DateTime 1.00 1.54
DateTime::Locale 1.30 1.32
DateTime::Locale::Base 0 1.32
DateTime::Locale::FromData 0 1.32
DateTime::TimeZone 2.09 2.47
Exporter 0 5.74
Params::ValidationCompiler 0 0.30
parent 0 0.238
Specio 0.33 0.47
Specio::Declare 0 0.47
Specio::Exporter 0 0.47
Specio::Library::Builtins 0 0.47
Specio::Library::String 0 0.47
strict 0 1.11
Try::Tiny 0 0.30
warnings 0 1.36
build_requires:
Module Need Have
-------------------------- ---- --------
ExtUtils::MakeMaker 0 7.62
File::Spec 0 3.74
FindBin 0 1.51
lib 0 0.63
Test::Builder 0 1.302183
Test::Fatal 0 0.014
Test::More 0.96 1.302183
Test::Warnings 0 0.026
utf8 0 1.19
configure_requires:
Module Need Have
-------------------------- ---- --------
ExtUtils::MakeMaker 0 7.62
------------------------------
ENVIRONMENT AND OTHER CONTEXT
------------------------------
Environment variables:
COMSPEC = C:\WINDOWS\system32\cmd.exe
NONINTERACTIVE_TESTING = 1
NUMBER_OF_PROCESSORS = 4
PATH = C:\home\westwindow\perl5\bin;C:\WINDOWS\system32;C:\WINDOWS;C:\WINDOWS\System32\Wbem;C:\WINDOWS\System32\WindowsPowerShell\v1.0\;C:\Strawberry\c\bin;C:\Strawberry\perl\site\bin;C:\Strawberry\perl\bin
PERL5LIB = C:\home\westwindow\perl5\lib\perl5
PERL5OPT =
PERL5_CPANPLUS_IS_RUNNING = 5916
PERL5_CPAN_IS_RUNNING = 5916
PERL_LOCAL_LIB_ROOT = C:\home\westwindow\perl5
PERL_MB_OPT = --install_base "C:\\home\\westwindow\\perl5"
PERL_MM_OPT = INSTALL_BASE=C:\\home\\westwindow\\perl5
PERL_MM_USE_DEFAULT = 1
PERL_USE_UNSAFE_INC = 1
PROCESSOR_IDENTIFIER = Intel64 Family 6 Model 58 Stepping 9, GenuineIntel
TEMP = C:\Users\USER\AppData\Local\Temp
TERM = dumb
Perl special variables (and OS-specific diagnostics, for MSWin32):
$^X = C:\Strawberry\perl\bin\perl.exe
$UID/$EUID = 0 / 0
$GID = 0
$EGID = 0
Win32::GetOSName = Win8.1
Win32::GetOSVersion = , 6, 3, 9600, 2, 0, 0, 256, 1
Win32::FsType = NTFS
Win32::IsAdminUser = 0
Perl module toolchain versions installed:
Module Have
------------------- --------
CPAN 2.28
CPAN::Meta 2.150010
Cwd 3.74
ExtUtils::CBuilder 0.280236
ExtUtils::Command 7.62
ExtUtils::Install 2.20
ExtUtils::MakeMaker 7.62
ExtUtils::Manifest 1.73
ExtUtils::ParseXS 3.35
File::Spec 3.74
JSON 4.03
JSON::PP 4.06
Module::Build 0.4231
Module::Signature 0.87
Parse::CPAN::Meta 2.150010
Test::Harness 3.42
Test::More 1.302183
YAML 1.24
YAML::Syck 1.34
version 0.9929
--
Summary of my perl5 (revision 5 version 24 subversion 4) configuration:
Platform:
osname=MSWin32, osvers=10.0, archname=MSWin32-x64-multi-thread
uname='Win32 strawberry-perl 5.24.4.1 #1 Sun Apr 15 19:39:13 2018 x64'
config_args='undef'
hint=recommended, useposix=true, d_sigaction=undef
useithreads=define, usemultiplicity=define
use64bitint=define, use64bitall=undef, uselongdouble=undef
usemymalloc=n, bincompat5005=undef
Compiler:
cc='gcc', ccflags =' -s -O2 -DWIN32 -DWIN64 -DCONSERVATIVE -DPERL_TEXTMODE_SCRIPTS -DPERL_IMPLICIT_CONTEXT -DPERL_IMPLICIT_SYS -fwrapv -fno-strict-aliasing -mms-bitfields',
optimize='-s -O2',
cppflags='-DWIN32'
ccversion='', gccversion='4.9.2', gccosandvers=''
intsize=4, longsize=4, ptrsize=8, doublesize=8, byteorder=12345678, doublekind=3
d_longlong=define, longlongsize=8, d_longdbl=define, longdblsize=16, longdblkind=3
ivtype='long long', ivsize=8, nvtype='double', nvsize=8, Off_t='long long', lseeksize=8
alignbytes=8, prototype=define
Linker and Libraries:
ld='g++', ldflags ='-s -L"C:\Strawberry\perl\lib\CORE" -L"C:\Strawberry\c\lib"'
libpth=C:\Strawberry\c\lib C:\Strawberry\c\x86_64-w64-mingw32\lib C:\Strawberry\c\lib\gcc\x86_64-w64-mingw32\4.9.2
libs=-lmoldname -lkernel32 -luser32 -lgdi32 -lwinspool -lcomdlg32 -ladvapi32 -lshell32 -lole32 -loleaut32 -lnetapi32 -luuid -lws2_32 -lmpr -lwinmm -lversion -lodbc32 -lodbccp32 -lcomctl32
perllibs=-lmoldname -lkernel32 -luser32 -lgdi32 -lwinspool -lcomdlg32 -ladvapi32 -lshell32 -lole32 -loleaut32 -lnetapi32 -luuid -lws2_32 -lmpr -lwinmm -lversion -lodbc32 -lodbccp32 -lcomctl32
libc=, so=dll, useshrplib=true, libperl=libperl524.a
gnulibc_version=''
Dynamic Linking:
dlsrc=dl_win32.xs, dlext=xs.dll, d_dlsymun=undef, ccdlflags=' '
cccdlflags=' ', lddlflags='-mdll -s -L"C:\Strawberry\perl\lib\CORE" -L"C:\Strawberry\c\lib"'
Characteristics of this binary (from libperl):
Compile-time options: HAS_TIMES HAVE_INTERP_INTERN MULTIPLICITY
PERLIO_LAYERS PERL_COPY_ON_WRITE
PERL_DONT_CREATE_GVSV
PERL_HASH_FUNC_ONE_AT_A_TIME_HARD
PERL_IMPLICIT_CONTEXT PERL_IMPLICIT_SYS
PERL_MALLOC_WRAP PERL_PRESERVE_IVUV USE_64_BIT_INT
USE_ITHREADS USE_LARGE_FILES USE_LOCALE
USE_LOCALE_COLLATE USE_LOCALE_CTYPE
USE_LOCALE_NUMERIC USE_LOCALE_TIME USE_PERLIO
USE_PERL_ATOF
Built under MSWin32
Compiled at Apr 15 2018 19:43:12
%ENV:
PERL5LIB="C:\home\westwindow\perl5\lib\perl5"
PERL5_CPANPLUS_IS_RUNNING="5916"
PERL5_CPAN_IS_RUNNING="5916"
PERL_LOCAL_LIB_ROOT="C:\home\westwindow\perl5"
PERL_MB_OPT="--install_base "C:\\home\\westwindow\\perl5""
PERL_MM_OPT="INSTALL_BASE=C:\\home\\westwindow\\perl5"
PERL_MM_USE_DEFAULT="1"
PERL_USE_UNSAFE_INC="1"
@INC:
C:\home\westwindow\perl5\lib\perl5/MSWin32-x64-multi-thread
C:\home\westwindow\perl5\lib\perl5
C:/Strawberry/perl/site/lib
C:/Strawberry/perl/vendor/lib
C:/Strawberry/perl/lib
.