Text-VimColor v0.29 Perl 5 v5.29.10 x86_64-linux
- Status
- Pass
- From
- Slaven Rezić (SREZIC)
- Dist
-
Text-VimColor v0.29
- Platform
- Perl 5 v5.29.10 x86_64-linux
- Date
- 2019-04-23 15:29:15
- ID
- 8dd7b49a-65dc-11e9-94e6-dc7e1f24ea8f
This distribution has been tested as part of the CPAN Testers
project, supporting the Perl programming language. See
http://wiki.cpantesters.org/ for more information or email
questions to cpan-testers-discuss@perl.org
--
Dear Randy Stauner,
This is a computer-generated report for Text-VimColor-0.29
on perl 5.29.10, created by CPAN-Reporter-1.2018.
Thank you for uploading your work to CPAN. Congratulations!
All tests were successful.
Sections of this report:
* Tester comments
* Program output
* Prerequisites
* Environment and other context
------------------------------
TESTER COMMENTS
------------------------------
Additional comments from tester:
none provided
------------------------------
PROGRAM OUTPUT
------------------------------
Output from '/usr/bin/make test':
Skip blib/lib/auto/share/dist/Text-VimColor/light.xsl (unchanged)
Skip blib/lib/auto/share/dist/Text-VimColor/mark.vim (unchanged)
Skip blib/lib/auto/share/dist/Text-VimColor/light.css (unchanged)
Skip blib/lib/auto/share/dist/Text-VimColor/define_all.vim (unchanged)
PERL_DL_NONLAZY=1 "/opt/perl-5.29.10/bin/perl5.29.10" "-MExtUtils::Command::MM" "-MTest::Harness" "-e" "undef *Test::Harness::Switches; test_harness(0, 'blib/lib', 'blib/arch')" t/*.t
t/00-compile.t ......... ok
#
# Versions for all modules listed in MYMETA.json (including optional ones):
#
# === Configure Requires ===
#
# Module Want Have
# ----------------------- ---- ------
# ExtUtils::MakeMaker any 7.34
# File::ShareDir::Install 0.06 0.13
# File::Temp any 0.2309
# IO::File any 1.40
# IPC::Open3 any 1.20
# strict any 1.11
# warnings any 1.44
#
# === Build Requires ===
#
# Module Want Have
# ------------------- ---- ----
# ExtUtils::MakeMaker any 7.34
#
# === Test Requires ===
#
# Module Want Have
# -------------------------- ---- --------
# Exporter any 5.73
# ExtUtils::MakeMaker any 7.34
# File::Spec any 3.78
# File::Temp any 0.2309
# IO::Handle any 1.40
# IPC::Open3 any 1.20
# Path::Class 0.04 0.37
# Test::File::ShareDir::Dist any 1.001002
# Test::More 0.88 1.302162
# lib any 0.65
#
# === Test Recommends ===
#
# Module Want Have
# ---------- -------- --------
# CPAN::Meta 2.120900 2.150010
#
# === Runtime Requires ===
#
# Module Want Have
# --------------- ---- ------
# Carp any 1.50
# File::Copy any 2.34
# File::ShareDir any 1.116
# File::Temp any 0.2309
# Getopt::Long any 2.5
# IO::File any 1.40
# IPC::Open3 any 1.20
# Path::Class 0.04 0.37
# Symbol any 1.08
# Term::ANSIColor 1.03 4.06
# constant any 1.33
# strict any 1.11
# warnings any 1.44
#
# === Runtime Recommends ===
#
# Module Want Have
# --------------- ---- ----
# Term::ANSIColor 3 4.06
#
t/00-report-prereqs.t .. ok
# vim --version
#
# VIM - Vi IMproved 8.0 (2016 Sep 12, compiled Apr 10 2018 21:31:58)
# Inklusive der Patches: 1-1453
# Verändert von pkg-vim-maintainers@lists.alioth.debian.org
# ÃÂbersetzt von pkg-vim-maintainers@lists.alioth.debian.org
# Riesige Version ohne GUI. Ein- (+) oder ausschlieÃÂlich (-) der Eigenschaften:
# +acl +farsi +mouse_sgr -tag_any_white
# +arabic +file_in_path -mouse_sysmouse -tcl
# +autocmd +find_in_path +mouse_urxvt +termguicolors
# -autoservername +float +mouse_xterm +terminal
# -balloon_eval +folding +multi_byte +terminfo
# +balloon_eval_term -footer +multi_lang +termresponse
# -browse +fork() -mzscheme +textobjects
# ++builtin_terms +gettext +netbeans_intg +timers
# +byte_offset -hangul_input +num64 +title
# +channel +iconv +packages -toolbar
# +cindent +insert_expand +path_extra +user_commands
# -clientserver +job -perl +vertsplit
# -clipboard +jumplist +persistent_undo +virtualedit
# +cmdline_compl +keymap +postscript +visual
# +cmdline_hist +lambda +printer +visualextra
# +cmdline_info +langmap +profile +viminfo
# +comments +libcall -python +vreplace
# +conceal +linebreak +python3 +wildignore
# +cryptv +lispindent +quickfix +wildmenu
# +cscope +listcmds +reltime +windows
# +cursorbind +localmap +rightleft +writebackup
# +cursorshape -lua -ruby -X11
# +dialog_con +menu +scrollbind -xfontset
# +diff +mksession +signs -xim
# +digraphs +modify_fname +smartindent -xpm
# -dnd +mouse +startuptime -xsmp
# -ebcdic -mouseshape +statusline -xterm_clipboard
# +emacs_tags +mouse_dec -sun_workshop -xterm_save
# +eval +mouse_gpm +syntax
# +ex_extra -mouse_jsbterm +tag_binary
# +extra_search +mouse_netterm +tag_old_static
# System-vimrc-Datei: "$VIM/vimrc"
# Benutzer-vimrc-Datei: "$HOME/.vimrc"
# zweite Benutzer-vimrc-Datei: "~/.vim/vimrc"
# Benutzer-exrc-Datei: "$HOME/.exrc"
# defaults Datei: "$VIMRUNTIME/defaults.vim"
# Voreinstellung für $VIM: "/usr/share/vim"
# ÃÂbersetzt: gcc -c -I. -Iproto -DHAVE_CONFIG_H -Wdate-time -g -O2 -fdebug-prefix-map=/build/vim-NQEcoP/vim-8.0.1453=. -fstack-protector-strong -Wformat -Werror=format-security -U_FORTIFY_SOURCE -D_FORTIFY_SOURCE=1
# Linken: gcc -Wl,-Bsymbolic-functions -Wl,-z,relro -Wl,-z,now -Wl,--as-needed -o vim -lm -ltinfo -lnsl -lselinux -lacl -lattr -lgpm -ldl -L/usr/lib/python3.6/config-3.6m-x86_64-linux-gnu -lpython3.6m -lpthread -ldl -lutil -lm
#
t/000-vim-version.t .... ok
t/all-syntax-groups.t .. ok
t/ansi.t ............... ok
t/bin.t ................ ok
t/compare-formats.t .... ok
t/encoding.t ........... ok
t/html.t ............... ok
t/input_filename.t ..... ok
t/new.t ................ ok
t/override-options.t ... ok
t/share-dir.t .......... ok
t/tvctestsyn.t ......... ok
t/untie-std-handles.t .. ok
t/vim_let.t ............ ok
t/vim_options.t ........ ok
t/xml.t ................ ok
All tests successful.
Test Summary Report
-------------------
t/encoding.t (Wstat: 0 Tests: 8 Failed: 0)
TODO passed: 5-6
Files=18, Tests=146, 4 wallclock secs ( 0.05 usr 0.09 sys + 2.84 cusr 1.19 csys = 4.17 CPU)
Result: PASS
------------------------------
PREREQUISITES
------------------------------
Prerequisite modules loaded:
requires:
Module Need Have
-------------------------- ----- --------
Carp 0 1.50
constant 0 1.33
File::Copy 0 2.34
File::ShareDir 0 1.116
File::Temp 0 0.2309
Getopt::Long 0 2.5
IO::File 0 1.40
IPC::Open3 0 1.20
Path::Class 0.04 0.37
perl 5.006 5.029010
strict 0 1.11
Symbol 0 1.08
Term::ANSIColor 1.03 4.06
warnings 0 1.44
build_requires:
Module Need Have
-------------------------- ----- --------
Exporter 0 5.73
ExtUtils::MakeMaker 0 7.34
File::Spec 0 3.78
File::Temp 0 0.2309
IO::Handle 0 1.40
IPC::Open3 0 1.20
lib 0 0.65
Path::Class 0.04 0.37
Test::File::ShareDir::Dist 0 1.001002
Test::More 0.88 1.302162
configure_requires:
Module Need Have
-------------------------- ----- --------
ExtUtils::MakeMaker 0 7.34
File::ShareDir::Install 0.06 0.13
File::Temp 0 0.2309
IO::File 0 1.40
IPC::Open3 0 1.20
perl 5.006 5.029010
strict 0 1.11
warnings 0 1.44
------------------------------
ENVIRONMENT AND OTHER CONTEXT
------------------------------
Environment variables:
LANG = en_US.UTF-8
LC_ALL = de_DE.UTF-8
PATH = /usr/local/bin:/usr/bin:/bin:/usr/local/sbin:/usr/sbin:/sbin:/home/cpansand/bin/linux-gnu:/home/cpansand/bin/sh:/home/cpansand/bin:/usr/games:/home/cpansand/devel:/home/eserte/src/srezic-misc/scripts
PERL = /opt/perl-5.29.10/bin/perl5.29.10
PERL5LIB =
PERL5OPT =
PERL5_CPANPLUS_IS_RUNNING = 18099
PERL5_CPAN_IS_RUNNING = 18099
PERL5_CPAN_IS_RUNNING_IN_RECURSION = 10729,18099
PERLDOC = -MPod::Perldoc::ToTextOverstrike
PERL_BATCH = yes
PERL_CANARY_STABILITY_NOPROMPT = 1
PERL_CPAN_REPORTER_CONFIG = /var/tmp/cpansmoker-1023/2019042312/cpanreporter_000_config.ini
PERL_EXTUTILS_AUTOINSTALL = --defaultdeps
PERL_USE_UNSAFE_INC = 1
SHELL = /usr/bin/zsh
TERM = screen
TMPDIR = /var/tmp/cpansmoker-1023/2019042312
Perl special variables (and OS-specific diagnostics, for MSWin32):
$^X = /opt/perl-5.29.10/bin/perl5.29.10
$UID/$EUID = 1023 / 1023
$GID = 1023 1023
$EGID = 1023 1023
Perl module toolchain versions installed:
Module Have
------------------- --------
CPAN 2.22
CPAN::Meta 2.150010
Cwd 3.78
ExtUtils::CBuilder 0.280231
ExtUtils::Command 7.34
ExtUtils::Install 2.14
ExtUtils::MakeMaker 7.34
ExtUtils::Manifest 1.72
ExtUtils::ParseXS 3.40
File::Spec 3.78
JSON 4.02
JSON::PP 4.02
Module::Build 0.4229
Module::Signature n/a
Parse::CPAN::Meta 2.150010
Test::Harness 3.42
Test::More 1.302162
YAML 1.27
YAML::Syck 1.31
version 0.9924
--
Summary of my perl5 (revision 5 version 29 subversion 10) configuration:
Platform:
osname=linux
osvers=4.15.0-47-generic
archname=x86_64-linux
uname='linux ubuntu18 4.15.0-47-generic #50-ubuntu smp wed mar 13 10:44:52 utc 2019 x86_64 x86_64 x86_64 gnulinux '
config_args='-ds -e -Dprefix=/opt/perl-5.29.10 -Dusedevel -Dusemallocwrap=no -Dcf_email=srezic@cpan.org'
hint=recommended
useposix=true
d_sigaction=define
useithreads=undef
usemultiplicity=undef
use64bitint=define
use64bitall=define
uselongdouble=undef
usemymalloc=n
default_inc_excludes_dot=define
bincompat5005=undef
Compiler:
cc='cc'
ccflags ='-fwrapv -fno-strict-aliasing -pipe -fstack-protector-strong -I/usr/local/include -D_LARGEFILE_SOURCE -D_FILE_OFFSET_BITS=64'
optimize='-O2'
cppflags='-fwrapv -fno-strict-aliasing -pipe -fstack-protector-strong -I/usr/local/include'
ccversion=''
gccversion='7.3.0'
gccosandvers=''
intsize=4
longsize=8
ptrsize=8
doublesize=8
byteorder=12345678
doublekind=3
d_longlong=define
longlongsize=8
d_longdbl=define
longdblsize=16
longdblkind=3
ivtype='long'
ivsize=8
nvtype='double'
nvsize=8
Off_t='off_t'
lseeksize=8
alignbytes=8
prototype=define
Linker and Libraries:
ld='cc'
ldflags =' -fstack-protector-strong -L/usr/local/lib'
libpth=/usr/local/lib /usr/lib/gcc/x86_64-linux-gnu/7/include-fixed /usr/include/x86_64-linux-gnu /usr/lib /lib/x86_64-linux-gnu /lib/../lib /usr/lib/x86_64-linux-gnu /usr/lib/../lib /lib
libs=-lpthread -lnsl -lgdbm -ldb -ldl -lm -lcrypt -lutil -lc
perllibs=-lpthread -lnsl -ldl -lm -lcrypt -lutil -lc
libc=libc-2.27.so
so=so
useshrplib=false
libperl=libperl.a
gnulibc_version='2.27'
Dynamic Linking:
dlsrc=dl_dlopen.xs
dlext=so
d_dlsymun=undef
ccdlflags='-Wl,-E'
cccdlflags='-fPIC'
lddlflags='-shared -O2 -L/usr/local/lib -fstack-protector-strong'
Characteristics of this binary (from libperl):
Compile-time options:
HAS_TIMES
PERLIO_LAYERS
PERL_COPY_ON_WRITE
PERL_DONT_CREATE_GVSV
PERL_OP_PARENT
PERL_PRESERVE_IVUV
PERL_USE_DEVEL
USE_64_BIT_ALL
USE_64_BIT_INT
USE_LARGE_FILES
USE_LOCALE
USE_LOCALE_COLLATE
USE_LOCALE_CTYPE
USE_LOCALE_NUMERIC
USE_LOCALE_TIME
USE_PERLIO
USE_PERL_ATOF
Built under linux
Compiled at Apr 21 2019 08:48:22
%ENV:
PERL="/opt/perl-5.29.10/bin/perl5.29.10"
PERL5LIB=""
PERL5OPT=""
PERL5_CPANPLUS_IS_RUNNING="18099"
PERL5_CPAN_IS_RUNNING="18099"
PERL5_CPAN_IS_RUNNING_IN_RECURSION="10729,18099"
PERLDOC="-MPod::Perldoc::ToTextOverstrike"
PERL_BATCH="yes"
PERL_CANARY_STABILITY_NOPROMPT="1"
PERL_CPAN_REPORTER_CONFIG="/var/tmp/cpansmoker-1023/2019042312/cpanreporter_000_config.ini"
PERL_EXTUTILS_AUTOINSTALL="--defaultdeps"
PERL_USE_UNSAFE_INC="1"
@INC:
/opt/perl-5.29.10/lib/site_perl/5.29.10/x86_64-linux
/opt/perl-5.29.10/lib/site_perl/5.29.10
/opt/perl-5.29.10/lib/5.29.10/x86_64-linux
/opt/perl-5.29.10/lib/5.29.10
.