Back
From: metabase:user:e18b858e-6cb1-1014-85fc-dd40bc601cf3
Subject: PASS MozRepl-0.06 v5.16.2 GNU/Linux
Date: 2012-11-08T07:33:13Z
This distribution has been tested as part of the CPAN Testers
project, supporting the Perl programming language. See
http://wiki.cpantesters.org/ for more information or email
questions to cpan-testers-discuss@perl.org
--
Dear Toru Yamaguchi,
This is a computer-generated report for MozRepl-0.06
on perl 5.16.2, created by CPAN-Reporter-1.2006.
Thank you for uploading your work to CPAN. Congratulations!
All tests were successful.
Sections of this report:
* Tester comments
* Program output
* Prerequisites
* Environment and other context
------------------------------
TESTER COMMENTS
------------------------------
Additional comments from tester:
this report is from an automated smoke testing program
and was not reviewed by a human for accuracy
------------------------------
PROGRAM OUTPUT
------------------------------
Output from '/usr/bin/make test':
/home/kovensky/perl5/perlbrew/perls/perl-5.16.1/bin/perl "-Iinc" Makefile.PL --config= --installdeps=Data::JavaScript::Anon,0,Module::Pluggable::Fast,0,Net::Telnet,0,Template,0,Template::Provider::FromDATA,0,Text::SimpleTable,0,UNIVERSAL::require,0
PERL_DL_NONLAZY=1 /home/kovensky/perl5/perlbrew/perls/perl-5.16.1/bin/perl "-MExtUtils::Command::MM" "-e" "test_harness(0, 'inc', 'blib/lib', 'blib/arch')" t/00-load.t t/10-plugin-repl-enter.t t/11-plugin-repl-search.t t/12-plugin-repl-inspect.t t/13-plugin-repl-load.t t/14-plugin-repl-rename.t t/15-plugin-repl-print.t t/16-plugin-repl-home.t t/17-plugin-repl-back.t t/18-plugin-repl-util-help_url_for.t t/19-plugin-repl-util-doc_for.t t/20-plugin-json.t t/pod-coverage.t t/pod.t
# Testing MozRepl 0.06
t/00-load.t ........................... ok
[DEBUG] MozRepl logging enabled
[DEBUG]
---- Client arguments ----
.----------------------+------------------------------------------.
| client_arg_name | client_arg_value |
+----------------------+------------------------------------------+
| host | localhost |
| port | 4242 |
| timeout | 10 |
| extra_client_args | {} |
'----------------------+------------------------------------------'
t/10-plugin-repl-enter.t .............. ok
[DEBUG] MozRepl logging enabled
[DEBUG]
---- Client arguments ----
.----------------------+------------------------------------------.
| client_arg_name | client_arg_value |
+----------------------+------------------------------------------+
| host | localhost |
| port | 4242 |
| timeout | 10 |
| extra_client_args | {} |
'----------------------+------------------------------------------'
t/11-plugin-repl-search.t ............. ok
[DEBUG] MozRepl logging enabled
[DEBUG]
---- Client arguments ----
.----------------------+------------------------------------------.
| client_arg_name | client_arg_value |
+----------------------+------------------------------------------+
| host | localhost |
| port | 4242 |
| timeout | 10 |
| extra_client_args | {} |
'----------------------+------------------------------------------'
t/12-plugin-repl-inspect.t ............ ok
[DEBUG] MozRepl logging enabled
[DEBUG]
---- Client arguments ----
.----------------------+------------------------------------------.
| client_arg_name | client_arg_value |
+----------------------+------------------------------------------+
| host | localhost |
| port | 4242 |
| timeout | 10 |
| extra_client_args | {} |
'----------------------+------------------------------------------'
t/13-plugin-repl-load.t ............... ok
[DEBUG] MozRepl logging enabled
[DEBUG]
---- Client arguments ----
.----------------------+------------------------------------------.
| client_arg_name | client_arg_value |
+----------------------+------------------------------------------+
| host | localhost |
| port | 4242 |
| timeout | 10 |
| extra_client_args | {} |
'----------------------+------------------------------------------'
t/14-plugin-repl-rename.t ............. ok
[DEBUG] MozRepl logging enabled
[DEBUG]
---- Client arguments ----
.----------------------+------------------------------------------.
| client_arg_name | client_arg_value |
+----------------------+------------------------------------------+
| host | localhost |
| port | 4242 |
| timeout | 10 |
| extra_client_args | {} |
'----------------------+------------------------------------------'
t/15-plugin-repl-print.t .............. ok
[DEBUG] MozRepl logging enabled
[DEBUG]
---- Client arguments ----
.----------------------+------------------------------------------.
| client_arg_name | client_arg_value |
+----------------------+------------------------------------------+
| host | localhost |
| port | 4242 |
| timeout | 10 |
| extra_client_args | {} |
'----------------------+------------------------------------------'
t/16-plugin-repl-home.t ............... ok
[DEBUG] MozRepl logging enabled
[DEBUG]
---- Client arguments ----
.----------------------+------------------------------------------.
| client_arg_name | client_arg_value |
+----------------------+------------------------------------------+
| host | localhost |
| port | 4242 |
| timeout | 10 |
| extra_client_args | {} |
'----------------------+------------------------------------------'
t/17-plugin-repl-back.t ............... ok
[DEBUG] MozRepl logging enabled
[DEBUG]
---- Client arguments ----
.----------------------+------------------------------------------.
| client_arg_name | client_arg_value |
+----------------------+------------------------------------------+
| host | localhost |
| port | 4242 |
| timeout | 10 |
| extra_client_args | {} |
'----------------------+------------------------------------------'
t/18-plugin-repl-util-help_url_for.t .. ok
[DEBUG] MozRepl logging enabled
[DEBUG]
---- Client arguments ----
.----------------------+------------------------------------------.
| client_arg_name | client_arg_value |
+----------------------+------------------------------------------+
| host | localhost |
| port | 4242 |
| timeout | 10 |
| extra_client_args | {} |
'----------------------+------------------------------------------'
t/19-plugin-repl-util-doc_for.t ....... ok
[DEBUG] MozRepl logging enabled
[DEBUG]
---- Client arguments ----
.----------------------+------------------------------------------.
| client_arg_name | client_arg_value |
+----------------------+------------------------------------------+
| host | localhost |
| port | 4242 |
| timeout | 10 |
| extra_client_args | {} |
'----------------------+------------------------------------------'
t/20-plugin-json.t .................... ok
t/pod-coverage.t ...................... ok
t/pod.t ............................... ok
All tests successful.
Files=14, Tests=74, 1 wallclock secs ( 0.07 usr 0.01 sys + 0.81 cusr 0.16 csys = 1.05 CPU)
Result: PASS
------------------------------
PREREQUISITES
------------------------------
Prerequisite modules loaded:
requires:
Module Need Have
---------------------------- ---- -------
Carp::Clan 0 6.04
Class::Accessor::Fast 0 0.34
Class::Data::Inheritable 0 0.08
Data::Dump 0 1.21
Data::JavaScript::Anon 0 1.03
File::Spec 0 3.39_02
Module::Pluggable::Fast 0 0.19
Net::Telnet 0 3.03
Template 0 2.24
Template::Provider::FromDATA 0 0.13
Text::SimpleTable 0 2.03
UNIVERSAL::require 0 0.13
URI 0 1.60
build_requires:
Module Need Have
---------------------------- ---- -------
ExtUtils::MakeMaker 0 6.63_02
------------------------------
ENVIRONMENT AND OTHER CONTEXT
------------------------------
Environment variables:
AUTOMATED_TESTING = 1
LANG = en_US.utf8
LC_ALL = en_US.UTF-8
LC_CTYPE = en_US.utf8
PATH = /home/kovensky/perl5/perlbrew/bin:/home/kovensky/perl5/perlbrew/perls/perl-5.16.1/bin:/home/kovensky/perl5/bin:/home/kovensky/bin:/home/kovensky/.rbenv/shims:/home/kovensky/.rbenv/bin:/home/kovensky/perl5/bin:/home/kovensky/bin:/home/kovensky/.rbenv/shims:/home/kovensky/.rbenv/bin:/usr/lib64/ccache:/usr/local/bin:/usr/bin:/bin:/home/kovensky/bin:/usr/local/sbin:/usr/sbin:/home/kovensky/bin
PERL5LIB = /home/kovensky/.local/share/.cpan/build/Net-Telnet-3.03-Ph5MJY/blib/arch:/home/kovensky/.local/share/.cpan/build/Net-Telnet-3.03-Ph5MJY/blib/lib:/home/kovensky/.local/share/.cpan/build/Data-JavaScript-Anon-1.03-DFgeif/blib/arch:/home/kovensky/.local/share/.cpan/build/Data-JavaScript-Anon-1.03-DFgeif/blib/lib:/home/kovensky/.local/share/.cpan/build/Class-Default-1.51-0NOVm_/blib/arch:/home/kovensky/.local/share/.cpan/build/Class-Default-1.51-0NOVm_/blib/lib:/home/kovensky/.local/share/.cpan/build/Text-SimpleTable-2.03-EDq1hE/blib/arch:/home/kovensky/.local/share/.cpan/build/Text-SimpleTable-2.03-EDq1hE/blib/lib:/home/kovensky/.local/share/.cpan/build/Module-Pluggable-Fast-0.19-JzaXH0/blib/arch:/home/kovensky/.local/share/.cpan/build/Module-Pluggable-Fast-0.19-JzaXH0/blib/lib:/home/kovensky/.local/share/.cpan/build/UNIVERSAL-require-0.13-AvzM3m/blib/arch:/home/kovensky/.local/share/.cpan/build/UNIVERSAL-require-0.13-AvzM3m/blib/lib:/home/kovensky/.local/share/.cpan/build/Template-Provider-FromDATA-0.13-TlQgoM/blib/arch:/home/kovensky/.local/share/.cpan/build/Template-Provider-FromDATA-0.13-TlQgoM/blib/lib:/home/kovensky/.local/share/.cpan/build/Template-Toolkit-2.24-IokQYH/blib/arch:/home/kovensky/.local/share/.cpan/build/Template-Toolkit-2.24-IokQYH/blib/lib:/home/kovensky/.local/share/.cpan/build/AppConfig-1.66-p7gEYA/blib/arch:/home/kovensky/.local/share/.cpan/build/AppConfig-1.66-p7gEYA/blib/lib:/home/kovensky/perl5/lib/perl5/x86_64-linux-thread-multi:/home/kovensky/perl5/lib/perl5
PERL5OPT =
PERL5_CPANPLUS_IS_RUNNING = 12670
PERL5_CPAN_IS_RUNNING = 12670
PERL5_CPAN_IS_RUNNING_IN_RECURSION = 9418,12670
PERLBREW_BASHRC_VERSION = 0.54
PERLBREW_HOME = /home/kovensky/.perlbrew
PERLBREW_MANPATH = /home/kovensky/perl5/perlbrew/perls/perl-5.16.1/man
PERLBREW_PATH = /home/kovensky/perl5/perlbrew/bin:/home/kovensky/perl5/perlbrew/perls/perl-5.16.1/bin
PERLBREW_PERL = perl-5.16.1
PERLBREW_ROOT = /home/kovensky/perl5/perlbrew
PERLBREW_VERSION = 0.54
PERL_CR_SMOKER_CURRENT = Task-Mechanistic-Firefox-0.01
PERL_EXTUTILS_AUTOINSTALL = --defaultdeps
PERL_LOCAL_LIB_ROOT = /home/kovensky/perl5
PERL_MB_OPT = --install_base /home/kovensky/perl5
PERL_MM_OPT = INSTALL_BASE=/home/kovensky/perl5
PERL_MM_USE_DEFAULT = 1
SHELL = /bin/zsh
TERM = screen-256color
Perl special variables (and OS-specific diagnostics, for MSWin32):
$^X = /home/kovensky/perl5/perlbrew/perls/perl-5.16.1/bin/perl
$UID/$EUID = 1000 / 1000
$GID = 1000 10 18 1000
$EGID = 1000 10 18 1000
Perl module toolchain versions installed:
Module Have
------------------- --------
CPAN 1.9800
CPAN::Meta 2.120921
Cwd 3.39_02
ExtUtils::CBuilder 0.280206
ExtUtils::Command 1.17
ExtUtils::Install 1.58
ExtUtils::MakeMaker 6.63_02
ExtUtils::Manifest 1.61
ExtUtils::ParseXS 3.16
File::Spec 3.39_02
JSON 2.53
JSON::PP 2.27200
Module::Build 0.4003
Module::Signature 0.69
Parse::CPAN::Meta 1.4404
Test::Harness 3.23
Test::More 0.98
YAML 0.84
YAML::Syck 1.21
version 0.99
--
Summary of my perl5 (revision 5 version 16 subversion 2) configuration:
Platform:
osname=linux, osvers=3.6.3-1.fc17.x86_64, archname=x86_64-linux
uname='linux hisui 3.6.3-1.fc17.x86_64 #1 smp mon oct 22 15:32:35 utc 2012 x86_64 x86_64 x86_64 gnulinux '
config_args='-de -Dprefix=/home/kovensky/perl5/perlbrew/perls/perl-5.16.1 -Aeval:scriptdir=/home/kovensky/perl5/perlbrew/perls/perl-5.16.1/bin'
hint=recommended, useposix=true, d_sigaction=define
useithreads=undef, usemultiplicity=undef
useperlio=define, d_sfio=undef, uselargefiles=define, usesocks=undef
use64bitint=define, use64bitall=define, uselongdouble=undef
usemymalloc=n, bincompat5005=undef
Compiler:
cc='cc', ccflags ='-fno-strict-aliasing -pipe -fstack-protector -I/usr/local/include -D_LARGEFILE_SOURCE -D_FILE_OFFSET_BITS=64',
optimize='-O2',
cppflags='-fno-strict-aliasing -pipe -fstack-protector -I/usr/local/include'
ccversion='', gccversion='4.7.2 20120921 (Red Hat 4.7.2-2)', gccosandvers=''
intsize=4, longsize=8, ptrsize=8, doublesize=8, byteorder=12345678
d_longlong=define, longlongsize=8, d_longdbl=define, longdblsize=16
ivtype='long', ivsize=8, nvtype='double', nvsize=8, Off_t='off_t', lseeksize=8
alignbytes=8, prototype=define
Linker and Libraries:
ld='cc', ldflags =' -fstack-protector -L/usr/local/lib'
libpth=/usr/local/lib /lib/../lib64 /usr/lib/../lib64 /lib /usr/lib /lib64 /usr/lib64 /usr/local/lib64
libs=-lnsl -lgdbm -ldb -ldl -lm -lcrypt -lutil -lc -lgdbm_compat
perllibs=-lnsl -ldl -lm -lcrypt -lutil -lc
libc=/lib/libc-2.15.so, so=so, useshrplib=false, libperl=libperl.a
gnulibc_version='2.15'
Dynamic Linking:
dlsrc=dl_dlopen.xs, dlext=so, d_dlsymun=undef, ccdlflags='-Wl,-E'
cccdlflags='-fPIC', lddlflags='-shared -O2 -L/usr/local/lib -fstack-protector'
Characteristics of this binary (from libperl):
Compile-time options: HAS_TIMES PERLIO_LAYERS PERL_DONT_CREATE_GVSV
PERL_MALLOC_WRAP PERL_PRESERVE_IVUV USE_64_BIT_ALL
USE_64_BIT_INT USE_LARGE_FILES USE_LOCALE
USE_LOCALE_COLLATE USE_LOCALE_CTYPE
USE_LOCALE_NUMERIC USE_PERLIO USE_PERL_ATOF
Built under linux
Compiled at Nov 7 2012 00:15:11
%ENV:
PERL5LIB="/home/kovensky/.local/share/.cpan/build/Net-Telnet-3.03-Ph5MJY/blib/arch:/home/kovensky/.local/share/.cpan/build/Net-Telnet-3.03-Ph5MJY/blib/lib:/home/kovensky/.local/share/.cpan/build/Data-JavaScript-Anon-1.03-DFgeif/blib/arch:/home/kovensky/.local/share/.cpan/build/Data-JavaScript-Anon-1.03-DFgeif/blib/lib:/home/kovensky/.local/share/.cpan/build/Class-Default-1.51-0NOVm_/blib/arch:/home/kovensky/.local/share/.cpan/build/Class-Default-1.51-0NOVm_/blib/lib:/home/kovensky/.local/share/.cpan/build/Text-SimpleTable-2.03-EDq1hE/blib/arch:/home/kovensky/.local/share/.cpan/build/Text-SimpleTable-2.03-EDq1hE/blib/lib:/home/kovensky/.local/share/.cpan/build/Module-Pluggable-Fast-0.19-JzaXH0/blib/arch:/home/kovensky/.local/share/.cpan/build/Module-Pluggable-Fast-0.19-JzaXH0/blib/lib:/home/kovensky/.local/share/.cpan/build/UNIVERSAL-require-0.13-AvzM3m/blib/arch:/home/kovensky/.local/share/.cpan/build/UNIVERSAL-require-0.13-AvzM3m/blib/lib:/home/kovensky/.local/share/.cpan/build/Template-Provider-FromDATA-0.13-TlQgoM/blib/arch:/home/kovensky/.local/share/.cpan/build/Template-Provider-FromDATA-0.13-TlQgoM/blib/lib:/home/kovensky/.local/share/.cpan/build/Template-Toolkit-2.24-IokQYH/blib/arch:/home/kovensky/.local/share/.cpan/build/Template-Toolkit-2.24-IokQYH/blib/lib:/home/kovensky/.local/share/.cpan/build/AppConfig-1.66-p7gEYA/blib/arch:/home/kovensky/.local/share/.cpan/build/AppConfig-1.66-p7gEYA/blib/lib:/home/kovensky/perl5/lib/perl5/x86_64-linux-thread-multi:/home/kovensky/perl5/lib/perl5"
PERL5OPT=""
PERL5_CPANPLUS_IS_RUNNING="12670"
PERL5_CPAN_IS_RUNNING="12670"
PERL5_CPAN_IS_RUNNING_IN_RECURSION="9418,12670"
PERLBREW_BASHRC_VERSION="0.54"
PERLBREW_HOME="/home/kovensky/.perlbrew"
PERLBREW_MANPATH="/home/kovensky/perl5/perlbrew/perls/perl-5.16.1/man"
PERLBREW_PATH="/home/kovensky/perl5/perlbrew/bin:/home/kovensky/perl5/perlbrew/perls/perl-5.16.1/bin"
PERLBREW_PERL="perl-5.16.1"
PERLBREW_ROOT="/home/kovensky/perl5/perlbrew"
PERLBREW_VERSION="0.54"
PERL_CR_SMOKER_CURRENT="Task-Mechanistic-Firefox-0.01"
PERL_EXTUTILS_AUTOINSTALL="--defaultdeps"
PERL_LOCAL_LIB_ROOT="/home/kovensky/perl5"
PERL_MB_OPT="--install_base /home/kovensky/perl5"
PERL_MM_OPT="INSTALL_BASE=/home/kovensky/perl5"
PERL_MM_USE_DEFAULT="1"
@INC:
/home/kovensky/.local/share/.cpan/build/Net-Telnet-3.03-Ph5MJY/blib/arch
/home/kovensky/.local/share/.cpan/build/Net-Telnet-3.03-Ph5MJY/blib/lib
/home/kovensky/.local/share/.cpan/build/Data-JavaScript-Anon-1.03-DFgeif/blib/arch
/home/kovensky/.local/share/.cpan/build/Data-JavaScript-Anon-1.03-DFgeif/blib/lib
/home/kovensky/.local/share/.cpan/build/Class-Default-1.51-0NOVm_/blib/arch
/home/kovensky/.local/share/.cpan/build/Class-Default-1.51-0NOVm_/blib/lib
/home/kovensky/.local/share/.cpan/build/Text-SimpleTable-2.03-EDq1hE/blib/arch
/home/kovensky/.local/share/.cpan/build/Text-SimpleTable-2.03-EDq1hE/blib/lib
/home/kovensky/.local/share/.cpan/build/Module-Pluggable-Fast-0.19-JzaXH0/blib/arch
/home/kovensky/.local/share/.cpan/build/Module-Pluggable-Fast-0.19-JzaXH0/blib/lib
/home/kovensky/.local/share/.cpan/build/UNIVERSAL-require-0.13-AvzM3m/blib/arch
/home/kovensky/.local/share/.cpan/build/UNIVERSAL-require-0.13-AvzM3m/blib/lib
/home/kovensky/.local/share/.cpan/build/Template-Provider-FromDATA-0.13-TlQgoM/blib/arch
/home/kovensky/.local/share/.cpan/build/Template-Provider-FromDATA-0.13-TlQgoM/blib/lib
/home/kovensky/.local/share/.cpan/build/Template-Toolkit-2.24-IokQYH/blib/arch
/home/kovensky/.local/share/.cpan/build/Template-Toolkit-2.24-IokQYH/blib/lib
/home/kovensky/.local/share/.cpan/build/AppConfig-1.66-p7gEYA/blib/arch
/home/kovensky/.local/share/.cpan/build/AppConfig-1.66-p7gEYA/blib/lib
/home/kovensky/perl5/lib/perl5/x86_64-linux-thread-multi
/home/kovensky/perl5/lib/perl5/x86_64-linux
/home/kovensky/perl5/lib/perl5
/home/kovensky/perl5/perlbrew/perls/perl-5.16.1/lib/site_perl/5.16.2/x86_64-linux
/home/kovensky/perl5/perlbrew/perls/perl-5.16.1/lib/site_perl/5.16.2
/home/kovensky/perl5/perlbrew/perls/perl-5.16.1/lib/5.16.2/x86_64-linux
/home/kovensky/perl5/perlbrew/perls/perl-5.16.1/lib/5.16.2
/home/kovensky/perl5/perlbrew/perls/perl-5.16.1/lib/site_perl/5.16.1/x86_64-linux
/home/kovensky/perl5/perlbrew/perls/perl-5.16.1/lib/site_perl/5.16.1
/home/kovensky/perl5/perlbrew/perls/perl-5.16.1/lib/site_perl
.