Report for Lingua-Stem-Patch-0.06

Back
From: metabase:user:314402c4-2aae-11df-837a-5e0a49663a4f
Subject: PASS Lingua-Stem-Patch-0.06 v5.23.8 GNU/Linux
Date: 2016-03-03T18:41:34Z

This distribution has been tested as part of the CPAN Testers
project, supporting the Perl programming language.  See
http://wiki.cpantesters.org/ for more information or email
questions to cpan-testers-discuss@perl.org


--
Dear Nova Patch,

This is a computer-generated report for Lingua-Stem-Patch-0.06
on perl 5.23.8, created by CPAN-Reporter-1.2015.

Thank you for uploading your work to CPAN.  Congratulations!
All tests were successful.

Sections of this report:

    * Tester comments
    * Program output
    * Prerequisites
    * Environment and other context

------------------------------
TESTER COMMENTS
------------------------------

Additional comments from tester:

none provided

------------------------------
PROGRAM OUTPUT
------------------------------

Output from './Build test':

# Lingua::Stem::Patch v0.06, Perl v5.23.8 (/opt/perl-5.23.8/bin/perl5.23.8)
t/00-load.t ........ ok
t/01-stemmer.t ..... ok
t/eo-aggressive.t .. ok
t/eo-roots.t ....... ok
t/eo.t ............. ok
t/io-aggressive.t .. ok
t/io-roots.t ....... ok
t/io.t ............. ok
t/pl.t ............. ok
All tests successful.
Files=9, Tests=886,  8 wallclock secs ( 0.50 usr  0.05 sys +  2.74 cusr  0.20 csys =  3.49 CPU)
Result: PASS

------------------------------
PREREQUISITES
------------------------------

Prerequisite modules loaded:

requires:

    Module            Need     Have    
    ----------------- -------- --------
    Carp              0        1.38    
    Exporter          0        5.72    
    Moo               1.001000 2.000002
    namespace::clean  0        0.26    
    parent            0        0.234   
    perl              v5.8.1   5.023008
    strict            0        1.10    
    utf8              0        1.19    
    warnings          0        1.35    

build_requires:

    Module            Need     Have    
    ----------------- -------- --------
    English           0        1.10    
    open              0        1.10    
    Pod::Man          2.04     4.06    
    String::Dump      0.05     0.09    
    Test::More        0.82     1.001014

configure_requires:

    Module            Need     Have    
    ----------------- -------- --------
    Module::Build     0.4004   0.4216  
    Software::License 0        0.103011


------------------------------
ENVIRONMENT AND OTHER CONTEXT
------------------------------

Environment variables:

    LANG = en_US.UTF-8
    LANGUAGE = en_US:en
    PATH = /usr/local/bin:/usr/bin:/bin:/usr/local/sbin:/usr/sbin:/sbin:/home/cpansand/bin/linux-gnu:/home/cpansand/bin/sh:/home/cpansand/bin:/usr/games:/home/cpansand/devel:/home/eserte/src/srezic-misc/scripts
    PERL5LIB = /home/cpansand/.cpan/build/2016030318/Lingua-Stem-UniNE-0.08-pOIQGJ/blib/arch:/home/cpansand/.cpan/build/2016030318/Lingua-Stem-UniNE-0.08-pOIQGJ/blib/lib:/home/cpansand/.cpan/build/2016030318/String-Dump-0.09-jhvB_X/blib/arch:/home/cpansand/.cpan/build/2016030318/String-Dump-0.09-jhvB_X/blib/lib:/home/cpansand/.cpan/build/2016030318/Getopt-Lucid-1.06-P_unlY/blib/arch:/home/cpansand/.cpan/build/2016030318/Getopt-Lucid-1.06-P_unlY/blib/lib:/home/cpansand/.cpan/build/2016030318/Exception-Class-TryCatch-1.13-twPQed/blib/arch:/home/cpansand/.cpan/build/2016030318/Exception-Class-TryCatch-1.13-twPQed/blib/lib:/home/cpansand/.cpan/build/2016030318/Unicode-CaseFold-1.00-0phjo9/blib/arch:/home/cpansand/.cpan/build/2016030318/Unicode-CaseFold-1.00-0phjo9/blib/lib:/home/cpansand/.cpan/build/2016030318/Lingua-Stem-Snowball-0.952-URiWmZ/blib/arch:/home/cpansand/.cpan/build/2016030318/Lingua-Stem-Snowball-0.952-URiWmZ/blib/lib
    PERL5OPT = 
    PERL5_CPANPLUS_IS_RUNNING = 20097
    PERL5_CPAN_IS_RUNNING = 20097
    PERL5_CPAN_IS_RUNNING_IN_RECURSION = 12159,20097
    PERLDOC = -MPod::Perldoc::ToTextOverstrike
    PERL_BATCH = yes
    PERL_CANARY_STABILITY_NOPROMPT = 1
    PERL_CPAN_REPORTER_CONFIG = /run/user/1023/cpansmoker/2016030318/cpanreporter_002_config.ini
    PERL_EXTUTILS_AUTOINSTALL = --defaultdeps
    SHELL = /bin/zsh
    TERM = screen
    TMPDIR = /run/user/1023/cpansmoker/2016030318

Perl special variables (and OS-specific diagnostics, for MSWin32):

    $^X = /opt/perl-5.23.8/bin/perl5.23.8
    $UID/$EUID = 1023 / 1023
    $GID = 1023 1023
    $EGID = 1023 1023

Perl module toolchain versions installed:

    Module              Have    
    ------------------- --------
    CPAN                2.11    
    CPAN::Meta          2.150005
    Cwd                 3.63    
    ExtUtils::CBuilder  0.280225
    ExtUtils::Command   7.10    
    ExtUtils::Install   2.04    
    ExtUtils::MakeMaker 7.10_01 
    ExtUtils::Manifest  1.70    
    ExtUtils::ParseXS   3.31    
    File::Spec          3.63    
    JSON                2.90    
    JSON::PP            2.27300 
    Module::Build       0.4216  
    Module::Signature   n/a     
    Parse::CPAN::Meta   1.4417  
    Test::Harness       3.36    
    Test::More          1.001014
    YAML                1.15    
    YAML::Syck          1.29    
    version             0.9909  


--

Summary of my perl5 (revision 5 version 23 subversion 8) configuration:
   
  Platform:
    osname=linux, osvers=3.16.0-4-amd64, archname=x86_64-linux
    uname='linux cvrsnica-jessie 3.16.0-4-amd64 #1 smp debian 3.16.7-ckt9-3~deb8u1 (2015-04-24) x86_64 gnulinux '
    config_args='-ds -e -Dprefix=/opt/perl-5.23.8 -Dusedevel -Dusemallocwrap=no -Dcf_email=srezic@cpan.org'
    hint=recommended, useposix=true, d_sigaction=define
    useithreads=undef, usemultiplicity=undef
    use64bitint=define, use64bitall=define, uselongdouble=undef
    usemymalloc=n, bincompat5005=undef
  Compiler:
    cc='cc', ccflags ='-fwrapv -fno-strict-aliasing -pipe -fstack-protector-strong -I/usr/local/include -D_LARGEFILE_SOURCE -D_FILE_OFFSET_BITS=64 -D_FORTIFY_SOURCE=2',
    optimize='-O2',
    cppflags='-fwrapv -fno-strict-aliasing -pipe -fstack-protector-strong -I/usr/local/include'
    ccversion='', gccversion='4.9.2', gccosandvers=''
    intsize=4, longsize=8, ptrsize=8, doublesize=8, byteorder=12345678, doublekind=3
    d_longlong=define, longlongsize=8, d_longdbl=define, longdblsize=16, longdblkind=3
    ivtype='long', ivsize=8, nvtype='double', nvsize=8, Off_t='off_t', lseeksize=8
    alignbytes=8, prototype=define
  Linker and Libraries:
    ld='cc', ldflags =' -fstack-protector-strong -L/usr/local/lib'
    libpth=/usr/local/lib /usr/lib/gcc/x86_64-linux-gnu/4.9/include-fixed /usr/include/x86_64-linux-gnu /usr/lib /lib/x86_64-linux-gnu /lib/../lib /usr/lib/x86_64-linux-gnu /usr/lib/../lib /lib
    libs=-lpthread -lnsl -lgdbm -ldb -ldl -lm -lcrypt -lutil -lc -lgdbm_compat
    perllibs=-lpthread -lnsl -ldl -lm -lcrypt -lutil -lc
    libc=libc-2.19.so, so=so, useshrplib=false, libperl=libperl.a
    gnulibc_version='2.19'
  Dynamic Linking:
    dlsrc=dl_dlopen.xs, dlext=so, d_dlsymun=undef, ccdlflags='-Wl,-E'
    cccdlflags='-fPIC', lddlflags='-shared -O2 -L/usr/local/lib -fstack-protector-strong'


Characteristics of this binary (from libperl): 
  Compile-time options: HAS_TIMES PERLIO_LAYERS PERL_COPY_ON_WRITE
                        PERL_DONT_CREATE_GVSV
                        PERL_HASH_FUNC_ONE_AT_A_TIME_HARD PERL_PRESERVE_IVUV
                        PERL_USE_DEVEL USE_64_BIT_ALL USE_64_BIT_INT
                        USE_LARGE_FILES USE_LOCALE USE_LOCALE_COLLATE
                        USE_LOCALE_CTYPE USE_LOCALE_NUMERIC USE_LOCALE_TIME
                        USE_PERLIO USE_PERL_ATOF
  Built under linux
  Compiled at Feb 21 2016 23:23:12
  %ENV:
    PERL5LIB="/home/cpansand/.cpan/build/2016030318/Lingua-Stem-UniNE-0.08-pOIQGJ/blib/arch:/home/cpansand/.cpan/build/2016030318/Lingua-Stem-UniNE-0.08-pOIQGJ/blib/lib:/home/cpansand/.cpan/build/2016030318/String-Dump-0.09-jhvB_X/blib/arch:/home/cpansand/.cpan/build/2016030318/String-Dump-0.09-jhvB_X/blib/lib:/home/cpansand/.cpan/build/2016030318/Getopt-Lucid-1.06-P_unlY/blib/arch:/home/cpansand/.cpan/build/2016030318/Getopt-Lucid-1.06-P_unlY/blib/lib:/home/cpansand/.cpan/build/2016030318/Exception-Class-TryCatch-1.13-twPQed/blib/arch:/home/cpansand/.cpan/build/2016030318/Exception-Class-TryCatch-1.13-twPQed/blib/lib:/home/cpansand/.cpan/build/2016030318/Unicode-CaseFold-1.00-0phjo9/blib/arch:/home/cpansand/.cpan/build/2016030318/Unicode-CaseFold-1.00-0phjo9/blib/lib:/home/cpansand/.cpan/build/2016030318/Lingua-Stem-Snowball-0.952-URiWmZ/blib/arch:/home/cpansand/.cpan/build/2016030318/Lingua-Stem-Snowball-0.952-URiWmZ/blib/lib"
    PERL5OPT=""
    PERL5_CPANPLUS_IS_RUNNING="20097"
    PERL5_CPAN_IS_RUNNING="20097"
    PERL5_CPAN_IS_RUNNING_IN_RECURSION="12159,20097"
    PERLDOC="-MPod::Perldoc::ToTextOverstrike"
    PERL_BATCH="yes"
    PERL_CANARY_STABILITY_NOPROMPT="1"
    PERL_CPAN_REPORTER_CONFIG="/run/user/1023/cpansmoker/2016030318/cpanreporter_002_config.ini"
    PERL_EXTUTILS_AUTOINSTALL="--defaultdeps"
  @INC:
    /home/cpansand/.cpan/build/2016030318/Lingua-Stem-UniNE-0.08-pOIQGJ/blib/arch
    /home/cpansand/.cpan/build/2016030318/Lingua-Stem-UniNE-0.08-pOIQGJ/blib/lib
    /home/cpansand/.cpan/build/2016030318/String-Dump-0.09-jhvB_X/blib/arch
    /home/cpansand/.cpan/build/2016030318/String-Dump-0.09-jhvB_X/blib/lib
    /home/cpansand/.cpan/build/2016030318/Getopt-Lucid-1.06-P_unlY/blib/arch
    /home/cpansand/.cpan/build/2016030318/Getopt-Lucid-1.06-P_unlY/blib/lib
    /home/cpansand/.cpan/build/2016030318/Exception-Class-TryCatch-1.13-twPQed/blib/arch
    /home/cpansand/.cpan/build/2016030318/Exception-Class-TryCatch-1.13-twPQed/blib/lib
    /home/cpansand/.cpan/build/2016030318/Unicode-CaseFold-1.00-0phjo9/blib/arch
    /home/cpansand/.cpan/build/2016030318/Unicode-CaseFold-1.00-0phjo9/blib/lib
    /home/cpansand/.cpan/build/2016030318/Lingua-Stem-Snowball-0.952-URiWmZ/blib/arch
    /home/cpansand/.cpan/build/2016030318/Lingua-Stem-Snowball-0.952-URiWmZ/blib/lib
    /opt/perl-5.23.8/lib/site_perl/5.23.8/x86_64-linux
    /opt/perl-5.23.8/lib/site_perl/5.23.8
    /opt/perl-5.23.8/lib/5.23.8/x86_64-linux
    /opt/perl-5.23.8/lib/5.23.8
    .