Net-DBus v1.2.0 Perl 5 v5.30.0 i86pc-solaris-multi
- Status
- Pass
- From
- Nigel Horne
- Dist
-
Net-DBus v1.2.0
- Platform
- Perl 5 v5.30.0 i86pc-solaris-multi
- Date
- 2020-12-03 13:43:40
- ID
- 8da75fd6-356d-11eb-b91d-04fc202c5bcc
This distribution has been tested as part of the CPAN Testers
project, supporting the Perl programming language. See
http://wiki.cpantesters.org/ for more information or email
questions to cpan-testers-discuss@perl.org
--
Dear Daniel P. Berrange,
This is a computer-generated report for Net-DBus-1.2.0
on perl 5.30.0, created by CPAN-Reporter-1.2018.
Thank you for uploading your work to CPAN. Congratulations!
All tests were successful.
Sections of this report:
* Tester comments
* Program output
* Prerequisites
* Environment and other context
------------------------------
TESTER COMMENTS
------------------------------
Additional comments from tester:
none provided
------------------------------
PROGRAM OUTPUT
------------------------------
Output from '/usr/bin/make test':
"/export/home/njh/perl5/perlbrew/perls/perl-5.30.0-multi/bin/perl5.30.0" -MExtUtils::Command::MM -e 'cp_nonempty' -- DBus.bs blib/arch/auto/Net/DBus/DBus.bs 644
PERL_DL_NONLAZY=1 "/export/home/njh/perl5/perlbrew/perls/perl-5.30.0-multi/bin/perl5.30.0" "-MExtUtils::Command::MM" "-MTest::Harness" "-e" "undef *Test::Harness::Switches; test_harness(0, 'blib/lib', 'blib/arch')" t/*.t
t/00-constants.t ................ ok
t/05-pod.t ...................... ok
t/10-pod-coverage.t ............. ok
t/12-changes.t .................. ok
t/15-message.t .................. ok
t/20-callback.t ................. ok
t/25-reactor.t .................. ok
t/26-reactor-time-adjusted.t .... ok
t/30-server.t ................... ok
t/40-introspector.t ............. ok
t/42-object-introspect-avahi.t .. ok
t/45-exporter.t ................. ok
t/50-object-introspect.t ........ ok
t/55-method-calls.t ............. ok
t/56-scalar-param-typing.t ...... ok
t/60-object-props.t ............. ok
t/65-object-magic.t ............. ok
t/66-child-objects.t ............ ok
t/67-child-objects.t ............ ok
t/70-errors.t ................... ok
t/75-notifications.t ............ ok
All tests successful.
Files=21, Tests=755, 6 wallclock secs ( 0.11 usr 0.05 sys + 3.86 cusr 0.43 csys = 4.45 CPU)
Result: PASS
------------------------------
PREREQUISITES
------------------------------
Prerequisite modules loaded:
requires:
Module Need Have
------------------- ---- --------
Test::CPAN::Changes 0 0.400002
Test::More 0 1.302162
Test::Pod 0 1.52
Test::Pod::Coverage 0 1.10
Time::HiRes 0 1.9760
XML::Twig 0 3.52
build_requires:
Module Need Have
------------------- ---- --------
ExtUtils::MakeMaker 0 7.52
------------------------------
ENVIRONMENT AND OTHER CONTEXT
------------------------------
Environment variables:
LANG = C
NONINTERACTIVE_TESTING = 1
PATH = /export/home/njh/perl5/perlbrew/bin:/export/home/njh/perl5/perlbrew/perls/perl-5.30.0-multi/bin:/export/home/njh/perl5/perlbrew/bin:/usr/bin:/usr/sbin:/sbin:/usr/gnu/bin
PERL5LIB =
PERL5OPT =
PERL5_CPANPLUS_IS_RUNNING = 2552
PERL5_CPAN_IS_RUNNING = 2552
PERLBREW_HOME = /export/home/njh/.perlbrew
PERLBREW_LIB =
PERLBREW_MANPATH = /export/home/njh/perl5/perlbrew/perls/perl-5.30.0-multi/man
PERLBREW_PATH = /export/home/njh/perl5/perlbrew/bin:/export/home/njh/perl5/perlbrew/perls/perl-5.30.0-multi/bin
PERLBREW_PERL = perl-5.30.0-multi
PERLBREW_ROOT = /export/home/njh/perl5/perlbrew
PERLBREW_SHELLRC_VERSION = 0.88
PERLBREW_VERSION = 0.88
PERL_LOCAL_LIB_ROOT =
PERL_MM_USE_DEFAULT = 1
PERL_USE_UNSAFE_INC = 1
SHELL = /bin/bash
TERM = dumb
TMPDIR = /var/tmp
Perl special variables (and OS-specific diagnostics, for MSWin32):
$^X = /export/home/njh/perl5/perlbrew/perls/perl-5.30.0-multi/bin/perl5.30.0
$UID/$EUID = 101 / 101
$GID = 10 10
$EGID = 10 10
Perl module toolchain versions installed:
Module Have
------------------- --------
CPAN 2.28
CPAN::Meta 2.150010
Cwd 3.78
ExtUtils::CBuilder 0.280231
ExtUtils::Command 7.52
ExtUtils::Install 2.14
ExtUtils::MakeMaker 7.52
ExtUtils::Manifest 1.72
ExtUtils::ParseXS 3.40
File::Spec 3.78
JSON 4.02
JSON::PP 4.02
Module::Build 0.4231
Module::Signature n/a
Parse::CPAN::Meta 2.150010
Test::Harness 3.42
Test::More 1.302162
YAML 1.30
YAML::Syck 1.32
version 0.9924
--
Summary of my perl5 (revision 5 version 30 subversion 0) configuration:
Platform:
osname=solaris
osvers=2.11
archname=i86pc-solaris-multi
uname='sunos vultr1.bandsman.co.uk 5.11 illumos-7d1eae8c55 i86pc i386 i86pc '
config_args='-de -Dprefix=/export/home/njh/perl5/perlbrew/perls/perl-5.30.0-multi -Dusedevel -Dusemultiplicity -Accflags= -Aeval:scriptdir=/export/home/njh/perl5/perlbrew/perls/perl-5.30.0-multi/bin'
hint=recommended
useposix=true
d_sigaction=define
useithreads=undef
usemultiplicity=define
use64bitint=undef
use64bitall=undef
uselongdouble=undef
usemymalloc=n
default_inc_excludes_dot=define
bincompat5005=undef
Compiler:
cc='/opt/SUNWspro/bin/cc'
ccflags ='-I/usr/gnu/include -D_LARGEFILE_SOURCE -D_FILE_OFFSET_BITS=64 -DPERL_USE_SAFE_PUTENV'
optimize='-O'
cppflags='-I/usr/gnu/include'
ccversion='Sun C 5.10 SunOS_i386 2009/06/03'
gccversion=''
gccosandvers=''
intsize=4
longsize=4
ptrsize=4
doublesize=8
byteorder=1234
doublekind=3
d_longlong=define
longlongsize=8
d_longdbl=define
longdblsize=12
longdblkind=3
ivtype='long'
ivsize=4
nvtype='double'
nvsize=8
Off_t='off_t'
lseeksize=8
alignbytes=4
prototype=define
Linker and Libraries:
ld='/opt/SUNWspro/bin/cc'
ldflags =' -L/usr/lib -L/usr/ccs/lib -L/opt/sunstudio12.1/prod/lib -L/lib -L/usr/gnu/lib '
libpth=/usr/lib /usr/ccs/lib /opt/sunstudio12.1/prod/lib /lib /usr/gnu/lib
libs=-lpthread -lsocket -lnsl -lgdbm -ldb -ldl -lm -lc
perllibs=-lpthread -lsocket -lnsl -ldl -lm -lc
libc=/lib/libc.so
so=so
useshrplib=true
libperl=libperl.so
gnulibc_version=''
Dynamic Linking:
dlsrc=dl_dlopen.xs
dlext=so
d_dlsymun=undef
ccdlflags=' -R /export/home/njh/perl5/perlbrew/perls/perl-5.30.0-multi/lib/5.30.0/i86pc-solaris-multi/CORE'
cccdlflags='-KPIC'
lddlflags='-G -L/usr/lib -L/usr/ccs/lib -L/opt/sunstudio12.1/prod/lib -L/lib -L/usr/gnu/lib'
Characteristics of this binary (from libperl):
Compile-time options:
HAS_TIMES
MULTIPLICITY
PERLIO_LAYERS
PERL_COPY_ON_WRITE
PERL_DONT_CREATE_GVSV
PERL_IMPLICIT_CONTEXT
PERL_MALLOC_WRAP
PERL_OP_PARENT
PERL_PRESERVE_IVUV
PERL_USE_DEVEL
PERL_USE_SAFE_PUTENV
USE_LARGE_FILES
USE_LOCALE
USE_LOCALE_COLLATE
USE_LOCALE_CTYPE
USE_LOCALE_NUMERIC
USE_LOCALE_TIME
USE_PERLIO
USE_PERL_ATOF
Locally applied patches:
Devel::PatchPerl 1.52
Built under solaris
Compiled at Oct 10 2020 05:34:14
%ENV:
PERL5LIB=""
PERL5OPT=""
PERL5_CPANPLUS_IS_RUNNING="2552"
PERL5_CPAN_IS_RUNNING="2552"
PERLBREW_HOME="/export/home/njh/.perlbrew"
PERLBREW_LIB=""
PERLBREW_MANPATH="/export/home/njh/perl5/perlbrew/perls/perl-5.30.0-multi/man"
PERLBREW_PATH="/export/home/njh/perl5/perlbrew/bin:/export/home/njh/perl5/perlbrew/perls/perl-5.30.0-multi/bin"
PERLBREW_PERL="perl-5.30.0-multi"
PERLBREW_ROOT="/export/home/njh/perl5/perlbrew"
PERLBREW_SHELLRC_VERSION="0.88"
PERLBREW_VERSION="0.88"
PERL_LOCAL_LIB_ROOT=""
PERL_MM_USE_DEFAULT="1"
PERL_USE_UNSAFE_INC="1"
@INC:
/export/home/njh/perl5/perlbrew/perls/perl-5.30.0-multi/lib/site_perl/5.30.0/i86pc-solaris-multi
/export/home/njh/perl5/perlbrew/perls/perl-5.30.0-multi/lib/site_perl/5.30.0
/export/home/njh/perl5/perlbrew/perls/perl-5.30.0-multi/lib/5.30.0/i86pc-solaris-multi
/export/home/njh/perl5/perlbrew/perls/perl-5.30.0-multi/lib/5.30.0
.