SQL-Statement v1.414 Perl 5 v5.34.1 aix

Status
Pass
From
David Cantrell (DCANTRELL)
Dist
SQL-Statement v1.414
Platform
Perl 5 v5.34.1 aix
Date
2022-05-23 13:30:46
ID
8da16efc-da9c-11ec-8d28-865f370a30a9
This distribution has been tested as part of the CPAN Testers
project, supporting the Perl programming language.  See
http://wiki.cpantesters.org/ for more information or email
questions to cpan-testers-discuss@perl.org


--
Dear Jens Rehsack,

This is a computer-generated report for SQL-Statement-1.414
on perl 5.34.1, created by CPAN-Reporter-1.2018.

Thank you for uploading your work to CPAN.  Congratulations!
All tests were successful.

Sections of this report:

    * Tester comments
    * Program output
    * Prerequisites
    * Environment and other context

------------------------------
TESTER COMMENTS
------------------------------

Additional comments from tester:

this report is from an automated smoke testing program
and was not reviewed by a human for accuracy

------------------------------
PROGRAM OUTPUT
------------------------------

Output from '/usr/bin/make test':

	PERL_DL_NONLAZY=1 "/perl/usr/david/cpantesting/perl-5.34.1/bin/perl" "-MExtUtils::Command::MM" "-MTest::Harness" "-e" "undef *Test::Harness::Switches; test_harness(0, 'blib/lib', 'blib/arch')" t/*.t xt/*.t
# # Using required:
# #   SQL::Statement: 1.414
# # Using recommended:
# #   DBD::DBM: 0.08
# #   DBD::File: 0.44
# #   DBI: 1.643
t/00error.t ..... ok
t/01prepare.t ... ok
t/02execute.t ... ok
t/03import.t .... ok
t/04idents.t .... ok
t/05simple.t .... ok
t/06virtual.t ... ok
t/08join.t ...... ok
t/09ops.t ....... ok
t/10limit.t ..... ok
t/12eval.t ...... ok
t/14parse.t ..... ok
t/15parse.t ..... ok
t/16parse.t ..... ok
t/17quoting.t ... ok
t/23dialects.t .. ok
t/99backtick.t .. ok
All tests successful.

Test Summary Report
-------------------
t/01prepare.t (Wstat: 0 Tests: 846 Failed: 0)
  TODO passed:   264, 546, 828
t/06virtual.t (Wstat: 0 Tests: 656 Failed: 0)
  TODO passed:   565-567
t/08join.t    (Wstat: 0 Tests: 643 Failed: 0)
  TODO passed:   289-291, 293-295, 312-321, 610-612, 614-616
                633-642
Files=17, Tests=3044, 29 wallclock secs ( 0.47 usr  0.02 sys +  9.48 cusr  0.80 csys = 10.77 CPU)
Result: PASS

------------------------------
PREREQUISITES
------------------------------

Prerequisite modules loaded:

requires:

    Module              Need  Have    
    ------------------- ----- --------
    Carp                0     1.52    
    Clone               0.30  0.45    
    Data::Dumper        0     2.183   
    Module::Runtime     0     0.016   
    Params::Util        1.00  1.102   
    perl                5.008 5.034001
    Scalar::Util        1.0   1.62    
    Text::Balanced      0     2.04    

build_requires:

    Module              Need  Have    
    ------------------- ----- --------
    Math::Base::Convert 0     0.11    
    Math::Complex       1.56  1.5902  
    Test::Deep          0     1.130   
    Test::More          0.90  1.302183
    Text::Soundex       3.04  3.05    

configure_requires:

    Module              Need  Have    
    ------------------- ----- --------
    ExtUtils::MakeMaker 0     7.62    

opt_requires:

    Module              Need  Have    
    ------------------- ----- --------
    Math::Base::Convert 0     0.11    
    Math::Complex       1.56  1.5902  
    Text::Soundex       3.04  3.05    


------------------------------
ENVIRONMENT AND OTHER CONTEXT
------------------------------

Environment variables:

    AUTOMATED_TESTING = 1
    LANG = en_US
    LC__FASTMSG = true
    NONINTERACTIVE_TESTING = 1
    PATH = /usr/bin:/etc:/usr/sbin:/pro/local/bin:/pro/bin:/usr/local/bin:/usr/vac/bin:/usr/local/sbin:/usr/ucb:/usr/bin/X11:/sbin:/usr/java14/jre/bin:/usr/java14/bin
    PERL = 5.34.1
    PERL5LIB = 
    PERL5OPT = 
    PERL5_CPANPLUS_IS_RUNNING = 639078
    PERL5_CPAN_IS_RUNNING = 639078
    PERLVER = 5.34.1
    PERL_INLINE_DIRECTORY = /perl/usr/david/.Inline-5.34.1
    PERL_MM_USE_DEFAULT = 1
    PERL_USE_UNSAFE_INC = 0
    SHELL = /pro/local/bin/bash
    TERM = vt100

Perl special variables (and OS-specific diagnostics, for MSWin32):

    $^X = /perl/usr/david/cpantesting/perl-5.34.1/bin/perl
    $UID/$EUID = 5022 / 5022
    $GID = 500 500
    $EGID = 500 500

Perl module toolchain versions installed:

    Module              Have    
    ------------------- --------
    CPAN                2.34    
    CPAN::Meta          2.150010
    Cwd                 3.80    
    ExtUtils::CBuilder  0.280236
    ExtUtils::Command   7.62    
    ExtUtils::Install   2.20    
    ExtUtils::MakeMaker 7.62    
    ExtUtils::Manifest  1.73    
    ExtUtils::ParseXS   3.43    
    File::Spec          3.80    
    JSON                4.06    
    JSON::PP            4.09    
    Module::Build       0.4231  
    Module::Signature   n/a     
    Parse::CPAN::Meta   2.150010
    Test::Harness       3.43    
    Test::More          1.302183
    YAML                1.30    
    YAML::Syck          n/a     
    version             0.9928  


--

Summary of my perl5 (revision 5 version 34 subversion 1) configuration:
   
  Platform:
    osname=aix
    osvers=5.3.0.0
    archname=aix
    uname='aix i3 3 5 0004898ad300 '
    config_args='-de -Dprefix=/perl/usr/david/cpantesting/perl-5.34.1'
    hint=recommended
    useposix=true
    d_sigaction=define
    useithreads=undef
    usemultiplicity=undef
    use64bitint=undef
    use64bitall=undef
    uselongdouble=undef
    usemymalloc=n
    default_inc_excludes_dot=define
  Compiler:
    cc='cc -q32'
    ccflags ='-D_ALL_SOURCE -D_ANSI_C_SOURCE -D_POSIX_SOURCE -qmaxmem=-1 -qnoansialias -qlanglvl=extc99 -DUSE_NATIVE_DLOPEN -I/usr/local/include -q32 -D_LARGE_FILES'
    optimize='-O'
    cppflags='-D_ALL_SOURCE -D_ANSI_C_SOURCE -D_POSIX_SOURCE -DUSE_NATIVE_DLOPEN -I/usr/local/include'
    ccversion='12.1.0.12'
    gccversion=''
    gccosandvers=''
    intsize=4
    longsize=4
    ptrsize=4
    doublesize=8
    byteorder=4321
    doublekind=4
    d_longlong=define
    longlongsize=8
    d_longdbl=define
    longdblsize=8
    longdblkind=0
    ivtype='long'
    ivsize=4
    nvtype='double'
    nvsize=8
    Off_t='off_t'
    lseeksize=8
    alignbytes=8
    prototype=define
  Linker and Libraries:
    ld='ld'
    ldflags =' -brtl -bdynamic -L/usr/local/lib -b32 -bmaxdata:0x80000000'
    libpth=/usr/local/lib /lib /usr/lib /usr/ccs/lib /usr/lib64
    libs=-lpthread -lbind -lnsl -ldbm -ldl -lld -lm -lcrypt -lc
    perllibs=-lpthread -lbind -lnsl -ldl -lld -lm -lcrypt -lc
    libc=/lib/libc.a
    so=a
    useshrplib=false
    libperl=libperl.a
    gnulibc_version=''
  Dynamic Linking:
    dlsrc=dl_aix.xs
    dlext=so
    d_dlsymun=undef
    ccdlflags='  -bE:/perl/usr/david/cpantesting/perl-5.34.1/lib/5.34.1/aix/CORE/perl.exp'
    cccdlflags=' '
    lddlflags=' -bhalt:4 -G -bI:$(PERL_INC)/perl.exp -bE:$(BASEEXT).exp -bnoentry -lc -lm -L/usr/local/lib'


Characteristics of this binary (from libperl): 
  Compile-time options:
    HAS_TIMES
    PERLIO_LAYERS
    PERL_COPY_ON_WRITE
    PERL_DONT_CREATE_GVSV
    PERL_MALLOC_WRAP
    PERL_OP_PARENT
    PERL_PRESERVE_IVUV
    USE_LARGE_FILES
    USE_LOCALE
    USE_LOCALE_COLLATE
    USE_LOCALE_CTYPE
    USE_LOCALE_NUMERIC
    USE_LOCALE_TIME
    USE_PERLIO
    USE_PERL_ATOF
  Built under aix
  Compiled at May 20 2022 17:57:12
  %ENV:
    PERL="5.34.1"
    PERL5LIB=""
    PERL5OPT=""
    PERL5_CPANPLUS_IS_RUNNING="639078"
    PERL5_CPAN_IS_RUNNING="639078"
    PERLVER="5.34.1"
    PERL_INLINE_DIRECTORY="/perl/usr/david/.Inline-5.34.1"
    PERL_MM_USE_DEFAULT="1"
    PERL_USE_UNSAFE_INC="0"
  @INC:
    /perl/usr/david/cpantesting/perl-5.34.1/lib/site_perl/5.34.1/aix
    /perl/usr/david/cpantesting/perl-5.34.1/lib/site_perl/5.34.1
    /perl/usr/david/cpantesting/perl-5.34.1/lib/5.34.1/aix
    /perl/usr/david/cpantesting/perl-5.34.1/lib/5.34.1