MaxMind-DB-Reader v1.000014 Perl 5 v5.34.0 x86_64-linux
- Status
- Pass
- From
- Michele Beltrame
- Dist
-
MaxMind-DB-Reader v1.000014
- Platform
- Perl 5 v5.34.0 x86_64-linux
- Date
- 2021-08-11 00:32:05
- ID
- 8d97c93e-fa3b-11eb-bbe5-1a699d1540ee
This distribution has been tested as part of the CPAN Testers
project, supporting the Perl programming language. See
http://wiki.cpantesters.org/ for more information or email
questions to cpan-testers-discuss@perl.org
--
Dear MaxMind, Inc.,
This is a computer-generated report for MaxMind-DB-Reader-1.000014
on perl 5.34.0, created by CPAN-Reporter-1.2018.
Thank you for uploading your work to CPAN. Congratulations!
All tests were successful.
Sections of this report:
* Tester comments
* Program output
* Prerequisites
* Environment and other context
------------------------------
TESTER COMMENTS
------------------------------
Additional comments from tester:
none provided
------------------------------
PROGRAM OUTPUT
------------------------------
Output from '/usr/bin/make test':
PERL_DL_NONLAZY=1 "/usr/local/perlbrew/perl5/perls/perl-5.34.0/bin/perl" "-MExtUtils::Command::MM" "-MTest::Harness" "-e" "undef *Test::Harness::Switches; test_harness(0, 'blib/lib', 'blib/arch')" t/*.t t/MaxMind/DB/*.t t/MaxMind/DB/Reader/*.t t/MaxMind/DB/Reader/Decoder-types/*.t
#
# Versions for all modules listed in MYMETA.json (including optional ones):
#
# === Configure Requires ===
#
# Module Want Have
# ------------------- ---- ----
# ExtUtils::MakeMaker any 7.62
#
# === Build Requires ===
#
# Module Want Have
# ------------------- ---- ----
# ExtUtils::MakeMaker any 7.62
#
# === Test Requires ===
#
# Module Want Have
# ------------------------------- ---- --------
# Exporter any 5.76
# ExtUtils::MakeMaker any 7.62
# File::Spec any 3.80
# Path::Class 0.27 0.37
# Scalar::Util 1.42 1.56
# Test::Bits any 0.02
# Test::Fatal any 0.016
# Test::MaxMind::DB::Common::Data any 0.040001
# Test::MaxMind::DB::Common::Util any 0.040001
# Test::More 0.96 1.302183
# Test::Number::Delta any 1.06
# Test::Requires any 0.11
# lib any 0.65
# utf8 any 1.24
#
# === Test Recommends ===
#
# Module Want Have
# ---------- -------- --------
# CPAN::Meta 2.120900 2.150010
#
# === Runtime Requires ===
#
# Module Want Have
# ------------------------- -------- --------
# Carp any 1.52
# Data::IEEE754 any 0.02
# Data::Printer any 1.000004
# Data::Validate::IP 0.25 0.30
# DateTime any 1.54
# Encode any 3.08
# Getopt::Long any 2.52
# List::AllUtils any 0.19
# Math::BigInt any 1.999823
# MaxMind::DB::Common 0.040001 0.040001
# MaxMind::DB::Metadata any 0.040001
# MaxMind::DB::Role::Debugs any 0.040001
# MaxMind::DB::Types any 0.040001
# Module::Implementation any 0.09
# Moo 1.003000 2.005004
# Moo::Role any 2.005004
# MooX::StrictConstructor any 0.011
# Role::Tiny 1.003002 2.002004
# Socket 1.87 2.031
# autodie any 2.34
# bytes any 1.08
# constant any 1.33
# namespace::autoclean any 0.29
# strict any 1.12
# warnings any 1.51
#
# === Runtime Suggests ===
#
# Module Want Have
# ----------------------- -------- -------
# MaxMind::DB::Reader::XS 1.000003 missing
#
t/00-report-prereqs.t ............................. ok
t/MaxMind/DB/Reader-broken-databases.t ............ ok
t/MaxMind/DB/Reader-decoder.t ..................... skipped: Test requires module 'Math::Int128' but it's not found
t/MaxMind/DB/Reader-no-ipv4-search-tree.t ......... ok
t/MaxMind/DB/Reader.t ............................. ok
t/MaxMind/DB/Reader/Decoder-maps-with-pointers.t .. ok
t/MaxMind/DB/Reader/Decoder-types/array.t ......... ok
t/MaxMind/DB/Reader/Decoder-types/boolean.t ....... ok
t/MaxMind/DB/Reader/Decoder-types/bytes.t ......... ok
t/MaxMind/DB/Reader/Decoder-types/container.t ..... ok
t/MaxMind/DB/Reader/Decoder-types/double.t ........ ok
t/MaxMind/DB/Reader/Decoder-types/end_marker.t .... ok
t/MaxMind/DB/Reader/Decoder-types/float.t ......... ok
t/MaxMind/DB/Reader/Decoder-types/int32.t ......... ok
t/MaxMind/DB/Reader/Decoder-types/map.t ........... ok
t/MaxMind/DB/Reader/Decoder-types/pointer.t ....... ok
t/MaxMind/DB/Reader/Decoder-types/uint128.t ....... ok
t/MaxMind/DB/Reader/Decoder-types/uint16.t ........ ok
t/MaxMind/DB/Reader/Decoder-types/uint32.t ........ ok
t/MaxMind/DB/Reader/Decoder-types/uint64.t ........ ok
t/MaxMind/DB/Reader/Decoder-types/utf8_string.t ... ok
t/MaxMind/DB/Reader/Decoder.t ..................... ok
t/MaxMind/DB/Reader/NoMoose.t ..................... ok
All tests successful.
Files=23, Tests=459, 8 wallclock secs ( 0.12 usr 0.02 sys + 5.07 cusr 0.51 csys = 5.72 CPU)
Result: PASS
------------------------------
PREREQUISITES
------------------------------
Prerequisite modules loaded:
requires:
Module Need Have
------------------------------- -------- --------
autodie 0 2.34
bytes 0 1.08
Carp 0 1.52
constant 0 1.33
Data::IEEE754 0 0.02
Data::Printer 0 1.000004
Data::Validate::IP 0.25 0.30
DateTime 0 1.54
Encode 0 3.08
Getopt::Long 0 2.52
List::AllUtils 0 0.19
Math::BigInt 0 1.999823
MaxMind::DB::Common 0.040001 0.040001
MaxMind::DB::Metadata 0 0.040001
MaxMind::DB::Role::Debugs 0 0.040001
MaxMind::DB::Types 0 0.040001
Module::Implementation 0 0.09
Moo 1.003000 2.005004
Moo::Role 0 2.005004
MooX::StrictConstructor 0 0.011
namespace::autoclean 0 0.29
perl 5.010000 5.034000
Role::Tiny 1.003002 2.002004
Socket 1.87 2.031
strict 0 1.12
warnings 0 1.51
build_requires:
Module Need Have
------------------------------- -------- --------
Exporter 0 5.76
ExtUtils::MakeMaker 0 7.62
File::Spec 0 3.80
lib 0 0.65
Path::Class 0.27 0.37
Scalar::Util 1.42 1.56
Test::Bits 0 0.02
Test::Fatal 0 0.016
Test::MaxMind::DB::Common::Data 0 0.040001
Test::MaxMind::DB::Common::Util 0 0.040001
Test::More 0.96 1.302183
Test::Number::Delta 0 1.06
Test::Requires 0 0.11
utf8 0 1.24
configure_requires:
Module Need Have
------------------------------- -------- --------
ExtUtils::MakeMaker 0 7.62
opt_build_requires:
Module Need Have
------------------------------- -------- --------
CPAN::Meta 2.120900 2.150010
------------------------------
ENVIRONMENT AND OTHER CONTEXT
------------------------------
Environment variables:
LANG = it_IT.utf8
NONINTERACTIVE_TESTING = 1
PATH = /usr/local/perlbrew/perl5/bin:/usr/local/perlbrew/perl5/perls/perl-5.34.0/bin:/usr/local/sbin:/usr/local/bin:/usr/sbin:/usr/bin:/sbin:/bin:/opt/bin:/usr/lib/llvm/12/bin
PERL5LIB =
PERL5OPT =
PERL5_CPANPLUS_IS_RUNNING = 9729
PERL5_CPAN_IS_RUNNING = 9729
PERLBREW_BASHRC_VERSION = 0.67
PERLBREW_HOME = /root/.perlbrew
PERLBREW_MANPATH = /usr/local/perlbrew/perl5/perls/perl-5.34.0/man
PERLBREW_PATH = /usr/local/perlbrew/perl5/bin:/usr/local/perlbrew/perl5/perls/perl-5.34.0/bin
PERLBREW_PERL = perl-5.34.0
PERLBREW_ROOT = /usr/local/perlbrew/perl5
PERLBREW_VERSION = 0.92
PERL_MM_USE_DEFAULT = 1
PERL_USE_UNSAFE_INC = 1
SHELL = /bin/bash
TERM = xterm-256color
Perl special variables (and OS-specific diagnostics, for MSWin32):
$^X = /usr/local/perlbrew/perl5/perls/perl-5.34.0/bin/perl
$UID/$EUID = 0 / 0
$GID = 0 0 1 2 3 4 6 10 11 20 26 27
$EGID = 0 0 1 2 3 4 6 10 11 20 26 27
Perl module toolchain versions installed:
Module Have
------------------- --------
CPAN 2.28
CPAN::Meta 2.150010
Cwd 3.80
ExtUtils::CBuilder 0.280236
ExtUtils::Command 7.62
ExtUtils::Install 2.20
ExtUtils::MakeMaker 7.62
ExtUtils::Manifest 1.73
ExtUtils::ParseXS 3.43
File::Spec 3.80
JSON 4.03
JSON::PP 4.06
Module::Build 0.4231
Module::Signature 0.87
Parse::CPAN::Meta 2.150010
Test::Harness 3.43
Test::More 1.302183
YAML 1.30
YAML::Syck n/a
version 0.9928
--
Summary of my perl5 (revision 5 version 34 subversion 0) configuration:
Platform:
osname=linux
osvers=5.12.2-x86_64-linode144
archname=x86_64-linux
uname='linux redbaron 5.12.2-x86_64-linode144 #1 smp mon may 10 13:10:23 edt 2021 x86_64 amd epyc 7601 32-core processor authenticamd gnulinux '
config_args='-de -Dprefix=/usr/local/perlbrew/perl5/perls/perl-5.34.0 -Aeval:scriptdir=/usr/local/perlbrew/perl5/perls/perl-5.34.0/bin'
hint=recommended
useposix=true
d_sigaction=define
useithreads=undef
usemultiplicity=undef
use64bitint=define
use64bitall=define
uselongdouble=undef
usemymalloc=n
default_inc_excludes_dot=define
Compiler:
cc='cc'
ccflags ='-fwrapv -fno-strict-aliasing -pipe -fstack-protector-strong -I/usr/local/include -D_LARGEFILE_SOURCE -D_FILE_OFFSET_BITS=64'
optimize='-O2'
cppflags='-fwrapv -fno-strict-aliasing -pipe -fstack-protector-strong -I/usr/local/include'
ccversion=''
gccversion='10.3.0'
gccosandvers=''
intsize=4
longsize=8
ptrsize=8
doublesize=8
byteorder=12345678
doublekind=3
d_longlong=define
longlongsize=8
d_longdbl=define
longdblsize=16
longdblkind=3
ivtype='long'
ivsize=8
nvtype='double'
nvsize=8
Off_t='off_t'
lseeksize=8
alignbytes=8
prototype=define
Linker and Libraries:
ld='cc'
ldflags =' -fstack-protector-strong -L/usr/local/lib'
libpth=/usr/local/lib /usr/lib /lib64 /usr/lib64 /lib /usr/local/lib64
libs=-lpthread -lnsl -lgdbm -ldb -ldl -lm -lcrypt -lutil -lc -lgdbm_compat
perllibs=-lpthread -lnsl -ldl -lm -lcrypt -lutil -lc
libc=libc-2.33.so
so=so
useshrplib=false
libperl=libperl.a
gnulibc_version='2.33'
Dynamic Linking:
dlsrc=dl_dlopen.xs
dlext=so
d_dlsymun=undef
ccdlflags='-Wl,-E'
cccdlflags='-fPIC'
lddlflags='-shared -O2 -L/usr/local/lib -fstack-protector-strong'
Characteristics of this binary (from libperl):
Compile-time options:
HAS_TIMES
PERLIO_LAYERS
PERL_COPY_ON_WRITE
PERL_DONT_CREATE_GVSV
PERL_MALLOC_WRAP
PERL_OP_PARENT
PERL_PRESERVE_IVUV
USE_64_BIT_ALL
USE_64_BIT_INT
USE_LARGE_FILES
USE_LOCALE
USE_LOCALE_COLLATE
USE_LOCALE_CTYPE
USE_LOCALE_NUMERIC
USE_LOCALE_TIME
USE_PERLIO
USE_PERL_ATOF
Built under linux
Compiled at Aug 2 2021 17:18:45
%ENV:
PERL5LIB=""
PERL5OPT=""
PERL5_CPANPLUS_IS_RUNNING="9729"
PERL5_CPAN_IS_RUNNING="9729"
PERLBREW_BASHRC_VERSION="0.67"
PERLBREW_HOME="/root/.perlbrew"
PERLBREW_MANPATH="/usr/local/perlbrew/perl5/perls/perl-5.34.0/man"
PERLBREW_PATH="/usr/local/perlbrew/perl5/bin:/usr/local/perlbrew/perl5/perls/perl-5.34.0/bin"
PERLBREW_PERL="perl-5.34.0"
PERLBREW_ROOT="/usr/local/perlbrew/perl5"
PERLBREW_VERSION="0.92"
PERL_MM_USE_DEFAULT="1"
PERL_USE_UNSAFE_INC="1"
@INC:
/usr/local/perlbrew/perl5/perls/perl-5.34.0/lib/site_perl/5.34.0/x86_64-linux
/usr/local/perlbrew/perl5/perls/perl-5.34.0/lib/site_perl/5.34.0
/usr/local/perlbrew/perl5/perls/perl-5.34.0/lib/5.34.0/x86_64-linux
/usr/local/perlbrew/perl5/perls/perl-5.34.0/lib/5.34.0
.