Report for MooseX-Params-0.010

Back
From: metabase:user:30ae4450-2aae-11df-837a-5e0a49663a4f
Subject: PASS MooseX-Params-0.010 v5.22.1 
Date: 2016-04-20T19:00:12Z

This distribution has been tested as part of the CPAN Testers
project, supporting the Perl programming language.  See
http://wiki.cpantesters.org/ for more information or email
questions to cpan-testers-discuss@perl.org


--
Dear Peter Shangov,

This is a computer-generated report for MooseX-Params-0.010
on perl 5.22.1, created by CPAN-Reporter-1.2017.

Thank you for uploading your work to CPAN.  Congratulations!
All tests were successful.

Sections of this report:

    * Tester comments
    * Program output
    * Prerequisites
    * Environment and other context

------------------------------
TESTER COMMENTS
------------------------------

Additional comments from tester:

this report is from an automated smoke testing program
and was not reviewed by a human for accuracy

------------------------------
PROGRAM OUTPUT
------------------------------

Output from 'C:\STRAWB~1\c\bin\dmake.exe test':

"C:\Strawberry221\perl\bin\perl.exe" "-MExtUtils::Command::MM" "-MTest::Harness" "-e" "undef *Test::Harness::Switches; test_harness(0, 'blib\lib', 'blib\arch')" t/*.t
Smartmatch is experimental at lib/MooseX/Params/Magic/Wizard.pm line 30.
Smartmatch is experimental at lib/MooseX/Params/Magic/Wizard.pm line 64.
given is experimental at lib/MooseX/Params/Util.pm line 302.
when is experimental at lib/MooseX/Params/Util.pm line 304.
when is experimental at lib/MooseX/Params/Util.pm line 305.
when is experimental at lib/MooseX/Params/Util.pm line 306.
when is experimental at lib/MooseX/Params/Util.pm line 307.
given is experimental at lib/MooseX/Params/Util.pm line 316.
when is experimental at lib/MooseX/Params/Util.pm line 318.
given is experimental at lib/MooseX/Params/Util.pm line 302.
when is experimental at lib/MooseX/Params/Util.pm line 304.
when is experimental at lib/MooseX/Params/Util.pm line 305.
when is experimental at lib/MooseX/Params/Util.pm line 306.
when is experimental at lib/MooseX/Params/Util.pm line 307.
given is experimental at lib/MooseX/Params/Util.pm line 316.
when is experimental at lib/MooseX/Params/Util.pm line 318.
Smartmatch is experimental at lib/MooseX/Params/Magic/Wizard.pm line 30.
Smartmatch is experimental at lib/MooseX/Params/Magic/Wizard.pm line 64.
Smartmatch is experimental at lib/MooseX/Params/Magic/Wizard.pm line 30.
Smartmatch is experimental at lib/MooseX/Params/Magic/Wizard.pm line 64.
given is experimental at lib/MooseX/Params/Util.pm line 302.
when is experimental at lib/MooseX/Params/Util.pm line 304.
when is experimental at lib/MooseX/Params/Util.pm line 305.
when is experimental at lib/MooseX/Params/Util.pm line 306.
when is experimental at lib/MooseX/Params/Util.pm line 307.
given is experimental at lib/MooseX/Params/Util.pm line 316.
when is experimental at lib/MooseX/Params/Util.pm line 318.
t/00-compile.t .......... ok
Smartmatch is experimental at C:\STRAWB~1\cpan\build\MooseX-Params-0.010-YSlfyo\blib\lib/MooseX/Params/Magic/Wizard.pm line 30.
Smartmatch is experimental at C:\STRAWB~1\cpan\build\MooseX-Params-0.010-YSlfyo\blib\lib/MooseX/Params/Magic/Wizard.pm line 64.
given is experimental at C:\STRAWB~1\cpan\build\MooseX-Params-0.010-YSlfyo\blib\lib/MooseX/Params/Util.pm line 302.
when is experimental at C:\STRAWB~1\cpan\build\MooseX-Params-0.010-YSlfyo\blib\lib/MooseX/Params/Util.pm line 304.
when is experimental at C:\STRAWB~1\cpan\build\MooseX-Params-0.010-YSlfyo\blib\lib/MooseX/Params/Util.pm line 305.
when is experimental at C:\STRAWB~1\cpan\build\MooseX-Params-0.010-YSlfyo\blib\lib/MooseX/Params/Util.pm line 306.
when is experimental at C:\STRAWB~1\cpan\build\MooseX-Params-0.010-YSlfyo\blib\lib/MooseX/Params/Util.pm line 307.
given is experimental at C:\STRAWB~1\cpan\build\MooseX-Params-0.010-YSlfyo\blib\lib/MooseX/Params/Util.pm line 316.
when is experimental at C:\STRAWB~1\cpan\build\MooseX-Params-0.010-YSlfyo\blib\lib/MooseX/Params/Util.pm line 318.
t/01-parse.t ............ ok
Smartmatch is experimental at C:\STRAWB~1\cpan\build\MooseX-Params-0.010-YSlfyo\blib\lib/MooseX/Params/Magic/Wizard.pm line 30.
Smartmatch is experimental at C:\STRAWB~1\cpan\build\MooseX-Params-0.010-YSlfyo\blib\lib/MooseX/Params/Magic/Wizard.pm line 64.
given is experimental at C:\STRAWB~1\cpan\build\MooseX-Params-0.010-YSlfyo\blib\lib/MooseX/Params/Util.pm line 302.
when is experimental at C:\STRAWB~1\cpan\build\MooseX-Params-0.010-YSlfyo\blib\lib/MooseX/Params/Util.pm line 304.
when is experimental at C:\STRAWB~1\cpan\build\MooseX-Params-0.010-YSlfyo\blib\lib/MooseX/Params/Util.pm line 305.
when is experimental at C:\STRAWB~1\cpan\build\MooseX-Params-0.010-YSlfyo\blib\lib/MooseX/Params/Util.pm line 306.
when is experimental at C:\STRAWB~1\cpan\build\MooseX-Params-0.010-YSlfyo\blib\lib/MooseX/Params/Util.pm line 307.
given is experimental at C:\STRAWB~1\cpan\build\MooseX-Params-0.010-YSlfyo\blib\lib/MooseX/Params/Util.pm line 316.
when is experimental at C:\STRAWB~1\cpan\build\MooseX-Params-0.010-YSlfyo\blib\lib/MooseX/Params/Util.pm line 318.
t/02-params.t ........... ok
Smartmatch is experimental at C:\STRAWB~1\cpan\build\MooseX-Params-0.010-YSlfyo\blib\lib/MooseX/Params/Magic/Wizard.pm line 30.
Smartmatch is experimental at C:\STRAWB~1\cpan\build\MooseX-Params-0.010-YSlfyo\blib\lib/MooseX/Params/Magic/Wizard.pm line 64.
given is experimental at C:\STRAWB~1\cpan\build\MooseX-Params-0.010-YSlfyo\blib\lib/MooseX/Params/Util.pm line 302.
when is experimental at C:\STRAWB~1\cpan\build\MooseX-Params-0.010-YSlfyo\blib\lib/MooseX/Params/Util.pm line 304.
when is experimental at C:\STRAWB~1\cpan\build\MooseX-Params-0.010-YSlfyo\blib\lib/MooseX/Params/Util.pm line 305.
when is experimental at C:\STRAWB~1\cpan\build\MooseX-Params-0.010-YSlfyo\blib\lib/MooseX/Params/Util.pm line 306.
when is experimental at C:\STRAWB~1\cpan\build\MooseX-Params-0.010-YSlfyo\blib\lib/MooseX/Params/Util.pm line 307.
given is experimental at C:\STRAWB~1\cpan\build\MooseX-Params-0.010-YSlfyo\blib\lib/MooseX/Params/Util.pm line 316.
when is experimental at C:\STRAWB~1\cpan\build\MooseX-Params-0.010-YSlfyo\blib\lib/MooseX/Params/Util.pm line 318.
t/03-lazy.t ............. ok
Smartmatch is experimental at C:\STRAWB~1\cpan\build\MooseX-Params-0.010-YSlfyo\blib\lib/MooseX/Params/Magic/Wizard.pm line 30.
Smartmatch is experimental at C:\STRAWB~1\cpan\build\MooseX-Params-0.010-YSlfyo\blib\lib/MooseX/Params/Magic/Wizard.pm line 64.
given is experimental at C:\STRAWB~1\cpan\build\MooseX-Params-0.010-YSlfyo\blib\lib/MooseX/Params/Util.pm line 302.
when is experimental at C:\STRAWB~1\cpan\build\MooseX-Params-0.010-YSlfyo\blib\lib/MooseX/Params/Util.pm line 304.
when is experimental at C:\STRAWB~1\cpan\build\MooseX-Params-0.010-YSlfyo\blib\lib/MooseX/Params/Util.pm line 305.
when is experimental at C:\STRAWB~1\cpan\build\MooseX-Params-0.010-YSlfyo\blib\lib/MooseX/Params/Util.pm line 306.
when is experimental at C:\STRAWB~1\cpan\build\MooseX-Params-0.010-YSlfyo\blib\lib/MooseX/Params/Util.pm line 307.
given is experimental at C:\STRAWB~1\cpan\build\MooseX-Params-0.010-YSlfyo\blib\lib/MooseX/Params/Util.pm line 316.
when is experimental at C:\STRAWB~1\cpan\build\MooseX-Params-0.010-YSlfyo\blib\lib/MooseX/Params/Util.pm line 318.
t/04-named.t ............ ok
Smartmatch is experimental at C:\STRAWB~1\cpan\build\MooseX-Params-0.010-YSlfyo\blib\lib/MooseX/Params/Magic/Wizard.pm line 30.
Smartmatch is experimental at C:\STRAWB~1\cpan\build\MooseX-Params-0.010-YSlfyo\blib\lib/MooseX/Params/Magic/Wizard.pm line 64.
given is experimental at C:\STRAWB~1\cpan\build\MooseX-Params-0.010-YSlfyo\blib\lib/MooseX/Params/Util.pm line 302.
when is experimental at C:\STRAWB~1\cpan\build\MooseX-Params-0.010-YSlfyo\blib\lib/MooseX/Params/Util.pm line 304.
when is experimental at C:\STRAWB~1\cpan\build\MooseX-Params-0.010-YSlfyo\blib\lib/MooseX/Params/Util.pm line 305.
when is experimental at C:\STRAWB~1\cpan\build\MooseX-Params-0.010-YSlfyo\blib\lib/MooseX/Params/Util.pm line 306.
when is experimental at C:\STRAWB~1\cpan\build\MooseX-Params-0.010-YSlfyo\blib\lib/MooseX/Params/Util.pm line 307.
given is experimental at C:\STRAWB~1\cpan\build\MooseX-Params-0.010-YSlfyo\blib\lib/MooseX/Params/Util.pm line 316.
when is experimental at C:\STRAWB~1\cpan\build\MooseX-Params-0.010-YSlfyo\blib\lib/MooseX/Params/Util.pm line 318.
t/05-buildargs.t ........ ok
Smartmatch is experimental at C:\STRAWB~1\cpan\build\MooseX-Params-0.010-YSlfyo\blib\lib/MooseX/Params/Magic/Wizard.pm line 30.
Smartmatch is experimental at C:\STRAWB~1\cpan\build\MooseX-Params-0.010-YSlfyo\blib\lib/MooseX/Params/Magic/Wizard.pm line 64.
given is experimental at C:\STRAWB~1\cpan\build\MooseX-Params-0.010-YSlfyo\blib\lib/MooseX/Params/Util.pm line 302.
when is experimental at C:\STRAWB~1\cpan\build\MooseX-Params-0.010-YSlfyo\blib\lib/MooseX/Params/Util.pm line 304.
when is experimental at C:\STRAWB~1\cpan\build\MooseX-Params-0.010-YSlfyo\blib\lib/MooseX/Params/Util.pm line 305.
when is experimental at C:\STRAWB~1\cpan\build\MooseX-Params-0.010-YSlfyo\blib\lib/MooseX/Params/Util.pm line 306.
when is experimental at C:\STRAWB~1\cpan\build\MooseX-Params-0.010-YSlfyo\blib\lib/MooseX/Params/Util.pm line 307.
given is experimental at C:\STRAWB~1\cpan\build\MooseX-Params-0.010-YSlfyo\blib\lib/MooseX/Params/Util.pm line 316.
when is experimental at C:\STRAWB~1\cpan\build\MooseX-Params-0.010-YSlfyo\blib\lib/MooseX/Params/Util.pm line 318.
t/06-inheritance.t ...... ok
Smartmatch is experimental at C:\STRAWB~1\cpan\build\MooseX-Params-0.010-YSlfyo\blib\lib/MooseX/Params/Magic/Wizard.pm line 30.
Smartmatch is experimental at C:\STRAWB~1\cpan\build\MooseX-Params-0.010-YSlfyo\blib\lib/MooseX/Params/Magic/Wizard.pm line 64.
given is experimental at C:\STRAWB~1\cpan\build\MooseX-Params-0.010-YSlfyo\blib\lib/MooseX/Params/Util.pm line 302.
when is experimental at C:\STRAWB~1\cpan\build\MooseX-Params-0.010-YSlfyo\blib\lib/MooseX/Params/Util.pm line 304.
when is experimental at C:\STRAWB~1\cpan\build\MooseX-Params-0.010-YSlfyo\blib\lib/MooseX/Params/Util.pm line 305.
when is experimental at C:\STRAWB~1\cpan\build\MooseX-Params-0.010-YSlfyo\blib\lib/MooseX/Params/Util.pm line 306.
when is experimental at C:\STRAWB~1\cpan\build\MooseX-Params-0.010-YSlfyo\blib\lib/MooseX/Params/Util.pm line 307.
given is experimental at C:\STRAWB~1\cpan\build\MooseX-Params-0.010-YSlfyo\blib\lib/MooseX/Params/Util.pm line 316.
when is experimental at C:\STRAWB~1\cpan\build\MooseX-Params-0.010-YSlfyo\blib\lib/MooseX/Params/Util.pm line 318.
t/07-procedural.t ....... ok
Smartmatch is experimental at C:\STRAWB~1\cpan\build\MooseX-Params-0.010-YSlfyo\blib\lib/MooseX/Params/Magic/Wizard.pm line 30.
Smartmatch is experimental at C:\STRAWB~1\cpan\build\MooseX-Params-0.010-YSlfyo\blib\lib/MooseX/Params/Magic/Wizard.pm line 64.
given is experimental at C:\STRAWB~1\cpan\build\MooseX-Params-0.010-YSlfyo\blib\lib/MooseX/Params/Util.pm line 302.
when is experimental at C:\STRAWB~1\cpan\build\MooseX-Params-0.010-YSlfyo\blib\lib/MooseX/Params/Util.pm line 304.
when is experimental at C:\STRAWB~1\cpan\build\MooseX-Params-0.010-YSlfyo\blib\lib/MooseX/Params/Util.pm line 305.
when is experimental at C:\STRAWB~1\cpan\build\MooseX-Params-0.010-YSlfyo\blib\lib/MooseX/Params/Util.pm line 306.
when is experimental at C:\STRAWB~1\cpan\build\MooseX-Params-0.010-YSlfyo\blib\lib/MooseX/Params/Util.pm line 307.
given is experimental at C:\STRAWB~1\cpan\build\MooseX-Params-0.010-YSlfyo\blib\lib/MooseX/Params/Util.pm line 316.
when is experimental at C:\STRAWB~1\cpan\build\MooseX-Params-0.010-YSlfyo\blib\lib/MooseX/Params/Util.pm line 318.
t/08-synopsis.t ......... ok
Smartmatch is experimental at C:\STRAWB~1\cpan\build\MooseX-Params-0.010-YSlfyo\blib\lib/MooseX/Params/Magic/Wizard.pm line 30.
Smartmatch is experimental at C:\STRAWB~1\cpan\build\MooseX-Params-0.010-YSlfyo\blib\lib/MooseX/Params/Magic/Wizard.pm line 64.
given is experimental at C:\STRAWB~1\cpan\build\MooseX-Params-0.010-YSlfyo\blib\lib/MooseX/Params/Util.pm line 302.
when is experimental at C:\STRAWB~1\cpan\build\MooseX-Params-0.010-YSlfyo\blib\lib/MooseX/Params/Util.pm line 304.
when is experimental at C:\STRAWB~1\cpan\build\MooseX-Params-0.010-YSlfyo\blib\lib/MooseX/Params/Util.pm line 305.
when is experimental at C:\STRAWB~1\cpan\build\MooseX-Params-0.010-YSlfyo\blib\lib/MooseX/Params/Util.pm line 306.
when is experimental at C:\STRAWB~1\cpan\build\MooseX-Params-0.010-YSlfyo\blib\lib/MooseX/Params/Util.pm line 307.
given is experimental at C:\STRAWB~1\cpan\build\MooseX-Params-0.010-YSlfyo\blib\lib/MooseX/Params/Util.pm line 316.
when is experimental at C:\STRAWB~1\cpan\build\MooseX-Params-0.010-YSlfyo\blib\lib/MooseX/Params/Util.pm line 318.
t/09-anon.t ............. ok
Smartmatch is experimental at C:\STRAWB~1\cpan\build\MooseX-Params-0.010-YSlfyo\blib\lib/MooseX/Params/Magic/Wizard.pm line 30.
Smartmatch is experimental at C:\STRAWB~1\cpan\build\MooseX-Params-0.010-YSlfyo\blib\lib/MooseX/Params/Magic/Wizard.pm line 64.
given is experimental at C:\STRAWB~1\cpan\build\MooseX-Params-0.010-YSlfyo\blib\lib/MooseX/Params/Util.pm line 302.
when is experimental at C:\STRAWB~1\cpan\build\MooseX-Params-0.010-YSlfyo\blib\lib/MooseX/Params/Util.pm line 304.
when is experimental at C:\STRAWB~1\cpan\build\MooseX-Params-0.010-YSlfyo\blib\lib/MooseX/Params/Util.pm line 305.
when is experimental at C:\STRAWB~1\cpan\build\MooseX-Params-0.010-YSlfyo\blib\lib/MooseX/Params/Util.pm line 306.
when is experimental at C:\STRAWB~1\cpan\build\MooseX-Params-0.010-YSlfyo\blib\lib/MooseX/Params/Util.pm line 307.
given is experimental at C:\STRAWB~1\cpan\build\MooseX-Params-0.010-YSlfyo\blib\lib/MooseX/Params/Util.pm line 316.
when is experimental at C:\STRAWB~1\cpan\build\MooseX-Params-0.010-YSlfyo\blib\lib/MooseX/Params/Util.pm line 318.
t/10-returns.t .......... ok
Smartmatch is experimental at C:\STRAWB~1\cpan\build\MooseX-Params-0.010-YSlfyo\blib\lib/MooseX/Params/Magic/Wizard.pm line 30.
Smartmatch is experimental at C:\STRAWB~1\cpan\build\MooseX-Params-0.010-YSlfyo\blib\lib/MooseX/Params/Magic/Wizard.pm line 64.
given is experimental at C:\STRAWB~1\cpan\build\MooseX-Params-0.010-YSlfyo\blib\lib/MooseX/Params/Util.pm line 302.
when is experimental at C:\STRAWB~1\cpan\build\MooseX-Params-0.010-YSlfyo\blib\lib/MooseX/Params/Util.pm line 304.
when is experimental at C:\STRAWB~1\cpan\build\MooseX-Params-0.010-YSlfyo\blib\lib/MooseX/Params/Util.pm line 305.
when is experimental at C:\STRAWB~1\cpan\build\MooseX-Params-0.010-YSlfyo\blib\lib/MooseX/Params/Util.pm line 306.
when is experimental at C:\STRAWB~1\cpan\build\MooseX-Params-0.010-YSlfyo\blib\lib/MooseX/Params/Util.pm line 307.
given is experimental at C:\STRAWB~1\cpan\build\MooseX-Params-0.010-YSlfyo\blib\lib/MooseX/Params/Util.pm line 316.
when is experimental at C:\STRAWB~1\cpan\build\MooseX-Params-0.010-YSlfyo\blib\lib/MooseX/Params/Util.pm line 318.
t/11-returns_scalar.t ... ok
t/12-listables.t ........ ok
Smartmatch is experimental at C:\STRAWB~1\cpan\build\MooseX-Params-0.010-YSlfyo\blib\lib/MooseX/Params/Magic/Wizard.pm line 30.
Smartmatch is experimental at C:\STRAWB~1\cpan\build\MooseX-Params-0.010-YSlfyo\blib\lib/MooseX/Params/Magic/Wizard.pm line 64.
given is experimental at C:\STRAWB~1\cpan\build\MooseX-Params-0.010-YSlfyo\blib\lib/MooseX/Params/Util.pm line 302.
when is experimental at C:\STRAWB~1\cpan\build\MooseX-Params-0.010-YSlfyo\blib\lib/MooseX/Params/Util.pm line 304.
when is experimental at C:\STRAWB~1\cpan\build\MooseX-Params-0.010-YSlfyo\blib\lib/MooseX/Params/Util.pm line 305.
when is experimental at C:\STRAWB~1\cpan\build\MooseX-Params-0.010-YSlfyo\blib\lib/MooseX/Params/Util.pm line 306.
when is experimental at C:\STRAWB~1\cpan\build\MooseX-Params-0.010-YSlfyo\blib\lib/MooseX/Params/Util.pm line 307.
given is experimental at C:\STRAWB~1\cpan\build\MooseX-Params-0.010-YSlfyo\blib\lib/MooseX/Params/Util.pm line 316.
when is experimental at C:\STRAWB~1\cpan\build\MooseX-Params-0.010-YSlfyo\blib\lib/MooseX/Params/Util.pm line 318.
t/13-readonly.t ......... ok
Smartmatch is experimental at C:\STRAWB~1\cpan\build\MooseX-Params-0.010-YSlfyo\blib\lib/MooseX/Params/Magic/Wizard.pm line 30.
Smartmatch is experimental at C:\STRAWB~1\cpan\build\MooseX-Params-0.010-YSlfyo\blib\lib/MooseX/Params/Magic/Wizard.pm line 64.
given is experimental at C:\STRAWB~1\cpan\build\MooseX-Params-0.010-YSlfyo\blib\lib/MooseX/Params/Util.pm line 302.
when is experimental at C:\STRAWB~1\cpan\build\MooseX-Params-0.010-YSlfyo\blib\lib/MooseX/Params/Util.pm line 304.
when is experimental at C:\STRAWB~1\cpan\build\MooseX-Params-0.010-YSlfyo\blib\lib/MooseX/Params/Util.pm line 305.
when is experimental at C:\STRAWB~1\cpan\build\MooseX-Params-0.010-YSlfyo\blib\lib/MooseX/Params/Util.pm line 306.
when is experimental at C:\STRAWB~1\cpan\build\MooseX-Params-0.010-YSlfyo\blib\lib/MooseX/Params/Util.pm line 307.
given is experimental at C:\STRAWB~1\cpan\build\MooseX-Params-0.010-YSlfyo\blib\lib/MooseX/Params/Util.pm line 316.
when is experimental at C:\STRAWB~1\cpan\build\MooseX-Params-0.010-YSlfyo\blib\lib/MooseX/Params/Util.pm line 318.
t/99-bugs.t ............. ok
t/release-eol.t ......... skipped: these tests are for release candidate testing
t/release-no-tabs.t ..... skipped: these tests are for release candidate testing
t/release-pod-syntax.t .. skipped: these tests are for release candidate testing
All tests successful.
Files=18, Tests=102, 31 wallclock secs ( 0.08 usr +  0.16 sys =  0.24 CPU)
Result: PASS

------------------------------
PREREQUISITES
------------------------------

Prerequisite modules loaded:

requires:

    Module                                       Need Have    
    -------------------------------------------- ---- --------
    Attribute::Lexical                           0    0.004   
    B::Hooks::EndOfScope                         0    0.15    
    Carp                                         0    1.38    
    Class::MOP::Class                            0    2.1605  
    List::Util                                   0    1.45    
    Moose                                        1.24 2.1605  
    Moose::Meta::Method                          0    2.1605  
    Moose::Meta::TypeConstraint::Parameterizable 0    2.1605  
    Moose::Util::TypeConstraints                 0    2.1605  
    Package::Stash                               0.18 0.37    
    parent                                       0    0.234   
    Perl6::Caller                                0    0.100   
    Scalar::Readonly                             0    0.03    
    Scalar::Util                                 0    1.45    
    strict                                       0    1.09    
    Sub::Identify                                0    0.12    
    Sub::Mutate                                  0    0.007   
    Text::CSV_XS                                 0    1.23    
    Try::Tiny                                    0    0.24    
    Variable::Magic                              0    0.59    
    warnings                                     0    1.34    

build_requires:

    Module                                       Need Have    
    -------------------------------------------- ---- --------
    base                                         0    2.23    
    Carp::Always                                 0    0.13    
    File::Find                                   0    1.29    
    File::Temp                                   0    0.2304  
    IO::String                                   0    1.08    
    Test::More                                   0    1.001014
    Test::Most                                   0    0.34    

configure_requires:

    Module                                       Need Have    
    -------------------------------------------- ---- --------
    ExtUtils::MakeMaker                          6.30 7.10    


------------------------------
ENVIRONMENT AND OTHER CONTEXT
------------------------------

Environment variables:

    AUTOMATED_TESTING = 1
    COMSPEC = C:\WINDOWS\system32\cmd.exe
    NUMBER_OF_PROCESSORS = 1
    PATH = C:\WINDOWS\system32;C:\WINDOWS;C:\WINDOWS\System32\Wbem;C:\Strawberry221\c\bin;C:\Strawberry221\perl\site\bin;C:\Strawberry221\perl\bin;C:\Git\cmd
    PERL5LIB = C:\STRAWB~1\cpan\build\Attribute-Lexical-0.004-aaMLZ2/blib/arch;C:\STRAWB~1\cpan\build\Attribute-Lexical-0.004-aaMLZ2/blib/lib;C:\STRAWB~1\cpan\build\Scalar-Readonly-0.03-Dh4Fnl/blib/arch;C:\STRAWB~1\cpan\build\Scalar-Readonly-0.03-Dh4Fnl/blib/lib
    PERL5OPT = 
    PERL5_CPANPLUS_IS_RUNNING = 1228
    PERL5_CPAN_IS_RUNNING = 1228
    PERL5_CPAN_IS_RUNNING_IN_RECURSION = 816,1228
    PERL_CR_SMOKER_CURRENT = MooseX-Params-0.010
    PERL_CR_SMOKER_RUNONCE = 1
    PERL_EXTUTILS_AUTOINSTALL = --defaultdeps
    PERL_HASH_SEED = 0x11111111
    PERL_MM_USE_DEFAULT = 1
    PROCESSOR_IDENTIFIER = x86 Family 16 Model 5 Stepping 3, AuthenticAMD
    TEMP = C:\DOCUME~1\c\LOCALS~1\Temp

Perl special variables (and OS-specific diagnostics, for MSWin32):

    $^X = C:\Strawberry221\perl\bin\perl.exe
    $UID/$EUID = 0 / 0
    $GID = 0
    $EGID = 0
    Win32::GetOSName = WinXP/.Net
    Win32::GetOSVersion = Service Pack 3, 5, 1, 2600, 2, 3, 0, 256, 1
    Win32::FsType = NTFS
    Win32::IsAdminUser = 1

Perl module toolchain versions installed:

    Module              Have    
    ------------------- --------
    CPAN                2.11    
    CPAN::Meta          2.150005
    Cwd                 3.62    
    ExtUtils::CBuilder  0.280224
    ExtUtils::Command   7.10    
    ExtUtils::Install   2.04    
    ExtUtils::MakeMaker 7.10    
    ExtUtils::Manifest  1.70    
    ExtUtils::ParseXS   3.30    
    File::Spec          3.62    
    JSON                2.90    
    JSON::PP            2.27300 
    Module::Build       0.4216  
    Module::Signature   0.79    
    Parse::CPAN::Meta   1.4417  
    Test::Harness       3.36    
    Test::More          1.001014
    YAML                1.15    
    YAML::Syck          1.29    
    version             0.9916  


--

Summary of my perl5 (revision 5 version 22 subversion 1) configuration:
   
  Platform:
    osname=MSWin32, osvers=4.0, archname=MSWin32-x86-multi-thread-64int
    uname='Win32 strawberry-perl 5.22.1.4 #1 Sat Mar 26 14:08:02 2016 i386'
    config_args='undef'
    hint=recommended, useposix=true, d_sigaction=undef
    useithreads=define, usemultiplicity=define
    use64bitint=define, use64bitall=undef, uselongdouble=undef
    usemymalloc=n, bincompat5005=undef
  Compiler:
    cc='gcc', ccflags =' -s -O2 -DWIN32  -DPERL_TEXTMODE_SCRIPTS -DPERL_IMPLICIT_CONTEXT -DPERL_IMPLICIT_SYS -fwrapv -fno-strict-aliasing -mms-bitfields',
    optimize='-s -O2',
    cppflags='-DWIN32'
    ccversion='', gccversion='4.9.2', gccosandvers=''
    intsize=4, longsize=4, ptrsize=4, doublesize=8, byteorder=12345678, doublekind=3
    d_longlong=define, longlongsize=8, d_longdbl=define, longdblsize=12, longdblkind=3
    ivtype='long long', ivsize=8, nvtype='double', nvsize=8, Off_t='long long', lseeksize=8
    alignbytes=8, prototype=define
  Linker and Libraries:
    ld='g++', ldflags ='-s -L"C:\STRAWB~1\perl\lib\CORE" -L"C:\STRAWB~1\c\lib"'
    libpth=C:\STRAWB~1\c\lib C:\STRAWB~1\c\i686-w64-mingw32\lib C:\STRAWB~1\c\lib\gcc\i686-w64-mingw32\4.9.2
    libs=-lmoldname -lkernel32 -luser32 -lgdi32 -lwinspool -lcomdlg32 -ladvapi32 -lshell32 -lole32 -loleaut32 -lnetapi32 -luuid -lws2_32 -lmpr -lwinmm -lversion -lodbc32 -lodbccp32 -lcomctl32
    perllibs=-lmoldname -lkernel32 -luser32 -lgdi32 -lwinspool -lcomdlg32 -ladvapi32 -lshell32 -lole32 -loleaut32 -lnetapi32 -luuid -lws2_32 -lmpr -lwinmm -lversion -lodbc32 -lodbccp32 -lcomctl32
    libc=, so=dll, useshrplib=true, libperl=libperl522.a
    gnulibc_version=''
  Dynamic Linking:
    dlsrc=dl_win32.xs, dlext=xs.dll, d_dlsymun=undef, ccdlflags=' '
    cccdlflags=' ', lddlflags='-mdll -s -L"C:\STRAWB~1\perl\lib\CORE" -L"C:\STRAWB~1\c\lib"'


Characteristics of this binary (from libperl): 
  Compile-time options: HAS_TIMES HAVE_INTERP_INTERN MULTIPLICITY
                        PERLIO_LAYERS PERL_DONT_CREATE_GVSV
                        PERL_HASH_FUNC_ONE_AT_A_TIME_HARD
                        PERL_IMPLICIT_CONTEXT PERL_IMPLICIT_SYS
                        PERL_MALLOC_WRAP PERL_NEW_COPY_ON_WRITE
                        PERL_PRESERVE_IVUV USE_64_BIT_INT USE_ITHREADS
                        USE_LARGE_FILES USE_LOCALE USE_LOCALE_COLLATE
                        USE_LOCALE_CTYPE USE_LOCALE_NUMERIC USE_LOCALE_TIME
                        USE_PERLIO USE_PERL_ATOF
  Built under MSWin32
  Compiled at Mar 26 2016 14:12:26
  %ENV:
    PERL5LIB="C:\STRAWB~1\cpan\build\Attribute-Lexical-0.004-aaMLZ2/blib/arch;C:\STRAWB~1\cpan\build\Attribute-Lexical-0.004-aaMLZ2/blib/lib;C:\STRAWB~1\cpan\build\Scalar-Readonly-0.03-Dh4Fnl/blib/arch;C:\STRAWB~1\cpan\build\Scalar-Readonly-0.03-Dh4Fnl/blib/lib"
    PERL5_CPANPLUS_IS_RUNNING="1228"
    PERL5_CPAN_IS_RUNNING="1228"
    PERL5_CPAN_IS_RUNNING_IN_RECURSION="816,1228"
    PERL_CR_SMOKER_CURRENT="MooseX-Params-0.010"
    PERL_CR_SMOKER_RUNONCE="1"
    PERL_EXTUTILS_AUTOINSTALL="--defaultdeps"
    PERL_HASH_SEED="0x11111111"
    PERL_MM_USE_DEFAULT="1"
  @INC:
    C:\STRAWB~1\cpan\build\Attribute-Lexical-0.004-aaMLZ2/blib/arch
    C:\STRAWB~1\cpan\build\Attribute-Lexical-0.004-aaMLZ2/blib/lib
    C:\STRAWB~1\cpan\build\Scalar-Readonly-0.03-Dh4Fnl/blib/arch
    C:\STRAWB~1\cpan\build\Scalar-Readonly-0.03-Dh4Fnl/blib/lib
    C:/Strawberry221/perl/site/lib
    C:/Strawberry221/perl/vendor/lib
    C:/Strawberry221/perl/lib
    .