Pod-Markdown v3.200 Perl 5 v5.28.2 x86_64-linux
        
            - Status
- Pass
- From
- Alceu Rodrigues de Freitas Junior
- Dist
- 
                Pod-Markdown v3.200
            
- Platform
- Perl 5 v5.28.2 x86_64-linux
- Date
- 2020-05-22 21:45:28
- ID
- 8d7c90b2-9c75-11ea-b5c7-cc60a1cd9d73
This distribution has been tested as part of the CPAN Testers
project, supporting the Perl programming language.  See
http://wiki.cpantesters.org/ for more information or email
questions to cpan-testers-discuss@perl.org
--
Dear Randy Stauner,
This is a computer-generated report for Pod-Markdown-3.200
on perl 5.28.2, created by CPAN-Reporter-1.2018.
Thank you for uploading your work to CPAN.  Congratulations!
All tests were successful.
Sections of this report:
    * Tester comments
    * Program output
    * Prerequisites
    * Environment and other context
------------------------------
TESTER COMMENTS
------------------------------
Additional comments from tester:
none provided
------------------------------
PROGRAM OUTPUT
------------------------------
Output from '/usr/bin/make test':
PERL_DL_NONLAZY=1 "/home/alceu/perl5/perlbrew/perls/perl-5.28.2/bin/perl" "-MExtUtils::Command::MM" "-MTest::Harness" "-e" "undef *Test::Harness::Switches; test_harness(0, 'blib/lib', 'blib/arch')" t/*.t
t/00-compile.t ......... ok
# 
# Versions for all modules listed in MYMETA.json (including optional ones):
# 
# === Configure Requires ===
# 
#     Module              Want Have
#     ------------------- ---- ----
#     ExtUtils::MakeMaker  any 7.44
# 
# === Build Requires ===
# 
#     Module              Want Have
#     ------------------- ---- ----
#     ExtUtils::MakeMaker  any 7.44
# 
# === Test Requires ===
# 
#     Module                Want     Have
#     --------------------- ---- --------
#     Exporter               any     5.74
#     ExtUtils::MakeMaker    any     7.44
#     File::Spec             any     3.75
#     File::Spec::Functions  any     3.75
#     File::Temp             any   0.2309
#     IO::Handle             any     1.42
#     IPC::Open3             any     1.20
#     Symbol                 any     1.08
#     Test::Differences      any     0.67
#     Test::More            0.88 1.302164
#     lib                    any     0.64
#     utf8                   any     1.21
# 
# === Test Recommends ===
# 
#     Module         Want     Have
#     ---------- -------- --------
#     CPAN::Meta 2.120900 2.150010
# 
# === Runtime Requires ===
# 
#     Module               Want  Have
#     -------------------- ---- -----
#     Encode                any  3.06
#     Getopt::Long          any  2.51
#     Pod::Simple          3.27  3.36
#     Pod::Simple::Methody  any  3.36
#     Pod::Usage            any  1.69
#     URI::Escape           any  3.31
#     parent                any 0.237
#     strict                any  1.11
#     warnings              any  1.42
# 
# === Runtime Recommends ===
# 
#     Module         Want Have
#     -------------- ---- ----
#     HTML::Entities  any 3.69
# 
t/00-report-prereqs.t .. ok
t/back-compat.t ........ ok
t/basic.t .............. ok
t/codes.t .............. ok
t/encoding.t ........... ok
t/entities.t ........... ok
t/escape.t ............. ok
t/formats.t ............ ok
t/links.t .............. ok
t/lists.t .............. ok
t/meta.t ............... ok
t/misc.t ............... ok
t/nested.t ............. ok
t/new.t ................ ok
t/perldoc.t ............ ok
t/pod2markdown.t ....... ok
t/verbatim.t ........... ok
All tests successful.
Files=18, Tests=354,  2 wallclock secs ( 0.07 usr  0.02 sys +  2.35 cusr  0.24 csys =  2.68 CPU)
Result: PASS
------------------------------
PREREQUISITES
------------------------------
Prerequisite modules loaded:
requires:
    Module                Need  Have    
    --------------------- ----- --------
    Encode                0     3.06    
    Getopt::Long          0     2.51    
    parent                0     0.237   
    perl                  5.008 5.028002
    Pod::Simple           3.27  3.36    
    Pod::Simple::Methody  0     3.36    
    Pod::Usage            0     1.69    
    strict                0     1.11    
    URI::Escape           0     3.31    
    warnings              0     1.42    
build_requires:
    Module                Need  Have    
    --------------------- ----- --------
    Exporter              0     5.74    
    ExtUtils::MakeMaker   0     7.44    
    File::Spec            0     3.75    
    File::Spec::Functions 0     3.75    
    File::Temp            0     0.2309  
    IO::Handle            0     1.42    
    IPC::Open3            0     1.20    
    lib                   0     0.64    
    Symbol                0     1.08    
    Test::Differences     0     0.67    
    Test::More            0.88  1.302164
    utf8                  0     1.21    
configure_requires:
    Module                Need  Have    
    --------------------- ----- --------
    ExtUtils::MakeMaker   0     7.44    
    perl                  5.008 5.028002
------------------------------
ENVIRONMENT AND OTHER CONTEXT
------------------------------
Environment variables:
    LANG = pt_BR.UTF-8
    LANGUAGE = pt_BR:pt:en
    PATH = /home/alceu/.rvm/gems/ruby-2.5.5/bin:/home/alceu/.rvm/gems/ruby-2.5.5@global/bin:/home/alceu/.rvm/rubies/ruby-2.5.5/bin:/home/alceu/.pyenv/plugins/pyenv-virtualenv/shims:/home/alceu/.pyenv/shims:/home/alceu/.pyenv/bin:/home/alceu/.sdkman/candidates/java/current/bin:/home/alceu/.sdkman/candidates/groovy/current/bin:/home/alceu/.sdkman/candidates/gradle/current/bin:/home/alceu/perl5/perlbrew/bin:/home/alceu/perl5/perlbrew/perls/perl-5.28.2/bin:/home/alceu/bin:/usr/local/sbin:/usr/local/bin:/usr/sbin:/usr/bin:/sbin:/bin:/usr/games:/usr/local/games:/snap/bin:/usr/local/go/bin:/home/alceu/.rvm/bin
    PERL5LIB = 
    PERL5OPT = 
    PERL5_CPANPLUS_IS_RUNNING = 24302
    PERL5_CPAN_IS_RUNNING = 24302
    PERLBREW_HOME = /home/alceu/.perlbrew
    PERLBREW_MANPATH = /home/alceu/perl5/perlbrew/perls/perl-5.28.2/man
    PERLBREW_PATH = /home/alceu/perl5/perlbrew/bin:/home/alceu/perl5/perlbrew/perls/perl-5.28.2/bin
    PERLBREW_PERL = perl-5.28.2
    PERLBREW_ROOT = /home/alceu/perl5/perlbrew
    PERLBREW_SHELLRC_VERSION = 0.84
    PERLBREW_VERSION = 0.84
    PERL_USE_UNSAFE_INC = 1
    SHELL = /bin/bash
    TERM = xterm-256color
Perl special variables (and OS-specific diagnostics, for MSWin32):
    $^X = /home/alceu/perl5/perlbrew/perls/perl-5.28.2/bin/perl
    $UID/$EUID = 1000 / 1000
    $GID = 1000 4 24 27 29 30 44 46 108 122 123 124 129 142 1000 1002
    $EGID = 1000 4 24 27 29 30 44 46 108 122 123 124 129 142 1000 1002
Perl module toolchain versions installed:
    Module              Have    
    ------------------- --------
    CPAN                2.27    
    CPAN::Meta          2.150010
    Cwd                 3.75    
    ExtUtils::CBuilder  0.280234
    ExtUtils::Command   7.44    
    ExtUtils::Install   2.14    
    ExtUtils::MakeMaker 7.44    
    ExtUtils::Manifest  1.72    
    ExtUtils::ParseXS   3.39    
    File::Spec          3.75    
    JSON                4.02    
    JSON::PP            4.04    
    Module::Build       0.4231  
    Module::Signature   n/a     
    Parse::CPAN::Meta   2.150010
    Test::Harness       3.42    
    Test::More          1.302164
    YAML                1.29    
    YAML::Syck          1.31    
    version             0.9924  
--
Summary of my perl5 (revision 5 version 28 subversion 2) configuration:
   
  Platform:
    osname=linux
    osvers=4.15.0-36-generic
    archname=x86_64-linux
    uname='linux yggdrasil 4.15.0-36-generic #39-ubuntu smp mon sep 24 16:19:09 utc 2018 x86_64 x86_64 x86_64 gnulinux '
    config_args='-de -Dprefix=/home/alceu/perl5/perlbrew/perls/perl-5.28.2 -Dman1dir=none -Dman3dir=none -Aeval:scriptdir=/home/alceu/perl5/perlbrew/perls/perl-5.28.2/bin'
    hint=recommended
    useposix=true
    d_sigaction=define
    useithreads=undef
    usemultiplicity=undef
    use64bitint=define
    use64bitall=define
    uselongdouble=undef
    usemymalloc=n
    default_inc_excludes_dot=define
    bincompat5005=undef
  Compiler:
    cc='cc'
    ccflags ='-fwrapv -fno-strict-aliasing -pipe -fstack-protector-strong -I/usr/local/include -D_LARGEFILE_SOURCE -D_FILE_OFFSET_BITS=64'
    optimize='-O2'
    cppflags='-fwrapv -fno-strict-aliasing -pipe -fstack-protector-strong -I/usr/local/include'
    ccversion=''
    gccversion='7.4.0'
    gccosandvers=''
    intsize=4
    longsize=8
    ptrsize=8
    doublesize=8
    byteorder=12345678
    doublekind=3
    d_longlong=define
    longlongsize=8
    d_longdbl=define
    longdblsize=16
    longdblkind=3
    ivtype='long'
    ivsize=8
    nvtype='double'
    nvsize=8
    Off_t='off_t'
    lseeksize=8
    alignbytes=8
    prototype=define
  Linker and Libraries:
    ld='cc'
    ldflags =' -fstack-protector-strong -L/usr/local/lib'
    libpth=/usr/local/lib /usr/lib/gcc/x86_64-linux-gnu/7/include-fixed /usr/include/x86_64-linux-gnu /usr/lib /lib/x86_64-linux-gnu /lib/../lib /usr/lib/x86_64-linux-gnu /usr/lib/../lib /lib
    libs=-lpthread -lnsl -ldb -ldl -lm -lcrypt -lutil -lc
    perllibs=-lpthread -lnsl -ldl -lm -lcrypt -lutil -lc
    libc=libc-2.27.so
    so=so
    useshrplib=false
    libperl=libperl.a
    gnulibc_version='2.27'
  Dynamic Linking:
    dlsrc=dl_dlopen.xs
    dlext=so
    d_dlsymun=undef
    ccdlflags='-Wl,-E'
    cccdlflags='-fPIC'
    lddlflags='-shared -O2 -L/usr/local/lib -fstack-protector-strong'
Characteristics of this binary (from libperl): 
  Compile-time options:
    HAS_TIMES
    PERLIO_LAYERS
    PERL_COPY_ON_WRITE
    PERL_DONT_CREATE_GVSV
    PERL_MALLOC_WRAP
    PERL_OP_PARENT
    PERL_PRESERVE_IVUV
    USE_64_BIT_ALL
    USE_64_BIT_INT
    USE_LARGE_FILES
    USE_LOCALE
    USE_LOCALE_COLLATE
    USE_LOCALE_CTYPE
    USE_LOCALE_NUMERIC
    USE_LOCALE_TIME
    USE_PERLIO
    USE_PERL_ATOF
  Locally applied patches:
    Devel::PatchPerl 1.38
  Built under linux
  Compiled at May 25 2019 20:20:10
  %ENV:
    PERL5LIB=""
    PERL5OPT=""
    PERL5_CPANPLUS_IS_RUNNING="24302"
    PERL5_CPAN_IS_RUNNING="24302"
    PERLBREW_HOME="/home/alceu/.perlbrew"
    PERLBREW_MANPATH="/home/alceu/perl5/perlbrew/perls/perl-5.28.2/man"
    PERLBREW_PATH="/home/alceu/perl5/perlbrew/bin:/home/alceu/perl5/perlbrew/perls/perl-5.28.2/bin"
    PERLBREW_PERL="perl-5.28.2"
    PERLBREW_ROOT="/home/alceu/perl5/perlbrew"
    PERLBREW_SHELLRC_VERSION="0.84"
    PERLBREW_VERSION="0.84"
    PERL_USE_UNSAFE_INC="1"
  @INC:
    /home/alceu/perl5/perlbrew/perls/perl-5.28.2/lib/site_perl/5.28.2/x86_64-linux
    /home/alceu/perl5/perlbrew/perls/perl-5.28.2/lib/site_perl/5.28.2
    /home/alceu/perl5/perlbrew/perls/perl-5.28.2/lib/5.28.2/x86_64-linux
    /home/alceu/perl5/perlbrew/perls/perl-5.28.2/lib/5.28.2
    .