Report for Path-FindDev-v0.5.3

Back
From: metabase:user:9c36dc84-a30f-11e0-a9fc-0a18abbd4f2f
Subject: PASS Path-FindDev-v0.5.3 v5.8.9 GNU/Linux
Date: 2017-06-30T22:07:48Z

This distribution has been tested as part of the CPAN Testers
project, supporting the Perl programming language.  See
http://wiki.cpantesters.org/ for more information or email
questions to cpan-testers-discuss@perl.org


--
Dear Kent Fredric,

This is a computer-generated report for Path-FindDev-v0.5.3
on perl 5.8.9, created by CPAN-Reporter-1.2018.

Thank you for uploading your work to CPAN.  Congratulations!
All tests were successful.

Sections of this report:

    * Tester comments
    * Program output
    * Prerequisites
    * Environment and other context

------------------------------
TESTER COMMENTS
------------------------------

Additional comments from tester:

none provided

------------------------------
PROGRAM OUTPUT
------------------------------

Output from '/usr/bin/make test':

PERL_DL_NONLAZY=1 "/home/alceu/perl5/perlbrew/perls/perl-5.8.9/bin/perl" "-MExtUtils::Command::MM" "-MTest::Harness" "-e" "undef *Test::Harness::Switches; test_harness(0, 'blib/lib', 'blib/arch')" t/*.t t/00-compile/*.t
t/00-compile/lib_Path_FindDev_Object_pm.t .. ok
t/00-compile/lib_Path_FindDev_pm.t ......... ok
# 
# Versions for all modules listed in MYMETA.json (including optional ones):
# 
# === Configure Requires ===
# 
#     Module              Want Have
#     ------------------- ---- ----
#     ExtUtils::MakeMaker  any 7.30
# 
# === Configure Recommends ===
# 
#     Module              Want Have
#     ------------------- ---- ----
#     ExtUtils::MakeMaker 7.00 7.30
# 
# === Build Requires ===
# 
#     Module              Want Have
#     ------------------- ---- ----
#     ExtUtils::MakeMaker  any 7.30
# 
# === Test Requires ===
# 
#     Module              Want     Have
#     ------------------- ---- --------
#     ExtUtils::MakeMaker  any     7.30
#     File::Spec           any     3.62
#     FindBin              any     1.49
#     Test::More           any 1.302086
# 
# === Test Recommends ===
# 
#     Module                  Want     Have
#     ------------------- -------- --------
#     CPAN::Meta          2.120900 2.150010
#     ExtUtils::MakeMaker     7.00     7.30
#     Test::More              0.99 1.302086
# 
# === Runtime Requires ===
# 
#     Module                Want     Have
#     ------------------- ------ --------
#     Carp                   any     1.38
#     Class::Tiny          0.010    1.006
#     Path::IsDev         v0.2.2 1.001003
#     Path::IsDev::Object    any 1.001003
#     Path::Tiny           0.054    0.104
#     Scalar::Util           any     1.47
#     Sub::Exporter          any    0.987
#     strict                 any     1.03
#     warnings               any  1.05_01
# 
# === Runtime Recommends ===
# 
#     Module      Want  Have
#     ---------- ----- -----
#     Path::Tiny 0.058 0.104
# 
t/00-report-prereqs.t ...................... ok
# System path sanity check skipped due to potential security risks, set ENV{SYSTEM_PATH_TEST} if you wish to run this test
t/basic.t .................................. ok
All tests successful.
Files=4, Tests=5,  0 wallclock secs ( 0.02 usr  0.02 sys +  0.32 cusr  0.00 csys =  0.36 CPU)
Result: PASS

------------------------------
PREREQUISITES
------------------------------

Prerequisite modules loaded:

requires:

    Module              Need   Have    
    ------------------- ------ --------
    Carp                0      1.38    
    Class::Tiny         0.010  1.006   
    Path::IsDev         v0.2.2 1.001003
    Path::IsDev::Object 0      1.001003
    Path::Tiny          0.054  0.104   
    perl                5.006  5.008009
    Scalar::Util        0      1.47    
    strict              0      1.03    
    Sub::Exporter       0      0.987   
    warnings            0      1.05_01 

build_requires:

    Module              Need   Have    
    ------------------- ------ --------
    ExtUtils::MakeMaker 0      7.30    
    File::Spec          0      3.62    
    FindBin             0      1.49    
    Test::More          0      1.302086

configure_requires:

    Module              Need   Have    
    ------------------- ------ --------
    ExtUtils::MakeMaker 0      7.30    
    perl                5.006  5.008009


------------------------------
ENVIRONMENT AND OTHER CONTEXT
------------------------------

Environment variables:

    LANG = pt_BR.UTF-8
    LANGUAGE = pt_BR:pt:en
    PATH = /home/alceu/perl5/perlbrew/bin:/home/alceu/perl5/perlbrew/perls/perl-5.8.9/bin:/home/alceu/anaconda3/bin:/home/alceu/bin:/usr/local/sbin:/usr/local/bin:/usr/sbin:/usr/bin:/sbin:/bin:/usr/games:/usr/local/games:/snap/bin
    PERL5LIB = 
    PERL5OPT = 
    PERL5_CPANPLUS_IS_RUNNING = 5898
    PERL5_CPAN_IS_RUNNING = 5898
    PERLBREW_BASHRC_VERSION = 0.73
    PERLBREW_HOME = /home/alceu/.perlbrew
    PERLBREW_MANPATH = /home/alceu/perl5/perlbrew/perls/perl-5.8.9/man
    PERLBREW_PATH = /home/alceu/perl5/perlbrew/bin:/home/alceu/perl5/perlbrew/perls/perl-5.8.9/bin
    PERLBREW_PERL = perl-5.8.9
    PERLBREW_ROOT = /home/alceu/perl5/perlbrew
    PERLBREW_VERSION = 0.73
    SHELL = /bin/bash
    TERM = xterm

Perl special variables (and OS-specific diagnostics, for MSWin32):

    $^X = /home/alceu/perl5/perlbrew/perls/perl-5.8.9/bin/perl
    $UID/$EUID = 1000 / 1000
    $GID = 1000 4 24 27 29 30 44 46 108 122 123 124 129 1000 1002
    $EGID = 1000 4 24 27 29 30 44 46 108 122 123 124 129 1000 1002

Perl module toolchain versions installed:

    Module              Have    
    ------------------- --------
    CPAN                2.16    
    CPAN::Meta          2.150010
    Cwd                 3.62    
    ExtUtils::CBuilder  0.280224
    ExtUtils::Command   7.30    
    ExtUtils::Install   2.14    
    ExtUtils::MakeMaker 7.30    
    ExtUtils::Manifest  1.70    
    ExtUtils::ParseXS   3.30    
    File::Spec          3.62    
    JSON                2.94    
    JSON::PP            2.94    
    Module::Build       0.4224  
    Module::Signature   n/a     
    Parse::CPAN::Meta   2.150010
    Test::Harness       3.39    
    Test::More          1.302086
    YAML                1.23    
    YAML::Syck          1.30    
    version             0.9918  


--

Summary of my perl5 (revision 5 version 8 subversion 9) configuration:
  Platform:
    osname=linux, osvers=3.13.0-43-generic, archname=x86_64-linux
    uname='linux yggdrasil 3.13.0-43-generic #72-ubuntu smp mon dec 8 19:35:06 utc 2014 x86_64 x86_64 x86_64 gnulinux '
    config_args='-de -Dprefix=/home/alceu/perl5/perlbrew/perls/perl-5.8.9 -Aeval:scriptdir=/home/alceu/perl5/perlbrew/perls/perl-5.8.9/bin'
    hint=recommended, useposix=true, d_sigaction=define
    usethreads=undef use5005threads=undef useithreads=undef usemultiplicity=undef
    useperlio=define d_sfio=undef uselargefiles=define usesocks=undef
    use64bitint=define use64bitall=define uselongdouble=undef
    usemymalloc=n, bincompat5005=undef
  Compiler:
    cc='cc', ccflags ='-fno-strict-aliasing -pipe -I/usr/local/include -D_LARGEFILE_SOURCE -D_FILE_OFFSET_BITS=64',
    optimize='-O2',
    cppflags='-fno-strict-aliasing -pipe -I/usr/local/include'
    ccversion='', gccversion='4.8.2', gccosandvers=''
    intsize=4, longsize=8, ptrsize=8, doublesize=8, byteorder=12345678
    d_longlong=define, longlongsize=8, d_longdbl=define, longdblsize=16
    ivtype='long', ivsize=8, nvtype='double', nvsize=8, Off_t='off_t', lseeksize=8
    alignbytes=8, prototype=define
  Linker and Libraries:
    ld='cc', ldflags =' -L/usr/local/lib'
    libpth=/usr/local/lib /lib/x86_64-linux-gnu /lib/../lib /usr/lib/x86_64-linux-gnu /usr/lib/../lib /lib /usr/lib
    libs=-lnsl -ldl -lm -lcrypt -lutil -lc
    perllibs=-lnsl -ldl -lm -lcrypt -lutil -lc
    libc=libc-2.19.so, so=so, useshrplib=false, libperl=libperl.a
    gnulibc_version='2.19'
  Dynamic Linking:
    dlsrc=dl_dlopen.xs, dlext=so, d_dlsymun=undef, ccdlflags='-Wl,-E'
    cccdlflags='-fPIC', lddlflags='-shared -O2 -L/usr/local/lib'


Characteristics of this binary (from libperl): 
  Compile-time options: PERL_MALLOC_WRAP USE_64_BIT_ALL USE_64_BIT_INT
                        USE_FAST_STDIO USE_LARGE_FILES USE_PERLIO
  Built under linux
  Compiled at Dec 22 2014 15:00:55
  %ENV:
    PERL5LIB=""
    PERL5OPT=""
    PERL5_CPANPLUS_IS_RUNNING="5898"
    PERL5_CPAN_IS_RUNNING="5898"
    PERLBREW_BASHRC_VERSION="0.73"
    PERLBREW_HOME="/home/alceu/.perlbrew"
    PERLBREW_MANPATH="/home/alceu/perl5/perlbrew/perls/perl-5.8.9/man"
    PERLBREW_PATH="/home/alceu/perl5/perlbrew/bin:/home/alceu/perl5/perlbrew/perls/perl-5.8.9/bin"
    PERLBREW_PERL="perl-5.8.9"
    PERLBREW_ROOT="/home/alceu/perl5/perlbrew"
    PERLBREW_VERSION="0.73"
  @INC:
    /home/alceu/perl5/perlbrew/perls/perl-5.8.9/lib/5.8.9/x86_64-linux
    /home/alceu/perl5/perlbrew/perls/perl-5.8.9/lib/5.8.9
    /home/alceu/perl5/perlbrew/perls/perl-5.8.9/lib/site_perl/5.8.9/x86_64-linux
    /home/alceu/perl5/perlbrew/perls/perl-5.8.9/lib/site_perl/5.8.9
    .