SQL-Statement v1.414 Perl 5 v5.30.3 x86_64-linux-thread-multi
- Status
- Pass
- From
- Michael Roberts
- Dist
-
SQL-Statement v1.414
- Platform
- Perl 5 v5.30.3 x86_64-linux-thread-multi
- Date
- 2020-10-25 00:32:24
- ID
- 8d4baafc-1659-11eb-a35e-36e7b7a9b138
This distribution has been tested as part of the CPAN Testers
project, supporting the Perl programming language. See
http://wiki.cpantesters.org/ for more information or email
questions to cpan-testers-discuss@perl.org
--
Dear Jens Rehsack,
This is a computer-generated report for SQL-Statement-1.414
on perl 5.30.3, created by CPAN-Reporter-1.2018.
Thank you for uploading your work to CPAN. Congratulations!
All tests were successful.
Sections of this report:
* Tester comments
* Program output
* Prerequisites
* Environment and other context
------------------------------
TESTER COMMENTS
------------------------------
Additional comments from tester:
none provided
------------------------------
PROGRAM OUTPUT
------------------------------
Output from '/usr/bin/make test':
PERL_DL_NONLAZY=1 "/usr/bin/perl" "-MExtUtils::Command::MM" "-MTest::Harness" "-e" "undef *Test::Harness::Switches; test_harness(0, 'blib/lib', 'blib/arch')" t/*.t xt/*.t
# # Using required:
# # SQL::Statement: 1.414
# # Using recommended:
# # DBD::CSV: 0.55
# # DBD::DBM: 0.08
# # DBD::File: 0.44
# # DBI: 1.643
t/00error.t ..... ok
t/01prepare.t ... ok
t/02execute.t ... ok
t/03import.t .... ok
t/04idents.t .... ok
t/05simple.t .... ok
t/06virtual.t ... ok
t/08join.t ...... ok
t/09ops.t ....... ok
t/10limit.t ..... ok
t/12eval.t ...... ok
t/14parse.t ..... ok
t/15parse.t ..... ok
t/16parse.t ..... ok
t/17quoting.t ... ok
t/23dialects.t .. ok
t/99backtick.t .. ok
All tests successful.
Test Summary Report
-------------------
t/01prepare.t (Wstat: 0 Tests: 1128 Failed: 0)
TODO passed: 264, 546, 828, 1110
t/06virtual.t (Wstat: 0 Tests: 1313 Failed: 0)
TODO passed: 565-567, 1220-1222
t/08join.t (Wstat: 0 Tests: 964 Failed: 0)
TODO passed: 289-291, 293-295, 312-321, 610-612, 614-616
633-642, 931-933, 935-937, 954-963
Files=17, Tests=4308, 6 wallclock secs ( 0.27 usr 0.02 sys + 3.04 cusr 0.19 csys = 3.52 CPU)
Result: PASS
------------------------------
PREREQUISITES
------------------------------
Prerequisite modules loaded:
requires:
Module Need Have
------------------- ----- --------
Carp 0 1.50
Clone 0.30 0.45
Data::Dumper 0 2.174
Module::Runtime 0 0.016
Params::Util 1.00 1.101
perl 5.008 5.030003
Scalar::Util 1.0 1.55
Text::Balanced 0 2.03
build_requires:
Module Need Have
------------------- ----- --------
Math::Base::Convert 0 0.11
Math::Complex 1.56 1.5901
Test::Deep 0 1.130
Test::More 0.90 1.302183
Text::Soundex 3.04 3.05
configure_requires:
Module Need Have
------------------- ----- --------
ExtUtils::MakeMaker 0 7.50
------------------------------
ENVIRONMENT AND OTHER CONTEXT
------------------------------
Environment variables:
LANG = en_GB.UTF-8
LANGUAGE =
NONINTERACTIVE_TESTING = 1
PATH = /data/mike/bin:/data/mike/bin:/home/mike/bin:/usr/local/bin:/usr/bin:/bin
PERL5LIB =
PERL5OPT =
PERL5_CPANPLUS_IS_RUNNING = 4450
PERL5_CPAN_IS_RUNNING = 4450
PERL_MM_USE_DEFAULT = 1
PERL_USE_UNSAFE_INC = 1
SHELL = /bin/bash
TERM = xterm-256color
Perl special variables (and OS-specific diagnostics, for MSWin32):
$^X = /usr/bin/perl
$UID/$EUID = 1000 / 1000
$GID = 100 100
$EGID = 100 100
Perl module toolchain versions installed:
Module Have
------------------- --------
CPAN 2.28
CPAN::Meta 2.150010
Cwd 3.78
ExtUtils::CBuilder 0.280234
ExtUtils::Command 7.50
ExtUtils::Install 2.18
ExtUtils::MakeMaker 7.50
ExtUtils::Manifest 1.72
ExtUtils::ParseXS 3.40
File::Spec 3.78
JSON 4.02
JSON::PP 4.05
Module::Build 0.4231
Module::Signature 0.87
Parse::CPAN::Meta 2.150010
Test::Harness 3.42
Test::More 1.302183
YAML 1.30
YAML::Syck n/a
version 0.9928
--
Summary of my perl5 (revision 5 version 30 subversion 3) configuration:
Platform:
osname=linux
osvers=5.8.10-1-default
archname=x86_64-linux-thread-multi
uname='reproducible'
config_args='-ds -e -Dprefix=/usr -Dvendorprefix=/usr -Dinstallusrbinperl -Dusethreads -Di_db -Di_dbm -Di_ndbm -Di_gdbm -Dd_dbm_open -Duseshrplib=true -Doptimize=-O2 -Wall -D_FORTIFY_SOURCE=2 -fstack-protector-strong -funwind-tables -fasynchronous-unwind-tables -fstack-clash-protection -Werror=return-type -g -Wall -pipe -Accflags=-DPERL_USE_SAFE_PUTENV -Dotherlibdirs=/usr/lib/perl5/site_perl -Dinc_version_list=5.30.1/x86_64-linux-thread-multi 5.30.1'
hint=recommended
useposix=true
d_sigaction=define
useithreads=define
usemultiplicity=define
use64bitint=define
use64bitall=define
uselongdouble=undef
usemymalloc=n
default_inc_excludes_dot=define
bincompat5005=undef
Compiler:
cc='cc'
ccflags ='-D_REENTRANT -D_GNU_SOURCE -DPERL_USE_SAFE_PUTENV -fwrapv -fno-strict-aliasing -pipe -fstack-protector-strong -D_LARGEFILE_SOURCE -D_FILE_OFFSET_BITS=64'
optimize='-O2 -Wall -D_FORTIFY_SOURCE=2 -fstack-protector-strong -funwind-tables -fasynchronous-unwind-tables -fstack-clash-protection -Werror=return-type -g -Wall -pipe'
cppflags='-D_REENTRANT -D_GNU_SOURCE -DPERL_USE_SAFE_PUTENV -fwrapv -fno-strict-aliasing -pipe -fstack-protector-strong'
ccversion=''
gccversion='10.2.1 20200825 [revision c0746a1beb1ba073c7981eb09f55b3d993b32e5c]'
gccosandvers=''
intsize=4
longsize=8
ptrsize=8
doublesize=8
byteorder=12345678
doublekind=3
d_longlong=define
longlongsize=8
d_longdbl=define
longdblsize=16
longdblkind=3
ivtype='long'
ivsize=8
nvtype='double'
nvsize=8
Off_t='off_t'
lseeksize=8
alignbytes=8
prototype=define
Linker and Libraries:
ld='cc'
ldflags =' -L/usr/local/lib64 -fstack-protector-strong'
libpth=/usr/local/lib /usr/lib64/gcc/x86_64-suse-linux/10/include-fixed /usr/lib64/gcc/x86_64-suse-linux/10/../../../../x86_64-suse-linux/lib /usr/lib /lib/../lib64 /usr/lib/../lib64 /lib /lib64 /usr/lib64 /usr/local/lib64
libs=-lm -ldl -lcrypt -lpthread
perllibs=-lm -ldl -lcrypt -lpthread
libc=/lib64/libc-2.31.so
so=so
useshrplib=true
libperl=libperl.so
gnulibc_version='2.31'
Dynamic Linking:
dlsrc=dl_dlopen.xs
dlext=so
d_dlsymun=undef
ccdlflags='-Wl,-E -Wl,-rpath,/usr/lib/perl5/5.30.3/x86_64-linux-thread-multi/CORE'
cccdlflags='-fPIC'
lddlflags='-shared -L/usr/local/lib64 -fstack-protector-strong'
Characteristics of this binary (from libperl):
Compile-time options:
HAS_TIMES
MULTIPLICITY
PERLIO_LAYERS
PERL_COPY_ON_WRITE
PERL_DONT_CREATE_GVSV
PERL_IMPLICIT_CONTEXT
PERL_MALLOC_WRAP
PERL_OP_PARENT
PERL_PRESERVE_IVUV
PERL_USE_SAFE_PUTENV
USE_64_BIT_ALL
USE_64_BIT_INT
USE_ITHREADS
USE_LARGE_FILES
USE_LOCALE
USE_LOCALE_COLLATE
USE_LOCALE_CTYPE
USE_LOCALE_NUMERIC
USE_LOCALE_TIME
USE_PERLIO
USE_PERL_ATOF
USE_REENTRANT_API
USE_THREAD_SAFE_LOCALE
Built under linux
Compiled at Sep 11 2020 00:00:00
%ENV:
PERL5LIB=""
PERL5OPT=""
PERL5_CPANPLUS_IS_RUNNING="4450"
PERL5_CPAN_IS_RUNNING="4450"
PERL_MM_USE_DEFAULT="1"
PERL_USE_UNSAFE_INC="1"
@INC:
/usr/lib/perl5/site_perl/5.30.3/x86_64-linux-thread-multi
/usr/lib/perl5/site_perl/5.30.3
/usr/lib/perl5/vendor_perl/5.30.3/x86_64-linux-thread-multi
/usr/lib/perl5/vendor_perl/5.30.3
/usr/lib/perl5/5.30.3/x86_64-linux-thread-multi
/usr/lib/perl5/5.30.3
/usr/lib/perl5/site_perl/5.30.1/x86_64-linux-thread-multi
/usr/lib/perl5/site_perl/5.30.1
/usr/lib/perl5/vendor_perl/5.30.1/x86_64-linux-thread-multi
/usr/lib/perl5/vendor_perl/5.30.1
/usr/lib/perl5/site_perl
.