AnyEvent-Filesys-Notify v1.23 Perl 5 v5.20.2 x86_64-linux-thread-multi
- Status
- Pass
- From
- David Cantrell (DCANTRELL)
- Dist
-
AnyEvent-Filesys-Notify v1.23
- Platform
- Perl 5 v5.20.2 x86_64-linux-thread-multi
- Date
- 2017-12-07 15:01:49
- ID
- 8d44894e-db5f-11e7-afd3-dafe396f764e
This distribution has been tested as part of the CPAN Testers
project, supporting the Perl programming language. See
http://wiki.cpantesters.org/ for more information or email
questions to cpan-testers-discuss@perl.org
--
Dear Mark Grimes,
This is a computer-generated report for AnyEvent-Filesys-Notify-1.23
on perl 5.20.2, created by CPAN-Reporter-1.2018.
Thank you for uploading your work to CPAN. Congratulations!
All tests were successful.
Sections of this report:
* Tester comments
* Program output
* Prerequisites
* Environment and other context
------------------------------
TESTER COMMENTS
------------------------------
Additional comments from tester:
this report is from an automated smoke testing program
and was not reviewed by a human for accuracy
------------------------------
PROGRAM OUTPUT
------------------------------
Output from './Build test':
t/00-load.t ................ ok
t/10-plugins.t ............. ok
t/11-plugin-default.t ...... ok
t/20-scan_fs.t ............. ok
t/21-scan_fs_links.t ....... ok
# This might take a few seconds to run...
t/30-event.t ............... ok
# This might take a few seconds to run...
t/31-notify-fallback.t ..... ok
# This might take a few seconds to run...
t/32-specify-backend.t ..... ok
t/33-specify-kqueue.t ...... skipped: Test only on Mac with IO::KQueue
# This might take a few seconds to run...
t/34-parse_events.t ........ ok
# This might take a few seconds to run...
t/35-skip_subdirs.t ........ ok
t/40-bugs.t ................ ok
t/41-bug-modified-in-cb.t .. ok
# This might take a few seconds to run...
t/42-inotify-race.t ........ ok
All tests successful.
Files=14, Tests=108, 28 wallclock secs ( 0.05 usr 0.07 sys + 1.71 cusr 0.34 csys = 2.17 CPU)
Result: PASS
------------------------------
PREREQUISITES
------------------------------
Prerequisite modules loaded:
requires:
Module Need Have
---------------------------- -------- --------
AnyEvent 7.05 7.14
Carp 1.20 1.3301
Cwd 3.40 3.48_01
Linux::Inotify2 1.22 1.22
Moo 1.003001 2.003004
MooX::late 0.014 0.015
MooX::Types::MooseLike::Base 0.25 0.29
namespace::autoclean 0.24 0.28
Path::Iterator::Rule 1.005 1.012
perl 5.006 5.020002
Try::Tiny 0.18 0.27
build_requires:
Module Need Have
---------------------------- -------- --------
autodie 0 2.23
Data::Dump 0 1.23
Exporter 0 5.71
File::Basename 0 2.85
File::Find 0 1.27
File::Path 0 2.15
File::Spec 0 3.48_01
File::Temp 0 0.2304
Test::Exception 0 0.43
Test::More 0.87 1.302120
Test::Without::Module 0 0.20
configure_requires:
Module Need Have
---------------------------- -------- --------
Module::Build 0.4004 0.4224
------------------------------
ENVIRONMENT AND OTHER CONTEXT
------------------------------
Environment variables:
AUTOMATED_TESTING = 1
NONINTERACTIVE_TESTING = 1
PATH = /usr/local/bin:/usr/bin:/bin:/usr/local/games:/usr/games
PERL = 5.20.2
PERL5LIB =
PERL5OPT =
PERL5_CPANPLUS_IS_RUNNING = 1341
PERL5_CPAN_IS_RUNNING = 1341
PERLVER = 5.20.2
PERL_INLINE_DIRECTORY = /home/david/.Inline-5.20.2
PERL_MM_USE_DEFAULT = 1
PERL_USE_UNSAFE_INC = 0
SHELL = /bin/bash
TERM = screen
Perl special variables (and OS-specific diagnostics, for MSWin32):
$^X = /home/david/cpantesting/perl-5.20.2/bin/perl
$UID/$EUID = 1000 / 1000
$GID = 1000 1000
$EGID = 1000 1000
Perl module toolchain versions installed:
Module Have
------------------- --------
CPAN 2.05
CPAN::Meta 2.150010
Cwd 3.48_01
ExtUtils::CBuilder 0.280217
ExtUtils::Command 1.18
ExtUtils::Install 1.67
ExtUtils::MakeMaker 6.98
ExtUtils::Manifest 1.63
ExtUtils::ParseXS 3.24
File::Spec 3.48_01
JSON 2.90
JSON::PP 2.27400
Module::Build 0.4224
Module::Signature n/a
Parse::CPAN::Meta 2.150010
Test::Harness 3.39
Test::More 1.302120
YAML 1.18
YAML::Syck n/a
version 0.9909
--
Summary of my perl5 (revision 5 version 20 subversion 2) configuration:
Platform:
osname=linux, osvers=3.16.0-4-amd64, archname=x86_64-linux-thread-multi
uname='linux pigsty.barnyard.co.uk 3.16.0-4-amd64 #1 smp debian 3.16.36-1+deb8u1 (2016-09-03) x86_64 gnulinux '
config_args='-de -Duse64bitall -Dusethreads -Dprefix=/home/david/cpantesting/perl-5.20.2'
hint=recommended, useposix=true, d_sigaction=define
useithreads=define, usemultiplicity=define
use64bitint=define, use64bitall=define, uselongdouble=undef
usemymalloc=n, bincompat5005=undef
Compiler:
cc='cc', ccflags ='-D_REENTRANT -D_GNU_SOURCE -fwrapv -fno-strict-aliasing -pipe -fstack-protector -I/usr/local/include -D_LARGEFILE_SOURCE -D_FILE_OFFSET_BITS=64',
optimize='-O2',
cppflags='-D_REENTRANT -D_GNU_SOURCE -fwrapv -fno-strict-aliasing -pipe -fstack-protector -I/usr/local/include'
ccversion='', gccversion='4.9.2', gccosandvers=''
intsize=4, longsize=8, ptrsize=8, doublesize=8, byteorder=12345678
d_longlong=define, longlongsize=8, d_longdbl=define, longdblsize=16
ivtype='long', ivsize=8, nvtype='double', nvsize=8, Off_t='off_t', lseeksize=8
alignbytes=8, prototype=define
Linker and Libraries:
ld='cc', ldflags =' -fstack-protector -L/usr/local/lib'
libpth=/usr/local/lib /usr/lib/gcc/x86_64-linux-gnu/4.9/include-fixed /usr/include/x86_64-linux-gnu /usr/lib /lib/x86_64-linux-gnu /lib/../lib /usr/lib/x86_64-linux-gnu /usr/lib/../lib /lib
libs=-lnsl -ldb -ldl -lm -lcrypt -lutil -lpthread -lc
perllibs=-lnsl -ldl -lm -lcrypt -lutil -lpthread -lc
libc=libc-2.19.so, so=so, useshrplib=false, libperl=libperl.a
gnulibc_version='2.19'
Dynamic Linking:
dlsrc=dl_dlopen.xs, dlext=so, d_dlsymun=undef, ccdlflags='-Wl,-E'
cccdlflags='-fPIC', lddlflags='-shared -O2 -L/usr/local/lib -fstack-protector'
Characteristics of this binary (from libperl):
Compile-time options: HAS_TIMES MULTIPLICITY PERLIO_LAYERS
PERL_DONT_CREATE_GVSV
PERL_HASH_FUNC_ONE_AT_A_TIME_HARD
PERL_IMPLICIT_CONTEXT PERL_MALLOC_WRAP
PERL_NEW_COPY_ON_WRITE PERL_PRESERVE_IVUV
USE_64_BIT_ALL USE_64_BIT_INT USE_ITHREADS
USE_LARGE_FILES USE_LOCALE USE_LOCALE_COLLATE
USE_LOCALE_CTYPE USE_LOCALE_NUMERIC USE_PERLIO
USE_PERL_ATOF USE_REENTRANT_API
Locally applied patches:
Devel::PatchPerl 1.44
Built under linux
Compiled at Oct 12 2016 16:20:03
%ENV:
PERL="5.20.2"
PERL5LIB=""
PERL5OPT=""
PERL5_CPANPLUS_IS_RUNNING="1341"
PERL5_CPAN_IS_RUNNING="1341"
PERLVER="5.20.2"
PERL_INLINE_DIRECTORY="/home/david/.Inline-5.20.2"
PERL_MM_USE_DEFAULT="1"
PERL_USE_UNSAFE_INC="0"
@INC:
/home/david/cpantesting/perl-5.20.2/lib/site_perl/5.20.2/x86_64-linux-thread-multi
/home/david/cpantesting/perl-5.20.2/lib/site_perl/5.20.2
/home/david/cpantesting/perl-5.20.2/lib/5.20.2/x86_64-linux-thread-multi
/home/david/cpantesting/perl-5.20.2/lib/5.20.2
.