Cache-Mmap v0.11 Perl 5 v5.12.0 darwin-thread-multi-2level
- Status
- Pass
- From
- David Wheeler (DWHEELER)
- Dist
-
Cache-Mmap v0.11
- Platform
- Perl 5 v5.12.0 darwin-thread-multi-2level
- Date
- 2010-04-30 15:53:42
- ID
- 8d3f25fe-5470-11df-8ec6-09c77cffeca0
This distribution has been tested as part of the CPAN Testers
project, supporting the Perl programming language. See
http://wiki.cpantesters.org/ for more information or email
questions to cpan-testers-discuss@perl.org
--
Dear Peter Haworth,
This is a computer-generated report for Cache-Mmap-0.11
on perl 5.12.0, created by CPAN-Reporter-1.1711.
Thank you for uploading your work to CPAN. Congratulations!
All tests were successful.
Sections of this report:
* Tester comments
* Program output
* Prerequisites
* Environment and other context
------------------------------
TESTER COMMENTS
------------------------------
Additional comments from tester:
none provided
------------------------------
PROGRAM OUTPUT
------------------------------
Output from '/usr/bin/make test':
PERL_DL_NONLAZY=1 /usr/local/bin/perl "-MExtUtils::Command::MM" "-e" "test_harness(0, 'blib/lib', 'blib/arch')" t/*.t
t/01simple.t ... ok
t/02entries.t .. ok
t/03corrupt.t .. ok
t/04utf8.t ..... ok
t/05keep.t ..... ok
All tests successful.
Files=5, Tests=100, 23 wallclock secs ( 0.05 usr 0.02 sys + 0.27 cusr 0.05 csys = 0.39 CPU)
Result: PASS
------------------------------
PREREQUISITES
------------------------------
Prerequisite modules loaded:
requires:
Module Need Have
---------- ---- ----
Carp 0 1.15
Fcntl 0 1.06
Storable 0 2.22
Test::More 0 0.94
------------------------------
ENVIRONMENT AND OTHER CONTEXT
------------------------------
Environment variables:
LANG = en_US.UTF-8
PATH = /usr/local/bin:/usr/local/sbin:/usr/bin:/bin:/usr/sbin:/sbin:/usr/local/bin:/usr/X11/bin:/Developer/Tools:/Users/david/bin:/usr/local/pgsql/bin:/usr/local/mysql/bin
PERL5LIB =
PERL5OPT =
PERL5_CPANPLUS_IS_RUNNING = 66317
PERL5_CPAN_IS_RUNNING = 66317
SHELL = /bin/zsh
TERM = xterm-color
TMPDIR = /var/folders/V7/V7WFvTV+HCO3Q-XyeeqT4++++TI/-Tmp-/
Perl special variables (and OS-specific diagnostics, for MSWin32):
$^X = /usr/local/bin/perl
$UID/$EUID = 501 / 501
$GID = 20 20 402 204 100 98 81 80 79 61 12 401
$EGID = 20 20 402 204 100 98 81 80 79 61 12 401
Perl module toolchain versions installed:
Module Have
------------------- -------
CPAN 1.94_56
Cwd 3.31
ExtUtils::CBuilder 0.2703
ExtUtils::Command 1.16
ExtUtils::Install 1.55
ExtUtils::MakeMaker 6.56
ExtUtils::Manifest 1.57
ExtUtils::ParseXS 2.21
File::Spec 3.31
Module::Build 0.3607
Module::Signature n/a
Test::Harness 3.21
Test::More 0.94
YAML 0.71
YAML::Syck 1.07
version 0.82
--
Summary of my perl5 (revision 5 version 12 subversion 0) configuration:
Platform:
osname=darwin, osvers=10.3.0, archname=darwin-thread-multi-2level
uname='darwin benedict.local 10.3.0 darwin kernel version 10.3.0: fri feb 26 11:58:09 pst 2010; root:xnu-1504.3.12~1release_i386 i386 '
config_args='-des -Duseshrplib -Dusemultiplicity -Duseithreads -Dperladmin=david@kineticode.com -Dcf_email=david@kineticode.com'
hint=recommended, useposix=true, d_sigaction=define
useithreads=define, usemultiplicity=define
useperlio=define, d_sfio=undef, uselargefiles=define, usesocks=undef
use64bitint=define, use64bitall=define, uselongdouble=undef
usemymalloc=n, bincompat5005=undef
Compiler:
cc='cc', ccflags ='-fno-common -DPERL_DARWIN -no-cpp-precomp -fno-strict-aliasing -pipe -fstack-protector -I/usr/local/include',
optimize='-O3',
cppflags='-no-cpp-precomp -fno-common -DPERL_DARWIN -no-cpp-precomp -fno-strict-aliasing -pipe -fstack-protector -I/usr/local/include'
ccversion='', gccversion='4.2.1 (Apple Inc. build 5659)', gccosandvers=''
intsize=4, longsize=8, ptrsize=8, doublesize=8, byteorder=12345678
d_longlong=define, longlongsize=8, d_longdbl=define, longdblsize=16
ivtype='long', ivsize=8, nvtype='double', nvsize=8, Off_t='off_t', lseeksize=8
alignbytes=8, prototype=define
Linker and Libraries:
ld='env MACOSX_DEPLOYMENT_TARGET=10.3 cc', ldflags =' -fstack-protector -L/usr/local/lib'
libpth=/usr/local/lib /usr/lib
libs=-ldbm -ldl -lm -lutil -lc
perllibs=-ldl -lm -lutil -lc
libc=/usr/lib/libc.dylib, so=dylib, useshrplib=true, libperl=libperl.dylib
gnulibc_version=''
Dynamic Linking:
dlsrc=dl_dlopen.xs, dlext=bundle, d_dlsymun=undef, ccdlflags=' '
cccdlflags=' ', lddlflags=' -bundle -undefined dynamic_lookup -L/usr/local/lib -fstack-protector'
Characteristics of this binary (from libperl):
Compile-time options: MULTIPLICITY PERL_DONT_CREATE_GVSV
PERL_IMPLICIT_CONTEXT PERL_MALLOC_WRAP USE_64_BIT_ALL
USE_64_BIT_INT USE_ITHREADS USE_LARGE_FILES
USE_PERLIO USE_PERL_ATOF USE_REENTRANT_API
Built under darwin
Compiled at Apr 29 2010 16:03:30
%ENV:
PERL5LIB=""
PERL5OPT=""
PERL5_CPANPLUS_IS_RUNNING="66317"
PERL5_CPAN_IS_RUNNING="66317"
@INC:
/usr/local/lib/perl5/site_perl/5.12.0/darwin-thread-multi-2level
/usr/local/lib/perl5/site_perl/5.12.0
/usr/local/lib/perl5/5.12.0/darwin-thread-multi-2level
/usr/local/lib/perl5/5.12.0
/usr/local/lib/perl5/site_perl
.