Report for File-PathInfo-Ext-1.30

Back
From: metabase:user:314402c4-2aae-11df-837a-5e0a49663a4f
Subject: PASS File-PathInfo-Ext-1.30 v5.14.4 FreeBSD
Date: 2015-11-27T07:50:39Z

This distribution has been tested as part of the CPAN Testers
project, supporting the Perl programming language.  See
http://wiki.cpantesters.org/ for more information or email
questions to cpan-testers-discuss@perl.org


--
Dear Leo Charre,

This is a computer-generated report for File-PathInfo-Ext-1.30
on perl 5.14.4, created by CPAN-Reporter-1.2015.

Thank you for uploading your work to CPAN.  Congratulations!
All tests were successful.

Sections of this report:

    * Tester comments
    * Program output
    * Prerequisites
    * Environment and other context

------------------------------
TESTER COMMENTS
------------------------------

Additional comments from tester:

none provided

------------------------------
PROGRAM OUTPUT
------------------------------

Output from '/usr/bin/make test':

PERL_DL_NONLAZY=1 "/usr/perl5.14.4/bin/perl" "-MExtUtils::Command::MM" "-MTest::Harness" "-e" "undef *Test::Harness::Switches; test_harness(0, 'blib/lib', 'blib/arch')" t/*.t


===================
PART [1], ./T/PUBLIC_HTML/DEMO



===================
PART [2], ./T/PUBLIC_HTML/SEVEN.PDF



===================
PART [3], DEMO



===================
PART [4], ./T/PUBLIC_HTML/DEMO/HELLOKITTY.GIF



===================
PART [5], ./T/PUBLIC_HTML/DEMO/../DEMO/CIVIL.TXT



===================
PART [6], DEMO/../DEMO/CIVIL.TXT



===================
PART [7], DEMO/CIVIL.TXT

t/0.t ................. ok
newname cannot contain slashes at lib/File/PathInfo/Ext.pm line 16.
	File::PathInfo::Ext::rename(File::PathInfo::Ext=HASH(0x41413318), "awe/gfaw/egawg/\\pou*()^T)(T3wt//n23") called at t/1.t line 21
ls for [/usr/home/eserte/.cpan/build/2015112706/File-PathInfo-Ext-1.30-PX4DgH]
ls for [/usr/home/eserte/.cpan/build/2015112706/File-PathInfo-Ext-1.30-PX4DgH/tmp2]
ls for [/usr/home/eserte/.cpan/build/2015112706/File-PathInfo-Ext-1.30-PX4DgH/tmp2]
t/1.t ................. ok



 SET 2 

 # on move newloc is : /usr/home/eserte/.cpan/build/2015112706/File-PathInfo-Ext-1.30-PX4DgH/t/public_html/timp/incoming/movedme.txt

Can't move to '/usr/home/eserte/.cpan/build/2015112706/File-PathInfo-Ext-1.30-PX4DgH/t/public_html/timp/movedme.txt', destination already exists at lib/File/PathInfo/Ext.pm line 136.
	File::PathInfo::Ext::move(File::PathInfo::Ext=HASH(0x41c14510), "/usr/home/eserte/.cpan/build/2015112706/File-PathInfo-Ext-1.3"...) called at t/2_move.t line 92
t/2_move.t ............ ok
Can't move '/usr/home/eserte/.cpan/build/2015112706/File-PathInfo-Ext-1.30-PX4DgH/t/f1' to '/usr/home/eserte/.cpan/build/2015112706/File-PathInfo-Ext-1.30-PX4DgH/t/f2', already exists. at lib/File/PathInfo/Ext.pm line 152.
	File::PathInfo::Ext::move(File::PathInfo::Ext=HASH(0x41413330), "/usr/home/eserte/.cpan/build/2015112706/File-PathInfo-Ext-1.3"...) called at lib/File/PathInfo/Ext.pm line 17
	File::PathInfo::Ext::rename(File::PathInfo::Ext=HASH(0x41413330), "f2") called at t/3.t line 21
t/3.t ................. ok

### $val: undef

### $val: 'this is'

### $val: 'this is a val for errstr'


--------------
----



--------------
----


### $val: '/usr/home/eserte/.cpan/build/2015112706/File-PathInfo-Ext-1.30-PX4DgH/t/tmp/dir/file.txt'


--------------others
----

 arg './file.txt' = [/usr/home/eserte/.cpan/build/2015112706/File-PathInfo-Ext-1.30-PX4DgH/file.txt]
 err? 

 arg './' = [NO RESULT]
 err? Can't set destination to '/usr/home/eserte/.cpan/build/2015112706/File-PathInfo-Ext-1.30-PX4DgH', already exists.

 arg '.' = [NO RESULT]
 err? Can't resolve arg ..

 arg './../file.txt' = [/usr/home/eserte/.cpan/build/2015112706/file.txt]
 err? 

 arg './../bogus/thing' = [NO RESULT]
 err? Can't resolve arg ../bogus/thing

 arg './t/tmp/bogusdir/' = [NO RESULT]
 err? Can't resolve arg t/tmp/bogusdir/

t/4_resolve_arg_to.t .. ok
 # NOW try to dirs



### $r: '/usr/home/eserte/.cpan/build/2015112706/File-PathInfo-Ext-1.30-PX4DgH/t/tmp/dir/filealso.txt'
t/5_copy.t ............ ok
t/99_cleanup.t ........ ok
All tests successful.
Files=7, Tests=148, 10 wallclock secs ( 0.16 usr  0.05 sys +  1.23 cusr  0.41 csys =  1.84 CPU)
Result: PASS

------------------------------
PREREQUISITES
------------------------------

Prerequisite modules loaded:

requires:

    Module              Need Have    
    ------------------- ---- --------
    Carp                1    1.38    
    Cwd                 3    3.60    
    Digest::MD5         2    2.54    
    File::Copy          2    2.21    
    File::Path          1    2.12    
    File::PathInfo      1.27 1.27    
    File::Type          0    0.22    
    Test::Simple        0    1.001014
    YAML                0    1.15    

build_requires:

    Module              Need Have    
    ------------------- ---- --------
    ExtUtils::MakeMaker 0    7.08    

configure_requires:

    Module              Need Have    
    ------------------- ---- --------
    ExtUtils::MakeMaker 0    7.08    


------------------------------
ENVIRONMENT AND OTHER CONTEXT
------------------------------

Environment variables:

    LC_ALL = de_DE.ISO8859-1
    PATH = /usr/local/bin:/usr/bin:/bin:/usr/local/sbin:/usr/sbin:/sbin:/home/cpansand/bin/freebsd9.3:/home/cpansand/bin/sh:/home/cpansand/bin:/usr/games:/home/cpansand/devel:/usr/home/eserte/src/srezic-misc/scripts
    PERL5LIB = 
    PERL5OPT = 
    PERL5_CPANPLUS_IS_RUNNING = 315
    PERL5_CPAN_IS_RUNNING = 315
    PERL5_CPAN_IS_RUNNING_IN_RECURSION = 99541,315
    PERLDOC = -MPod::Perldoc::ToTextOverstrike
    PERL_BATCH = yes
    PERL_CANARY_STABILITY_NOPROMPT = 1
    PERL_CPAN_REPORTER_CONFIG = /var/tmp/cpansmoker-1023/2015112706/cpanreporter_002_config.ini
    PERL_EXTUTILS_AUTOINSTALL = --defaultdeps
    SHELL = /usr/local/bin/zsh
    TERM = screen
    TMPDIR = /var/tmp/cpansmoker-1023/2015112706

Perl special variables (and OS-specific diagnostics, for MSWin32):

    $^X = /usr/perl5.14.4/bin/perl
    $UID/$EUID = 1023 / 1023
    $GID = 1023 1023
    $EGID = 1023 1023

Perl module toolchain versions installed:

    Module              Have    
    ------------------- --------
    CPAN                2.10    
    CPAN::Meta          2.150005
    Cwd                 3.60    
    ExtUtils::CBuilder  0.280224
    ExtUtils::Command   7.08    
    ExtUtils::Install   2.04    
    ExtUtils::MakeMaker 7.08    
    ExtUtils::Manifest  1.70    
    ExtUtils::ParseXS   3.30    
    File::Spec          3.60    
    JSON                2.90    
    JSON::PP            2.27300 
    Module::Build       0.4214  
    Module::Signature   0.79    
    Parse::CPAN::Meta   1.4414  
    Test::Harness       3.35    
    Test::More          1.001014
    YAML                1.15    
    YAML::Syck          1.29    
    version             0.9912  


--

Summary of my perl5 (revision 5 version 14 subversion 4) configuration:
   
  Platform:
    osname=freebsd, osvers=9.2-release-p4, archname=amd64-freebsd
    uname='freebsd cvrsnica-freebsd-92 9.2-release-p4 freebsd 9.2-release-p4 #0: tue apr 8 18:08:22 utc 2014 root@amd64-builder.daemonology.net:usrobjusrsrcsysgeneric amd64 '
    config_args='-ds -e -Dprefix=/usr/perl5.14.4'
    hint=recommended, useposix=true, d_sigaction=define
    useithreads=undef, usemultiplicity=undef
    useperlio=define, d_sfio=undef, uselargefiles=define, usesocks=undef
    use64bitint=define, use64bitall=define, uselongdouble=undef
    usemymalloc=n, bincompat5005=undef
  Compiler:
    cc='cc', ccflags ='-DHAS_FPSETMASK -DHAS_FLOATINGPOINT_H -fno-strict-aliasing -pipe -fstack-protector -I/usr/local/include',
    optimize='-O',
    cppflags='-DHAS_FPSETMASK -DHAS_FLOATINGPOINT_H -fno-strict-aliasing -pipe -fstack-protector -I/usr/local/include'
    ccversion='', gccversion='4.2.1 20070831 patched [FreeBSD]', gccosandvers=''
    intsize=4, longsize=8, ptrsize=8, doublesize=8, byteorder=12345678
    d_longlong=define, longlongsize=8, d_longdbl=define, longdblsize=16
    ivtype='long', ivsize=8, nvtype='double', nvsize=8, Off_t='off_t', lseeksize=8
    alignbytes=8, prototype=define
  Linker and Libraries:
    ld='cc', ldflags ='-Wl,-E  -fstack-protector -L/usr/local/lib'
    libpth=/usr/lib /usr/local/lib
    libs=-lgdbm -lm -lcrypt -lutil -lc
    perllibs=-lm -lcrypt -lutil -lc
    libc=, so=so, useshrplib=false, libperl=libperl.a
    gnulibc_version=''
  Dynamic Linking:
    dlsrc=dl_dlopen.xs, dlext=so, d_dlsymun=undef, ccdlflags=' '
    cccdlflags='-DPIC -fPIC', lddlflags='-shared  -L/usr/local/lib -fstack-protector'


Characteristics of this binary (from libperl): 
  Compile-time options: PERL_DONT_CREATE_GVSV PERL_MALLOC_WRAP
                        PERL_PRESERVE_IVUV USE_64_BIT_ALL USE_64_BIT_INT
                        USE_LARGE_FILES USE_PERLIO USE_PERL_ATOF
  Built under freebsd
  Compiled at May 16 2014 00:20:44
  %ENV:
    PERL5LIB=""
    PERL5OPT=""
    PERL5_CPANPLUS_IS_RUNNING="315"
    PERL5_CPAN_IS_RUNNING="315"
    PERL5_CPAN_IS_RUNNING_IN_RECURSION="99541,315"
    PERLDOC="-MPod::Perldoc::ToTextOverstrike"
    PERL_BATCH="yes"
    PERL_CANARY_STABILITY_NOPROMPT="1"
    PERL_CPAN_REPORTER_CONFIG="/var/tmp/cpansmoker-1023/2015112706/cpanreporter_002_config.ini"
    PERL_EXTUTILS_AUTOINSTALL="--defaultdeps"
  @INC:
    /usr/perl5.14.4/lib/site_perl/5.14.4/amd64-freebsd
    /usr/perl5.14.4/lib/site_perl/5.14.4
    /usr/perl5.14.4/lib/5.14.4/amd64-freebsd
    /usr/perl5.14.4/lib/5.14.4
    .