Back
From: metabase:user:30f4dfbe-2aae-11df-837a-5e0a49663a4f
Subject: PASS Plack-Middleware-ServerStatus-Lite-0.36 v5.20.3 Mac OS X
Date: 2016-09-21T01:41:43Z
This distribution has been tested as part of the CPAN Testers
project, supporting the Perl programming language. See
http://wiki.cpantesters.org/ for more information or email
questions to cpan-testers-discuss@perl.org
--
Dear Masahiro Nagano,
This is a computer-generated report for Plack-Middleware-ServerStatus-Lite-0.36
on perl 5.20.3, created by CPAN-Reporter-1.2018.
Thank you for uploading your work to CPAN. Congratulations!
All tests were successful.
Sections of this report:
* Tester comments
* Program output
* Prerequisites
* Environment and other context
------------------------------
TESTER COMMENTS
------------------------------
Additional comments from tester:
this report is from an automated smoke testing program
and was not reviewed by a human for accuracy
------------------------------
PROGRAM OUTPUT
------------------------------
Output from './Build test':
t/00_compile.t .............. ok
t/01_builder.t .............. ok
using Starman for test at t/02_server.t line 29.
2016/09/20-21:41:25 Starman::Server (type Net::Server::PreFork) starting! pid(44396)
Resolved [localhost]:50180 to [::1]:50180, IPv6
Resolved [localhost]:50180 to [127.0.0.1]:50180, IPv4
Resolved [localhost]:50180 to [fe80::1%lo0]:50180, IPv6
Binding to TCP port 50180 on host ::1 with IPv6
Binding to TCP port 50180 on host 127.0.0.1 with IPv4
Binding to TCP port 50180 on host fe80::1%lo0 with IPv6
Setting gid to "14 14 14 5344 37191 527 37223 241"
Passed serialize value of none is incompatible with multiple ports - using default serialize
2016/09/20-21:41:28 Server closing!
t/02_server.t ............... ok
using Starman for test at t/03_server_delayed_res.t line 29.
2016/09/20-21:41:29 Starman::Server (type Net::Server::PreFork) starting! pid(44406)
Resolved [localhost]:50958 to [::1]:50958, IPv6
Resolved [localhost]:50958 to [127.0.0.1]:50958, IPv4
Resolved [localhost]:50958 to [fe80::1%lo0]:50958, IPv6
Binding to TCP port 50958 on host ::1 with IPv6
Binding to TCP port 50958 on host 127.0.0.1 with IPv4
Binding to TCP port 50958 on host fe80::1%lo0 with IPv6
Setting gid to "14 14 14 5344 37191 527 37223 241"
Passed serialize value of none is incompatible with multiple ports - using default serialize
2016/09/20-21:41:32 Server closing!
using Starman for test at t/03_server_delayed_res.t line 89.
2016/09/20-21:41:32 Starman::Server (type Net::Server::PreFork) starting! pid(44415)
Resolved [localhost]:50703 to [::1]:50703, IPv6
Resolved [localhost]:50703 to [127.0.0.1]:50703, IPv4
Resolved [localhost]:50703 to [fe80::1%lo0]:50703, IPv6
Binding to TCP port 50703 on host ::1 with IPv6
Binding to TCP port 50703 on host 127.0.0.1 with IPv4
Binding to TCP port 50703 on host fe80::1%lo0 with IPv6
Setting gid to "14 14 14 5344 37191 527 37223 241"
Passed serialize value of none is incompatible with multiple ports - using default serialize
2016/09/20-21:41:35 Server closing!
t/03_server_delayed_res.t ... ok
using Starman for test at t/04_json.t line 31.
2016/09/20-21:41:35 Starman::Server (type Net::Server::PreFork) starting! pid(44427)
Resolved [localhost]:50582 to [::1]:50582, IPv6
Resolved [localhost]:50582 to [127.0.0.1]:50582, IPv4
Resolved [localhost]:50582 to [fe80::1%lo0]:50582, IPv6
Binding to TCP port 50582 on host ::1 with IPv6
Binding to TCP port 50582 on host 127.0.0.1 with IPv4
Binding to TCP port 50582 on host fe80::1%lo0 with IPv6
Setting gid to "14 14 14 5344 37191 527 37223 241"
Passed serialize value of none is incompatible with multiple ports - using default serialize
2016/09/20-21:41:38 Server closing!
t/04_json.t ................. ok
using Starman for test at t/05_counter.t line 31.
2016/09/20-21:41:38 Starman::Server (type Net::Server::PreFork) starting! pid(44437)
Resolved [localhost]:50341 to [::1]:50341, IPv6
Resolved [localhost]:50341 to [127.0.0.1]:50341, IPv4
Resolved [localhost]:50341 to [fe80::1%lo0]:50341, IPv6
Binding to TCP port 50341 on host ::1 with IPv6
Binding to TCP port 50341 on host 127.0.0.1 with IPv4
Binding to TCP port 50341 on host fe80::1%lo0 with IPv6
Setting gid to "14 14 14 5344 37191 527 37223 241"
Passed serialize value of none is incompatible with multiple ports - using default serialize
2016/09/20-21:41:38 Server closing!
t/05_counter.t .............. ok
using Starman for test at t/06_counter_delayed_res.t line 33.
2016/09/20-21:41:38 Starman::Server (type Net::Server::PreFork) starting! pid(44446)
Resolved [localhost]:51044 to [::1]:51044, IPv6
Resolved [localhost]:51044 to [127.0.0.1]:51044, IPv4
Resolved [localhost]:51044 to [fe80::1%lo0]:51044, IPv6
Binding to TCP port 51044 on host ::1 with IPv6
Binding to TCP port 51044 on host 127.0.0.1 with IPv4
Binding to TCP port 51044 on host fe80::1%lo0 with IPv6
Setting gid to "14 14 14 5344 37191 527 37223 241"
Passed serialize value of none is incompatible with multiple ports - using default serialize
2016/09/20-21:41:38 Server closing!
using Starman for test at t/06_counter_delayed_res.t line 95.
2016/09/20-21:41:38 Starman::Server (type Net::Server::PreFork) starting! pid(44454)
Resolved [localhost]:51034 to [::1]:51034, IPv6
Resolved [localhost]:51034 to [127.0.0.1]:51034, IPv4
Resolved [localhost]:51034 to [fe80::1%lo0]:51034, IPv6
Binding to TCP port 51034 on host ::1 with IPv6
Binding to TCP port 51034 on host 127.0.0.1 with IPv4
Binding to TCP port 51034 on host fe80::1%lo0 with IPv6
Setting gid to "14 14 14 5344 37191 527 37223 241"
Passed serialize value of none is incompatible with multiple ports - using default serialize
2016/09/20-21:41:38 Server closing!
t/06_counter_delayed_res.t .. ok
using Starman for test at t/07_skip_ps.t line 29.
2016/09/20-21:41:38 Starman::Server (type Net::Server::PreFork) starting! pid(44463)
Resolved [localhost]:50149 to [::1]:50149, IPv6
Resolved [localhost]:50149 to [127.0.0.1]:50149, IPv4
Resolved [localhost]:50149 to [fe80::1%lo0]:50149, IPv6
Binding to TCP port 50149 on host ::1 with IPv6
Binding to TCP port 50149 on host 127.0.0.1 with IPv4
Binding to TCP port 50149 on host fe80::1%lo0 with IPv6
Setting gid to "14 14 14 5344 37191 527 37223 241"
Passed serialize value of none is incompatible with multiple ports - using default serialize
2016/09/20-21:41:40 Server closing!
t/07_skip_ps.t .............. ok
2016/09/20-21:41:40 Starman::Server (type Net::Server::PreFork) starting! pid(44471)
Resolved [localhost]:50226 to [::1]:50226, IPv6
Resolved [localhost]:50226 to [127.0.0.1]:50226, IPv4
Resolved [localhost]:50226 to [fe80::1%lo0]:50226, IPv6
Binding to TCP port 50226 on host ::1 with IPv6
Binding to TCP port 50226 on host 127.0.0.1 with IPv4
Binding to TCP port 50226 on host fe80::1%lo0 with IPv6
Setting gid to "14 14 14 5344 37191 527 37223 241"
Passed serialize value of none is incompatible with multiple ports - using default serialize
2016/09/20-21:41:43 Server closing!
t/08_command.t .............. ok
All tests successful.
Files=9, Tests=86, 18 wallclock secs ( 0.03 usr 0.02 sys + 1.26 cusr 0.51 csys = 1.82 CPU)
Result: PASS
------------------------------
PREREQUISITES
------------------------------
Prerequisite modules loaded:
requires:
Module Need Have
-------------------- ------ --------
Getopt::Long 2.38 2.47
JSON 2.53 2.90
Net::CIDR::Lite 0 0.21
Parallel::Scoreboard 0.03 0.07
parent 0 0.234
Plack::Middleware 0 0
Pod::Usage 0 1.67
Try::Tiny 0.09 0.22
build_requires:
Module Need Have
-------------------- ------ --------
B 0 1.48
Capture::Tiny 0 0.30
LWP::UserAgent 0 6.15
Starman 0.3013 0.4014
Test::More 0 1.302049
Test::SharedFork 0 0.34
Test::TCP 2.00 2.14
configure_requires:
Module Need Have
-------------------- ------ --------
Module::Build 0.38 0.4214
------------------------------
ENVIRONMENT AND OTHER CONTEXT
------------------------------
Environment variables:
AUTOMATED_TESTING = 1
LANG = en_US.UTF-8
LC_ALL = POSIX
LDFLAGS =
PATH = /Users/hornenj/perl5/perlbrew/bin:/Users/hornenj/perl5/perlbrew/perls/perl-5.20.3/bin:/Users/hornenj/perl5/perlbrew/bin:/Users/hornenj/bin:/sw/lib/perl5/ExtUtils:/sw/bin:/am/ncbiapdata/bin:/usr/bin:/bin:/usr/X11R6/bin:/netopt/ncbi_tools/bin:/usr/local/ncbi/blast/bin:/net/traces01.be-md.ncbi.nlm.nih.gov/trace_software/vdb/mac/release/x86_64/bin
PERL5LIB = /Users/hornenj/.cpan/build/Parallel-Scoreboard-0.07-mi3lgF/blib/arch:/Users/hornenj/.cpan/build/Parallel-Scoreboard-0.07-mi3lgF/blib/lib:/Users/hornenj/.cpan/build/Class-Accessor-Lite-0.08-VgdkQ_/blib/arch:/Users/hornenj/.cpan/build/Class-Accessor-Lite-0.08-VgdkQ_/blib/lib:/Users/hornenj/.cpan/build/Starman-0.4014-ai7UWr/blib/arch:/Users/hornenj/.cpan/build/Starman-0.4014-ai7UWr/blib/lib:/Users/hornenj/.cpan/build/HTTP-Parser-XS-0.17-80Ddy4/blib/arch:/Users/hornenj/.cpan/build/HTTP-Parser-XS-0.17-80Ddy4/blib/lib:/Users/hornenj/.cpan/build/Net-Server-2.008-cC2E7W/blib/arch:/Users/hornenj/.cpan/build/Net-Server-2.008-cC2E7W/blib/lib:/Users/hornenj/.cpan/build/Net-CIDR-Lite-0.21-PR1ycB/blib/arch:/Users/hornenj/.cpan/build/Net-CIDR-Lite-0.21-PR1ycB/blib/lib
PERL5OPT =
PERL5_CPANPLUS_IS_RUNNING = 43740
PERL5_CPAN_IS_RUNNING = 43740
PERL5_MINISMOKEBOX = 0.58
PERLBREW_BASHRC_VERSION = 0.76
PERLBREW_HOME = /Users/hornenj/.perlbrew
PERLBREW_LIB =
PERLBREW_MANPATH = /Users/hornenj/perl5/perlbrew/perls/perl-5.20.3/man
PERLBREW_PATH = /Users/hornenj/perl5/perlbrew/bin:/Users/hornenj/perl5/perlbrew/perls/perl-5.20.3/bin
PERLBREW_PERL = perl-5.20.3
PERLBREW_ROOT = /Users/hornenj/perl5/perlbrew
PERLBREW_VERSION = 0.76
PERL_EXTUTILS_AUTOINSTALL = --defaultdeps
PERL_LOCAL_LIB_ROOT =
PERL_MM_USE_DEFAULT = 1
SHELL = /bin/bash
TERM = xterm-256color
TMPDIR = /var/folders/pz/pd7y1qjs6s3cbk170cw50fjc000c61/T/
ac_cv_path_INTLTOOL_PERL = /usr/bin/perl
Perl special variables (and OS-specific diagnostics, for MSWin32):
$^X = /Users/hornenj/perl5/perlbrew/perls/perl-5.20.3/bin/perl5.20.3
$UID/$EUID = 12481 / 12481
$GID = 14 14 5344 37191 527 37223 241
$EGID = 14 14 5344 37191 527 37223 241
Perl module toolchain versions installed:
Module Have
------------------- --------
CPAN 2.10
CPAN::Meta 2.150005
Cwd 3.48_01
ExtUtils::CBuilder 0.280224
ExtUtils::Command 7.22
ExtUtils::Install 2.04
ExtUtils::MakeMaker 7.22
ExtUtils::Manifest 1.70
ExtUtils::ParseXS 3.30
File::Spec 3.48_01
JSON 2.90
JSON::PP 2.27400
Module::Build 0.4214
Module::Signature n/a
Parse::CPAN::Meta 1.4422
Test::Harness 3.36
Test::More 1.302049
YAML 1.15
YAML::Syck 1.29
version 0.9912
--
Summary of my perl5 (revision 5 version 20 subversion 3) configuration:
Platform:
osname=darwin, osvers=14.5.0, archname=darwin-thread-multi-2level
uname='darwin ncbimac2027.ncbi.nlm.nih.gov 14.5.0 darwin kernel version 14.5.0: wed jul 29 02:26:53 pdt 2015; root:xnu-2782.40.9~1release_x86_64 x86_64 '
config_args='-de -Dprefix=/Users/hornenj/perl5/perlbrew/perls/perl-5.20.3 -Duseithreads -Dusemultiplicity -Dusedevel -Accflags=-O2 -W -Wformat=2 -Wswitch -Wshadow -Wwrite-strings -Wuninitialized -Wall -pipe -mtune=native -march=native -fomit-frame-pointer -msse2 -msse -mmmx -pedantic -D_FORTIFY_SOURCE=2 -Wpointer-arith -Wstrict-prototypes -fstack-protector -Wstack-protector -Wextra -Wbad-function-cast -Wcast-align -Wcast-qual -Wdisabled-optimization -Wendif-labels -Wfloat-equal -Wformat-nonliteral -Winline -Wmissing-declarations -Wmissing-prototypes -Wnested-externs -Wpointer-arith -Wundef -Wformat-security -fassociative-math -Acc=cc -Aeval:scriptdir=/Users/hornenj/perl5/perlbrew/perls/perl-5.20.3/bin'
hint=recommended, useposix=true, d_sigaction=define
useithreads=define, usemultiplicity=define
use64bitint=define, use64bitall=define, uselongdouble=undef
usemymalloc=n, bincompat5005=undef
Compiler:
cc=' cc', ccflags ='-fno-common -DPERL_DARWIN -O2 -W -Wformat=2 -Wswitch -Wshadow -Wwrite-strings -Wuninitialized -Wall -pipe -mtune=native -march=native -fomit-frame-pointer -msse2 -msse -mmmx -pedantic -D_FORTIFY_SOURCE=2 -Wpointer-arith -Wstrict-prototypes -fstack-protector -Wstack-protector -Wextra -Wbad-function-cast -Wcast-align -Wcast-qual -Wdisabled-optimization -Wendif-labels -Wfloat-equal -Wformat-nonliteral -Winline -Wmissing-declarations -Wmissing-prototypes -Wnested-externs -Wpointer-arith -Wundef -Wformat-security -fassociative-math -fno-strict-aliasing -I/usr/local/include',
optimize='-O3',
cppflags='-fno-common -DPERL_DARWIN -O2 -W -Wformat=2 -Wswitch -Wshadow -Wwrite-strings -Wuninitialized -Wall -pipe -mtune=native -march=native -fomit-frame-pointer -msse2 -msse -mmmx -pedantic -D_FORTIFY_SOURCE=2 -Wpointer-arith -Wstrict-prototypes -fstack-protector -Wstack-protector -Wextra -Wbad-function-cast -Wcast-align -Wcast-qual -Wdisabled-optimization -Wendif-labels -Wfloat-equal -Wformat-nonliteral -Winline -Wmissing-declarations -Wmissing-prototypes -Wnested-externs -Wpointer-arith -Wundef -Wformat-security -fassociative-math -fno-strict-aliasing -I/usr/local/include'
ccversion='', gccversion='4.2.1 Compatible Apple LLVM 6.0 (clang-600.0.56)', gccosandvers=''
intsize=4, longsize=8, ptrsize=8, doublesize=8, byteorder=12345678
d_longlong=define, longlongsize=8, d_longdbl=define, longdblsize=16
ivtype='long', ivsize=8, nvtype='double', nvsize=8, Off_t='off_t', lseeksize=8
alignbytes=8, prototype=define
Linker and Libraries:
ld='env MACOSX_DEPLOYMENT_TARGET=10.3 cc', ldflags =' -fstack-protector -L/usr/local/lib'
libpth=/Applications/Xcode.app/Contents/Developer/Toolchains/XcodeDefault.xctoolchain/usr/bin/../lib/clang/6.0/lib /Applications/Xcode.app/Contents/Developer/Toolchains/XcodeDefault.xctoolchain/usr/lib /Applications/Xcode.app/Contents/Developer/Platforms/MacOSX.platform/Developer/SDKs/MacOSX10.10.sdk/usr/lib /usr/local/lib /usr/lib
libs=-lpthread -ldbm -ldl -lm -lutil -lc
perllibs=-lpthread -ldl -lm -lutil -lc
libc=, so=dylib, useshrplib=false, libperl=libperl.a
gnulibc_version=''
Dynamic Linking:
dlsrc=dl_dlopen.xs, dlext=bundle, d_dlsymun=undef, ccdlflags=' '
cccdlflags=' ', lddlflags=' -bundle -undefined dynamic_lookup -L/usr/local/lib -fstack-protector'
Characteristics of this binary (from libperl):
Compile-time options: HAS_TIMES MULTIPLICITY PERLIO_LAYERS
PERL_DONT_CREATE_GVSV
PERL_HASH_FUNC_ONE_AT_A_TIME_HARD
PERL_IMPLICIT_CONTEXT PERL_MALLOC_WRAP
PERL_NEW_COPY_ON_WRITE PERL_PRESERVE_IVUV
PERL_USE_DEVEL USE_64_BIT_ALL USE_64_BIT_INT
USE_ITHREADS USE_LARGE_FILES USE_LOCALE
USE_LOCALE_COLLATE USE_LOCALE_CTYPE
USE_LOCALE_NUMERIC USE_PERLIO USE_PERL_ATOF
USE_REENTRANT_API
Locally applied patches:
Devel::PatchPerl 1.30
Built under darwin
Compiled at Sep 14 2015 07:51:22
%ENV:
PERL5LIB="/Users/hornenj/.cpan/build/Parallel-Scoreboard-0.07-mi3lgF/blib/arch:/Users/hornenj/.cpan/build/Parallel-Scoreboard-0.07-mi3lgF/blib/lib:/Users/hornenj/.cpan/build/Class-Accessor-Lite-0.08-VgdkQ_/blib/arch:/Users/hornenj/.cpan/build/Class-Accessor-Lite-0.08-VgdkQ_/blib/lib:/Users/hornenj/.cpan/build/Starman-0.4014-ai7UWr/blib/arch:/Users/hornenj/.cpan/build/Starman-0.4014-ai7UWr/blib/lib:/Users/hornenj/.cpan/build/HTTP-Parser-XS-0.17-80Ddy4/blib/arch:/Users/hornenj/.cpan/build/HTTP-Parser-XS-0.17-80Ddy4/blib/lib:/Users/hornenj/.cpan/build/Net-Server-2.008-cC2E7W/blib/arch:/Users/hornenj/.cpan/build/Net-Server-2.008-cC2E7W/blib/lib:/Users/hornenj/.cpan/build/Net-CIDR-Lite-0.21-PR1ycB/blib/arch:/Users/hornenj/.cpan/build/Net-CIDR-Lite-0.21-PR1ycB/blib/lib"
PERL5OPT=""
PERL5_CPANPLUS_IS_RUNNING="43740"
PERL5_CPAN_IS_RUNNING="43740"
PERL5_MINISMOKEBOX="0.58"
PERLBREW_BASHRC_VERSION="0.76"
PERLBREW_HOME="/Users/hornenj/.perlbrew"
PERLBREW_LIB=""
PERLBREW_MANPATH="/Users/hornenj/perl5/perlbrew/perls/perl-5.20.3/man"
PERLBREW_PATH="/Users/hornenj/perl5/perlbrew/bin:/Users/hornenj/perl5/perlbrew/perls/perl-5.20.3/bin"
PERLBREW_PERL="perl-5.20.3"
PERLBREW_ROOT="/Users/hornenj/perl5/perlbrew"
PERLBREW_VERSION="0.76"
PERL_EXTUTILS_AUTOINSTALL="--defaultdeps"
PERL_LOCAL_LIB_ROOT=""
PERL_MM_USE_DEFAULT="1"
@INC:
/Users/hornenj/.cpan/build/Parallel-Scoreboard-0.07-mi3lgF/blib/arch
/Users/hornenj/.cpan/build/Parallel-Scoreboard-0.07-mi3lgF/blib/lib
/Users/hornenj/.cpan/build/Class-Accessor-Lite-0.08-VgdkQ_/blib/arch
/Users/hornenj/.cpan/build/Class-Accessor-Lite-0.08-VgdkQ_/blib/lib
/Users/hornenj/.cpan/build/Starman-0.4014-ai7UWr/blib/arch
/Users/hornenj/.cpan/build/Starman-0.4014-ai7UWr/blib/lib
/Users/hornenj/.cpan/build/HTTP-Parser-XS-0.17-80Ddy4/blib/arch
/Users/hornenj/.cpan/build/HTTP-Parser-XS-0.17-80Ddy4/blib/lib
/Users/hornenj/.cpan/build/Net-Server-2.008-cC2E7W/blib/arch
/Users/hornenj/.cpan/build/Net-Server-2.008-cC2E7W/blib/lib
/Users/hornenj/.cpan/build/Net-CIDR-Lite-0.21-PR1ycB/blib/arch
/Users/hornenj/.cpan/build/Net-CIDR-Lite-0.21-PR1ycB/blib/lib
/Users/hornenj/perl5/perlbrew/perls/perl-5.20.3/lib/site_perl/5.20.3/darwin-thread-multi-2level
/Users/hornenj/perl5/perlbrew/perls/perl-5.20.3/lib/site_perl/5.20.3
/Users/hornenj/perl5/perlbrew/perls/perl-5.20.3/lib/5.20.3/darwin-thread-multi-2level
/Users/hornenj/perl5/perlbrew/perls/perl-5.20.3/lib/5.20.3
.