MaxMind-DB-Reader v1.000014 Perl 5 v5.32.0 x86_64-linux-ld
- Status
- Pass
- From
- Andreas J. König (ANDK)
- Dist
-
MaxMind-DB-Reader v1.000014
- Platform
- Perl 5 v5.32.0 x86_64-linux-ld
- Date
- 2024-05-17 00:29:41
- ID
- 8cf8e0b0-13e4-11ef-a5a5-1c1fe999563c
This distribution has been tested as part of the CPAN Testers
project, supporting the Perl programming language. See
http://wiki.cpantesters.org/ for more information or email
questions to cpan-testers-discuss@perl.org
--
Dear MaxMind, Inc.,
This is a computer-generated report for MaxMind-DB-Reader-1.000014
on perl 5.32.0, created by CPAN-Reporter-1.2019.
Thank you for uploading your work to CPAN. Congratulations!
All tests were successful.
Sections of this report:
* Tester comments
* Program output
* Prerequisites
* Environment and other context
------------------------------
TESTER COMMENTS
------------------------------
Additional comments from tester:
this report is from an automated smoke testing program
and was not reviewed by a human for accuracy
------------------------------
PROGRAM OUTPUT
------------------------------
Output from '/usr/bin/make test':
PERL_DL_NONLAZY=1 "/home/sand/src/perl/repoperls/installed-perls/host/k93msid/v5.32.0/fc43/bin/perl" "-MExtUtils::Command::MM" "-MTest::Harness" "-e" "undef *Test::Harness::Switches; test_harness(0, 'blib/lib', 'blib/arch')" t/*.t t/MaxMind/DB/*.t t/MaxMind/DB/Reader/*.t t/MaxMind/DB/Reader/Decoder-types/*.t
#
# Versions for all modules listed in MYMETA.json (including optional ones):
#
# === Configure Requires ===
#
# Module Want Have
# ------------------- ---- ----
# ExtUtils::MakeMaker any 7.70
#
# === Build Requires ===
#
# Module Want Have
# ------------------- ---- ----
# ExtUtils::MakeMaker any 7.70
#
# === Test Requires ===
#
# Module Want Have
# ------------------------------- ---- --------
# Exporter any 5.74
# ExtUtils::MakeMaker any 7.70
# File::Spec any 3.78
# Path::Class 0.27 0.37
# Scalar::Util 1.42 1.63
# Test::Bits any 0.02
# Test::Fatal any 0.017
# Test::MaxMind::DB::Common::Data any 0.040001
# Test::MaxMind::DB::Common::Util any 0.040001
# Test::More 0.96 1.302195
# Test::Number::Delta any 1.06
# Test::Requires any 0.11
# lib any 0.65
# utf8 any 1.22
#
# === Test Recommends ===
#
# Module Want Have
# ---------- -------- --------
# CPAN::Meta 2.120900 2.150010
#
# === Runtime Requires ===
#
# Module Want Have
# ------------------------- -------- --------
# Carp any 1.50
# Data::IEEE754 any 0.02
# Data::Printer any 1.002001
# Data::Validate::IP 0.25 0.31
# DateTime any 1.65
# Encode any 3.21
# Getopt::Long any 2.57
# List::AllUtils any 0.19
# Math::BigInt any 2.003002
# MaxMind::DB::Common 0.040001 0.040001
# MaxMind::DB::Metadata any 0.040001
# MaxMind::DB::Role::Debugs any 0.040001
# MaxMind::DB::Types any 0.040001
# Module::Implementation any 0.09
# Moo 1.003000 2.005005
# Moo::Role any 2.005005
# MooX::StrictConstructor any 0.011
# Role::Tiny 1.003002 2.002004
# Socket 1.87 2.029
# autodie any 2.32
# bytes any 1.07
# constant any 1.33
# namespace::autoclean any 0.29
# strict any 1.11
# warnings any 1.47
#
# === Runtime Suggests ===
#
# Module Want Have
# ----------------------- -------- -------
# MaxMind::DB::Reader::XS 1.000003 missing
#
t/00-report-prereqs.t ............................. ok
t/MaxMind/DB/Reader-broken-databases.t ............ ok
t/MaxMind/DB/Reader-decoder.t ..................... ok
t/MaxMind/DB/Reader-no-ipv4-search-tree.t ......... ok
t/MaxMind/DB/Reader.t ............................. ok
t/MaxMind/DB/Reader/Decoder-maps-with-pointers.t .. ok
t/MaxMind/DB/Reader/Decoder-types/array.t ......... ok
t/MaxMind/DB/Reader/Decoder-types/boolean.t ....... ok
t/MaxMind/DB/Reader/Decoder-types/bytes.t ......... ok
t/MaxMind/DB/Reader/Decoder-types/container.t ..... ok
t/MaxMind/DB/Reader/Decoder-types/double.t ........ ok
t/MaxMind/DB/Reader/Decoder-types/end_marker.t .... ok
t/MaxMind/DB/Reader/Decoder-types/float.t ......... ok
t/MaxMind/DB/Reader/Decoder-types/int32.t ......... ok
t/MaxMind/DB/Reader/Decoder-types/map.t ........... ok
t/MaxMind/DB/Reader/Decoder-types/pointer.t ....... ok
t/MaxMind/DB/Reader/Decoder-types/uint128.t ....... ok
t/MaxMind/DB/Reader/Decoder-types/uint16.t ........ ok
t/MaxMind/DB/Reader/Decoder-types/uint32.t ........ ok
t/MaxMind/DB/Reader/Decoder-types/uint64.t ........ ok
t/MaxMind/DB/Reader/Decoder-types/utf8_string.t ... ok
t/MaxMind/DB/Reader/Decoder.t ..................... ok
t/MaxMind/DB/Reader/NoMoose.t ..................... ok
All tests successful.
Files=23, Tests=485, 12 wallclock secs ( 0.12 usr 0.05 sys + 5.76 cusr 0.98 csys = 6.91 CPU)
Result: PASS
------------------------------
PREREQUISITES
------------------------------
Prerequisite modules loaded:
requires:
Module Need Have
------------------------------- -------- --------
autodie 0 2.32
bytes 0 1.07
Carp 0 1.50
constant 0 1.33
Data::IEEE754 0 0.02
Data::Printer 0 1.002001
Data::Validate::IP 0.25 0.31
DateTime 0 1.65
Encode 0 3.21
Getopt::Long 0 2.57
List::AllUtils 0 0.19
Math::BigInt 0 2.003002
MaxMind::DB::Common 0.040001 0.040001
MaxMind::DB::Metadata 0 0.040001
MaxMind::DB::Role::Debugs 0 0.040001
MaxMind::DB::Types 0 0.040001
Module::Implementation 0 0.09
Moo 1.003000 2.005005
Moo::Role 0 2.005005
MooX::StrictConstructor 0 0.011
namespace::autoclean 0 0.29
perl 5.010000 5.032000
Role::Tiny 1.003002 2.002004
Socket 1.87 2.029
strict 0 1.11
warnings 0 1.47
build_requires:
Module Need Have
------------------------------- -------- --------
Exporter 0 5.74
ExtUtils::MakeMaker 0 7.70
File::Spec 0 3.78
lib 0 0.65
Path::Class 0.27 0.37
Scalar::Util 1.42 1.63
Test::Bits 0 0.02
Test::Fatal 0 0.017
Test::MaxMind::DB::Common::Data 0 0.040001
Test::MaxMind::DB::Common::Util 0 0.040001
Test::More 0.96 1.302195
Test::Number::Delta 0 1.06
Test::Requires 0 0.11
utf8 0 1.22
configure_requires:
Module Need Have
------------------------------- -------- --------
ExtUtils::MakeMaker 0 7.70
------------------------------
ENVIRONMENT AND OTHER CONTEXT
------------------------------
Environment variables:
AUTOMATED_TESTING = 1
LANG = en_US.UTF-8
LANGUAGE = en_US:en
PATH = /home/sand/bin:/usr/local/bin:/usr/bin:/bin:/usr/games:/usr/local/perl/bin:/usr/X11/bin:/sbin:/usr/sbin
PERL5LIB =
PERL5OPT =
PERL5_CPANPLUS_IS_RUNNING = 2080459
PERL5_CPAN_IS_RUNNING = 2080459
PERL_CANARY_STABILITY_NOPROMPT = 1
PERL_MM_USE_DEFAULT = 1
PERL_USE_UNSAFE_INC = 1
SHELL = /usr/bin/zsh
TERM = screen
Perl special variables (and OS-specific diagnostics, for MSWin32):
$^X = /home/sand/src/perl/repoperls/installed-perls/host/k93msid/v5.32.0/fc43/bin/perl
$UID/$EUID = 1005 / 1005
$GID = 1005 1005
$EGID = 1005 1005
Perl module toolchain versions installed:
Module Have
------------------- --------
CPAN 2.36
CPAN::Meta 2.150010
Cwd 3.78
ExtUtils::CBuilder 0.280236
ExtUtils::Command 7.70
ExtUtils::Install 2.14
ExtUtils::MakeMaker 7.70
ExtUtils::Manifest 1.72
ExtUtils::ParseXS 3.51
File::Spec 3.78
JSON 4.10
JSON::PP 4.16
Module::Build 0.4234
Module::Signature 0.88
Parse::CPAN::Meta 2.150010
Test2 1.302195
Test::Harness 3.42
Test::More 1.302195
YAML 1.30
YAML::Syck 1.34
version 0.9930
--
Summary of my perl5 (revision 5 version 32 subversion 0) configuration:
Derived from: 0cf01644e9e0460386db76c3546d69b15e0806df
Platform:
osname=linux
osvers=6.1.0-7-amd64
archname=x86_64-linux-ld
uname='linux k93msid 6.1.0-7-amd64 #1 smp preempt_dynamic debian 6.1.20-1 (2023-03-19) x86_64 gnulinux '
config_args='-Dprefix=/home/sand/src/perl/repoperls/installed-perls/host/k93msid/v5.32.0/fc43 -Dmyhostname=k93msid -Dinstallusrbinperl=n -Uversiononly -Dusedevel -des -Ui_db -Dlibswanted=cl pthread socket inet nsl gdbm dbm malloc dl ld sun m crypt sec util c cposix posix ucb BSD gdbm_compat -Uuseithreads -Duselongdouble -DEBUGGING=both'
hint=recommended
useposix=true
d_sigaction=define
useithreads=undef
usemultiplicity=undef
use64bitint=define
use64bitall=define
uselongdouble=define
usemymalloc=n
default_inc_excludes_dot=define
bincompat5005=undef
Compiler:
cc='cc'
ccflags ='-fwrapv -DDEBUGGING -fno-strict-aliasing -pipe -fstack-protector-strong -I/usr/local/include -D_LARGEFILE_SOURCE -D_FILE_OFFSET_BITS=64 -D_FORTIFY_SOURCE=2'
optimize='-O2 -g'
cppflags='-fwrapv -DDEBUGGING -fno-strict-aliasing -pipe -fstack-protector-strong -I/usr/local/include'
ccversion=''
gccversion='12.2.0'
gccosandvers=''
intsize=4
longsize=8
ptrsize=8
doublesize=8
byteorder=12345678
doublekind=3
d_longlong=define
longlongsize=8
d_longdbl=define
longdblsize=16
longdblkind=3
ivtype='long'
ivsize=8
nvtype='long double'
nvsize=16
Off_t='off_t'
lseeksize=8
alignbytes=16
prototype=define
Linker and Libraries:
ld='cc'
ldflags =' -fstack-protector-strong -L/usr/local/lib'
libpth=/usr/local/lib /usr/include/x86_64-linux-gnu /usr/lib /lib/x86_64-linux-gnu /lib/../lib /usr/lib/x86_64-linux-gnu /usr/lib/../lib /lib /lib64 /usr/lib64
libs=-lpthread -lnsl -ldl -lm -lcrypt -lutil -lc
perllibs=-lpthread -lnsl -ldl -lm -lcrypt -lutil -lc
libc=/lib/x86_64-linux-gnu/libc.so.6
so=so
useshrplib=false
libperl=libperl.a
gnulibc_version='2.36'
Dynamic Linking:
dlsrc=dl_dlopen.xs
dlext=so
d_dlsymun=undef
ccdlflags='-Wl,-E'
cccdlflags='-fPIC'
lddlflags='-shared -O2 -g -L/usr/local/lib -fstack-protector-strong'
Characteristics of this binary (from libperl):
Compile-time options:
DEBUGGING
HAS_TIMES
PERLIO_LAYERS
PERL_COPY_ON_WRITE
PERL_DONT_CREATE_GVSV
PERL_MALLOC_WRAP
PERL_OP_PARENT
PERL_PRESERVE_IVUV
PERL_USE_DEVEL
USE_64_BIT_ALL
USE_64_BIT_INT
USE_LARGE_FILES
USE_LOCALE
USE_LOCALE_COLLATE
USE_LOCALE_CTYPE
USE_LOCALE_NUMERIC
USE_LOCALE_TIME
USE_LONG_DOUBLE
USE_PERLIO
USE_PERL_ATOF
Locally applied patches:
uncommitted-changes
Built under linux
Compiled at Jun 16 2023 10:34:02
%ENV:
PERL5LIB=""
PERL5OPT=""
PERL5_CPANPLUS_IS_RUNNING="2080459"
PERL5_CPAN_IS_RUNNING="2080459"
PERL_CANARY_STABILITY_NOPROMPT="1"
PERL_MM_USE_DEFAULT="1"
PERL_USE_UNSAFE_INC="1"
@INC:
/home/sand/src/perl/repoperls/installed-perls/host/k93msid/v5.32.0/fc43/lib/site_perl/5.32.0/x86_64-linux-ld
/home/sand/src/perl/repoperls/installed-perls/host/k93msid/v5.32.0/fc43/lib/site_perl/5.32.0
/home/sand/src/perl/repoperls/installed-perls/host/k93msid/v5.32.0/fc43/lib/5.32.0/x86_64-linux-ld
/home/sand/src/perl/repoperls/installed-perls/host/k93msid/v5.32.0/fc43/lib/5.32.0
.