File-PathInfo-Ext v1.30 Perl 5 v5.12.1 i686-linux-thread-multi-64int-ld

Status
Pass
From
Graham Crookham (GRAHAMC)
Dist
File-PathInfo-Ext v1.30
Platform
Perl 5 v5.12.1 i686-linux-thread-multi-64int-ld
Date
2010-08-25 15:22:19
ID
8cf88e9e-b05c-11df-a95d-ddf38a2aee53
This distribution has been tested as part of the CPAN Testers
project, supporting the Perl programming language.  See
http://wiki.cpantesters.org/ for more information or email
questions to cpan-testers-discuss@perl.org


--
Dear Leo Charre,

This is a computer-generated report for File-PathInfo-Ext-1.30
on perl 5.12.1, created by CPAN-Reporter-1.18.

Thank you for uploading your work to CPAN.  Congratulations!
All tests were successful.

Sections of this report:

    * Tester comments
    * Program output
    * Prerequisites
    * Environment and other context

------------------------------
TESTER COMMENTS
------------------------------

Additional comments from tester:

this report is from an automated smoke testing program
and was not reviewed by a human for accuracy

------------------------------
PROGRAM OUTPUT
------------------------------

Output from '/usr/bin/make test':

PERL_DL_NONLAZY=1 /home/graham/perltest/th_ld_perl5121/perl/bin/perl "-MExtUtils::Command::MM" "-e" "test_harness(0, 'blib/lib', 'blib/arch')" t/*.t


===================
PART [1], ./T/PUBLIC_HTML/DEMO

 stat key 'ctime' = '1282749736'
 stat key 'mtime' = '1282749724'
 stat key 'nlink' = '2'
 stat key 'size' = '4096'
 stat key 'blocks' = '8'
 stat key 'atime_pretty' = '2010/08/25 16:22'
 stat key 'mtime_pretty' = '2010/08/25 16:22'
 stat key 'ctime_pretty' = '2010/08/25 16:22'
 stat key 'ino' = '2597121'


===================
PART [2], ./T/PUBLIC_HTML/SEVEN.PDF

 stat key 'ctime' = '1282749736'
 stat key 'mtime' = '1179497048'
 stat key 'nlink' = '1'
 stat key 'size' = '769239'
 stat key 'blocks' = '1512'
 stat key 'atime_pretty' = '2010/08/25 16:22'
 stat key 'mtime_pretty' = '2007/05/18 15:04'
 stat key 'ctime_pretty' = '2010/08/25 16:22'
 stat key 'ino' = '2597119'


===================
PART [3], DEMO

 stat key 'ctime' = '1282749736'
 stat key 'mtime' = '1282749724'
 stat key 'nlink' = '2'
 stat key 'size' = '4096'
 stat key 'blocks' = '8'
 stat key 'atime_pretty' = '2010/08/25 16:22'
 stat key 'mtime_pretty' = '2010/08/25 16:22'
 stat key 'ctime_pretty' = '2010/08/25 16:22'
 stat key 'ino' = '2597121'


===================
PART [4], ./T/PUBLIC_HTML/DEMO/HELLOKITTY.GIF

 stat key 'ctime' = '1282749736'
 stat key 'mtime' = '1174604434'
 stat key 'nlink' = '1'
 stat key 'size' = '4099'
 stat key 'blocks' = '16'
 stat key 'atime_pretty' = '2010/08/25 16:22'
 stat key 'mtime_pretty' = '2007/03/22 23:00'
 stat key 'ctime_pretty' = '2010/08/25 16:22'
 stat key 'ino' = '2597122'


===================
PART [5], ./T/PUBLIC_HTML/DEMO/../DEMO/CIVIL.TXT

 stat key 'ctime' = '1282749736'
 stat key 'mtime' = '1174604434'
 stat key 'nlink' = '1'
 stat key 'size' = '51460'
 stat key 'blocks' = '112'
 stat key 'atime_pretty' = '2010/08/25 16:22'
 stat key 'mtime_pretty' = '2007/03/22 23:00'
 stat key 'ctime_pretty' = '2010/08/25 16:22'
 stat key 'ino' = '2597123'


===================
PART [6], DEMO/../DEMO/CIVIL.TXT

 stat key 'ctime' = '1282749736'
 stat key 'mtime' = '1174604434'
 stat key 'nlink' = '1'
 stat key 'size' = '51460'
 stat key 'blocks' = '112'
 stat key 'atime_pretty' = '2010/08/25 16:22'
 stat key 'mtime_pretty' = '2007/03/22 23:00'
 stat key 'ctime_pretty' = '2010/08/25 16:22'
 stat key 'ino' = '2597123'


===================
PART [7], DEMO/CIVIL.TXT

 stat key 'ctime' = '1282749736'
 stat key 'mtime' = '1174604434'
 stat key 'nlink' = '1'
 stat key 'size' = '51460'
 stat key 'blocks' = '112'
 stat key 'atime_pretty' = '2010/08/25 16:22'
 stat key 'mtime_pretty' = '2007/03/22 23:00'
 stat key 'ctime_pretty' = '2010/08/25 16:22'
 stat key 'ino' = '2597123'
t/0.t ................. ok
newname cannot contain slashes at lib/File/PathInfo/Ext.pm line 16
	File::PathInfo::Ext::rename('File::PathInfo::Ext=HASH(0x99ad838)', 'awe/gfaw/egawg/\pou*()^T)(T3wt//n23') called at t/1.t line 21
ls for [/home/graham/perltest/th_ld_perl5121/cpan/build/File-PathInfo-Ext-1.30-xMM7yg]
ls for [/home/graham/perltest/th_ld_perl5121/cpan/build/File-PathInfo-Ext-1.30-xMM7yg/tmp2]
ls for [/home/graham/perltest/th_ld_perl5121/cpan/build/File-PathInfo-Ext-1.30-xMM7yg/tmp2]
t/1.t ................. ok



 SET 2 

 # on move newloc is : /home/graham/perltest/th_ld_perl5121/cpan/build/File-PathInfo-Ext-1.30-xMM7yg/t/public_html/timp/incoming/movedme.txt

Can't move to '/home/graham/perltest/th_ld_perl5121/cpan/build/File-PathInfo-Ext-1.30-xMM7yg/t/public_html/timp/movedme.txt', destination already exists at lib/File/PathInfo/Ext.pm line 136
	File::PathInfo::Ext::move('File::PathInfo::Ext=HASH(0x90f514c)', '/home/graham/perltest/th_ld_perl5121/cpan/build/File-PathInfo...') called at t/2_move.t line 92
t/2_move.t ............ ok
Can't move '/home/graham/perltest/th_ld_perl5121/cpan/build/File-PathInfo-Ext-1.30-xMM7yg/t/f1' to '/home/graham/perltest/th_ld_perl5121/cpan/build/File-PathInfo-Ext-1.30-xMM7yg/t/f2', already exists. at lib/File/PathInfo/Ext.pm line 152
	File::PathInfo::Ext::move('File::PathInfo::Ext=HASH(0x88bd2d4)', '/home/graham/perltest/th_ld_perl5121/cpan/build/File-PathInfo...') called at lib/File/PathInfo/Ext.pm line 17
	File::PathInfo::Ext::rename('File::PathInfo::Ext=HASH(0x88bd2d4)', 'f2') called at t/3.t line 21
Use of uninitialized value in numeric eq (==) at t/3.t line 21.
t/3.t ................. ok

### $val: undef

### $val: 'this is'

### $val: 'this is a val for errstr'


--------------
----



--------------
----


### $val: '/home/graham/perltest/th_ld_perl5121/cpan/build/File-PathInfo-Ext-1.30-xMM7yg/t/tmp/dir/file.txt'


--------------others
----

Use of uninitialized value $err in concatenation (.) or string at t/4_resolve_arg_to.t line 74.
 arg './file.txt' = [/home/graham/perltest/th_ld_perl5121/cpan/build/File-PathInfo-Ext-1.30-xMM7yg/file.txt]
 err? 

 arg './' = [NO RESULT]
 err? Can't set destination to '/home/graham/perltest/th_ld_perl5121/cpan/build/File-PathInfo-Ext-1.30-xMM7yg', already exists.

 arg '.' = [NO RESULT]
 err? Can't resolve arg ..

Use of uninitialized value $err in concatenation (.) or string at t/4_resolve_arg_to.t line 74.
 arg './../file.txt' = [/home/graham/perltest/th_ld_perl5121/cpan/build/file.txt]
 err? 

 arg './../bogus/thing' = [NO RESULT]
 err? Can't resolve arg ../bogus/thing

 arg './t/tmp/bogusdir/' = [NO RESULT]
 err? Can't resolve arg t/tmp/bogusdir/

t/4_resolve_arg_to.t .. ok
 # NOW try to dirs



### $r: '/home/graham/perltest/th_ld_perl5121/cpan/build/File-PathInfo-Ext-1.30-xMM7yg/t/tmp/dir/filealso.txt'
t/5_copy.t ............ ok
t/99_cleanup.t ........ ok
All tests successful.
Files=7, Tests=204,  1 wallclock secs ( 0.20 usr  0.02 sys +  1.03 cusr  0.18 csys =  1.43 CPU)
Result: PASS

------------------------------
PREREQUISITES
------------------------------

Prerequisite modules loaded:

requires:

    Module              Need Have   
    ------------------- ---- -------
    Carp                1    1.16   
    Cwd                 3    3.31_02
    Digest::MD5         2    2.40   
    File::Copy          2    2.18   
    File::Path          1    2.08_01
    File::PathInfo      1.27 1.27   
    File::Type          0    0.22   
    Test::Simple        0    0.96   
    YAML                0    0.71   

configure_requires:

    Module              Need Have   
    ------------------- ---- -------
    ExtUtils::MakeMaker 0    6.56   


------------------------------
ENVIRONMENT AND OTHER CONTEXT
------------------------------

Environment variables:

    AUTOMATED_TESTING = 1
    LANG = C
    PATH = /home/graham/perltest/th_ld_perl5121/perl/bin:/bin:/usr/bin:/sbin:/usr/sbin:/opt/java/bin:/opt/java/jre/bin:/opt/kde/bin:/usr/bin/perlbin/site:/usr/bin/perlbin/vendor:/usr/bin/perlbin/core:/opt/qt/bin
    PERL5LIB = 
    PERL5OPT = 
    PERL5_CPANPLUS_IS_RUNNING = 27691
    PERL5_CPAN_IS_RUNNING = 27691
    PERL5_CPAN_IS_RUNNING_IN_RECURSION = 3665,27691
    PERL_CR_SMOKER_CURRENT = File-PathInfo-Ext-1.30
    PERL_EXTUTILS_AUTOINSTALL = --defaultdeps
    PERL_MM_USE_DEFAULT = 1
    SHELL = /bin/bash
    TERM = xterm

Perl special variables (and OS-specific diagnostics, for MSWin32):

    $^X = /home/graham/perltest/th_ld_perl5121/perl/bin/perl
    $UID/$EUID = 1000 / 1000
    $GID = 1000 7 10 91 92 93 95 98 100 108 1000 1001
    $EGID = 1000 7 10 91 92 93 95 98 100 108 1000 1001

Perl module toolchain versions installed:

    Module              Have   
    ------------------- -------
    CPAN                1.94_58
    Cwd                 3.31_02
    ExtUtils::CBuilder  0.27_05
    ExtUtils::Command   1.16   
    ExtUtils::Install   1.55   
    ExtUtils::MakeMaker 6.56   
    ExtUtils::Manifest  1.58   
    ExtUtils::ParseXS   2.2206 
    File::Spec          3.31_02
    Module::Build       0.36_14
    Module::Signature   0.64   
    Test::Harness       3.22   
    Test::More          0.96   
    YAML                0.71   
    YAML::Syck          1.12   
    version             0.82   


--

Summary of my perl5 (revision 5 version 12 subversion 1) configuration:
   
  Platform:
    osname=linux, osvers=2.6.33-arch, archname=i686-linux-thread-multi-64int-ld
    uname='linux lorant 2.6.33-arch #1 smp preempt thu may 13 12:06:25 cest 2010 i686 intel(r) pentium(r) 4 cpu 2.80ghz genuineintel gnulinux '
    config_args=''
    hint=recommended, useposix=true, d_sigaction=define
    useithreads=define, usemultiplicity=define
    useperlio=define, d_sfio=undef, uselargefiles=define, usesocks=undef
    use64bitint=define, use64bitall=undef, uselongdouble=define
    usemymalloc=n, bincompat5005=undef
  Compiler:
    cc='cc', ccflags ='-D_REENTRANT -D_GNU_SOURCE -fno-strict-aliasing -pipe -fstack-protector -I/usr/local/include -D_LARGEFILE_SOURCE -D_FILE_OFFSET_BITS=64',
    optimize='-O2',
    cppflags='-D_REENTRANT -D_GNU_SOURCE -fno-strict-aliasing -pipe -fstack-protector -I/usr/local/include'
    ccversion='', gccversion='4.5.0 20100520 (prerelease)', gccosandvers=''
    intsize=4, longsize=4, ptrsize=4, doublesize=8, byteorder=12345678
    d_longlong=define, longlongsize=8, d_longdbl=define, longdblsize=12
    ivtype='long long', ivsize=8, nvtype='long double', nvsize=12, Off_t='off_t', lseeksize=8
    alignbytes=4, prototype=define
  Linker and Libraries:
    ld='cc', ldflags =' -fstack-protector -L/usr/local/lib'
    libpth=/usr/local/lib /lib /usr/lib
    libs=-lnsl -lgdbm -ldb -ldl -lm -lcrypt -lutil -lpthread -lc -lgdbm_compat
    perllibs=-lnsl -ldl -lm -lcrypt -lutil -lpthread -lc
    libc=/lib/libc-2.12.so, so=so, useshrplib=true, libperl=libperl.so
    gnulibc_version='2.12'
  Dynamic Linking:
    dlsrc=dl_dlopen.xs, dlext=so, d_dlsymun=undef, ccdlflags='-Wl,-E -Wl,-rpath,/home/graham/perltest/th_ld_perl5121/perl/lib/5.12.1/i686-linux-thread-multi-64int-ld/CORE'
    cccdlflags='-fPIC', lddlflags='-shared -O2 -L/usr/local/lib -fstack-protector'


Characteristics of this binary (from libperl): 
  Compile-time options: MULTIPLICITY PERL_DONT_CREATE_GVSV
                        PERL_IMPLICIT_CONTEXT PERL_MALLOC_WRAP USE_64_BIT_INT
                        USE_FAST_STDIO USE_ITHREADS USE_LARGE_FILES
                        USE_LONG_DOUBLE USE_PERLIO USE_PERL_ATOF
                        USE_REENTRANT_API
  Built under linux
  Compiled at Aug  7 2010 12:43:27
  %ENV:
    PERL5LIB=""
    PERL5OPT=""
    PERL5_CPANPLUS_IS_RUNNING="27691"
    PERL5_CPAN_IS_RUNNING="27691"
    PERL5_CPAN_IS_RUNNING_IN_RECURSION="3665,27691"
    PERL_CR_SMOKER_CURRENT="File-PathInfo-Ext-1.30"
    PERL_EXTUTILS_AUTOINSTALL="--defaultdeps"
    PERL_MM_USE_DEFAULT="1"
  @INC:
    /home/graham/perltest/th_ld_perl5121/perl/lib/site_perl/5.12.1/i686-linux-thread-multi-64int-ld
    /home/graham/perltest/th_ld_perl5121/perl/lib/site_perl/5.12.1
    /home/graham/perltest/th_ld_perl5121/perl/lib/5.12.1/i686-linux-thread-multi-64int-ld
    /home/graham/perltest/th_ld_perl5121/perl/lib/5.12.1
    .