Test-NewVersion v0.003 Perl 5 v5.26.1 OpenBSD.amd64-openbsd
- Status
- Pass
- From
- Alceu Rodrigues de Freitas Junior
- Dist
-
Test-NewVersion v0.003
- Platform
- Perl 5 v5.26.1 OpenBSD.amd64-openbsd
- Date
- 2017-11-29 16:30:02
- ID
- 8cd61c7c-d522-11e7-87c4-5e92ea3b64b5
This distribution has been tested as part of the CPAN Testers
project, supporting the Perl programming language. See
http://wiki.cpantesters.org/ for more information or email
questions to cpan-testers-discuss@perl.org
--
Dear Karen Etheridge,
This is a computer-generated report for Test-NewVersion-0.003
on perl 5.26.1, created by CPAN-Reporter-1.2018.
Thank you for uploading your work to CPAN. Congratulations!
All tests were successful.
Sections of this report:
* Tester comments
* Program output
* Prerequisites
* Environment and other context
------------------------------
TESTER COMMENTS
------------------------------
Additional comments from tester:
this report is from an automated smoke testing program
and was not reviewed by a human for accuracy
------------------------------
PROGRAM OUTPUT
------------------------------
Output from './Build test':
#
# Versions for all modules listed in MYMETA.json (including optional ones):
#
# === Configure Requires ===
#
# Module Want Have
# ------------------- ----- -----
# Module::Build::Tiny 0.039 0.039
#
# === Test Requires ===
#
# Module Want Have
# ------------------- ----- --------
# Data::Dumper any 2.161
# ExtUtils::MakeMaker any 7.31_05
# File::Spec any 3.62
# File::pushd any 1.014
# Path::Tiny any 0.104
# Test::Deep any 1.127
# Test::More any 1.302117
# Test::Tester 0.108 1.302117
# Test::Warnings any 0.026
# if any 0.0606
# lib any 0.64
#
# === Test Recommends ===
#
# Module Want Have
# ---------- -------- --------
# CPAN::Meta 2.120900 2.150010
#
# === Runtime Requires ===
#
# Module Want Have
# ---------------- -------- --------
# CPAN::Meta 2.120920 2.150010
# Encode any 2.93
# Exporter any 5.72
# File::Find any 1.34
# File::Spec any 3.62
# HTTP::Headers any 6.13
# HTTP::Tiny any 0.070
# JSON::MaybeXS any 1.003009
# List::Util any 1.49
# Module::Metadata any 1.000033
# Test::Builder 0.88 1.302117
# parent any 0.236
# strict any 1.11
# version any 0.9918
# warnings any 1.37
#
t/00-report-prereqs.t .. ok
t/01-basic.t ........... ok
t/03-pod.t ............. ok
t/04-blib.t ............ ok
All tests successful.
Files=4, Tests=7, 3 wallclock secs ( 0.03 usr 0.03 sys + 1.00 cusr 0.52 csys = 1.58 CPU)
Result: PASS
------------------------------
PREREQUISITES
------------------------------
Prerequisite modules loaded:
requires:
Module Need Have
------------------- -------- --------
CPAN::Meta 2.120920 2.150010
Encode 0 2.93
Exporter 0 5.72
File::Find 0 1.34
File::Spec 0 3.62
HTTP::Headers 0 6.13
HTTP::Tiny 0 0.070
JSON::MaybeXS 0 1.003009
List::Util 0 1.49
Module::Metadata 0 1.000033
parent 0 0.236
perl 5.006 5.026001
strict 0 1.11
Test::Builder 0.88 1.302117
version 0 0.9918
warnings 0 1.37
build_requires:
Module Need Have
------------------- -------- --------
Data::Dumper 0 2.161
ExtUtils::MakeMaker 0 7.31_05
File::pushd 0 1.014
File::Spec 0 3.62
if 0 0.0606
lib 0 0.64
Path::Tiny 0 0.104
perl 5.006 5.026001
Test::Deep 0 1.127
Test::More 0 1.302117
Test::Tester 0.108 1.302117
Test::Warnings 0 0.026
configure_requires:
Module Need Have
------------------- -------- --------
Module::Build::Tiny 0.039 0.039
perl 5.006 5.026001
opt_build_requires:
Module Need Have
------------------- -------- --------
CPAN::Meta 2.120900 2.150010
------------------------------
ENVIRONMENT AND OTHER CONTEXT
------------------------------
Environment variables:
AUTOMATED_TESTING = 1
PATH = /home/foo/perl5/perlbrew/bin:/home/foo/perl5/perlbrew/perls/perl-5.26.1/bin:/home/foo/bin:/sbin:/usr/sbin:/bin:/usr/bin:/usr/X11R6/bin:/usr/local/sbin:/usr/local/bin
PERL5LIB =
PERL5OPT =
PERL5_CPANPLUS_IS_RUNNING = 42415
PERL5_CPAN_IS_RUNNING = 42415
PERL5_CPAN_IS_RUNNING_IN_RECURSION = 38729,42415
PERLBREW_BASHRC_VERSION = 0.80
PERLBREW_HOME = /home/foo/.perlbrew
PERLBREW_MANPATH = /home/foo/perl5/perlbrew/perls/perl-5.26.1/man
PERLBREW_PATH = /home/foo/perl5/perlbrew/bin:/home/foo/perl5/perlbrew/perls/perl-5.26.1/bin
PERLBREW_PERL = perl-5.26.1
PERLBREW_ROOT = /home/foo/perl5/perlbrew
PERLBREW_VERSION = 0.80
PERL_CR_SMOKER_CURRENT = Test-NewVersion-0.003
PERL_EXTUTILS_AUTOINSTALL = --defaultdeps
PERL_MM_USE_DEFAULT = 1
PERL_USE_UNSAFE_INC = 1
SHELL = /usr/local/bin/bash
TERM = xterm
Perl special variables (and OS-specific diagnostics, for MSWin32):
$^X = /home/foo/perl5/perlbrew/perls/perl-5.26.1/bin/perl
$UID/$EUID = 1001 / 1001
$GID = 999 999 1001
$EGID = 999 999 1001
Perl module toolchain versions installed:
Module Have
------------------- --------
CPAN 2.20
CPAN::Meta 2.150010
Cwd 3.62
ExtUtils::CBuilder 0.280230
ExtUtils::Command 7.31_05
ExtUtils::Install 2.14
ExtUtils::MakeMaker 7.31_05
ExtUtils::Manifest 1.70
ExtUtils::ParseXS 3.35
File::Spec 3.62
JSON 2.97000
JSON::PP 2.97000
Module::Build 0.4224
Module::Signature 0.81
Parse::CPAN::Meta 2.150010
Test::Harness 3.39
Test::More 1.302117
YAML 1.24
YAML::Syck 1.30
version 0.9918
--
Summary of my perl5 (revision 5 version 26 subversion 1) configuration:
Platform:
osname=openbsd
osvers=6.1
archname=OpenBSD.amd64-openbsd
uname='openbsd cpansmoker.my.domain 6.1 generic.mp#20 amd64 '
config_args='-de -Dprefix=/home/foo/perl5/perlbrew/perls/perl-5.26.1 -Aeval:scriptdir=/home/foo/perl5/perlbrew/perls/perl-5.26.1/bin'
hint=recommended
useposix=true
d_sigaction=define
useithreads=undef
usemultiplicity=undef
use64bitint=define
use64bitall=define
uselongdouble=undef
usemymalloc=n
default_inc_excludes_dot=define
bincompat5005=undef
Compiler:
cc='cc'
ccflags ='-fno-strict-aliasing -pipe -fstack-protector-strong -I/usr/local/include -D_FORTIFY_SOURCE=2'
optimize='-O2'
cppflags='-fno-strict-aliasing -pipe -fstack-protector-strong -I/usr/local/include'
ccversion=''
gccversion='4.2.1 20070719 '
gccosandvers='openbsd6.1'
intsize=4
longsize=8
ptrsize=8
doublesize=8
byteorder=12345678
doublekind=3
d_longlong=define
longlongsize=8
d_longdbl=define
longdblsize=16
longdblkind=3
ivtype='long'
ivsize=8
nvtype='double'
nvsize=8
Off_t='off_t'
lseeksize=8
alignbytes=8
prototype=define
Linker and Libraries:
ld='cc'
ldflags ='-Wl,-E -fstack-protector-strong -L/usr/local/lib'
libpth=/usr/lib /usr/local/lib
libs=-lpthread -lm -lutil -lc
perllibs=-lpthread -lm -lutil -lc
libc=/usr/lib/libc.so.89.3
so=so
useshrplib=false
libperl=libperl.a
gnulibc_version=''
Dynamic Linking:
dlsrc=dl_dlopen.xs
dlext=so
d_dlsymun=undef
ccdlflags=' '
cccdlflags='-DPIC -fPIC '
lddlflags='-shared -fPIC -L/usr/local/lib -fstack-protector-strong'
Characteristics of this binary (from libperl):
Compile-time options:
HAS_TIMES
PERLIO_LAYERS
PERL_COPY_ON_WRITE
PERL_DONT_CREATE_GVSV
PERL_MALLOC_WRAP
PERL_OP_PARENT
PERL_PRESERVE_IVUV
USE_64_BIT_ALL
USE_64_BIT_INT
USE_LARGE_FILES
USE_LOCALE
USE_LOCALE_COLLATE
USE_LOCALE_CTYPE
USE_LOCALE_NUMERIC
USE_LOCALE_TIME
USE_PERLIO
USE_PERL_ATOF
Locally applied patches:
Devel::PatchPerl 1.48
Built under openbsd
Compiled at Nov 10 2017 20:02:38
%ENV:
PERL5LIB=""
PERL5OPT=""
PERL5_CPANPLUS_IS_RUNNING="42415"
PERL5_CPAN_IS_RUNNING="42415"
PERL5_CPAN_IS_RUNNING_IN_RECURSION="38729,42415"
PERLBREW_BASHRC_VERSION="0.80"
PERLBREW_HOME="/home/foo/.perlbrew"
PERLBREW_MANPATH="/home/foo/perl5/perlbrew/perls/perl-5.26.1/man"
PERLBREW_PATH="/home/foo/perl5/perlbrew/bin:/home/foo/perl5/perlbrew/perls/perl-5.26.1/bin"
PERLBREW_PERL="perl-5.26.1"
PERLBREW_ROOT="/home/foo/perl5/perlbrew"
PERLBREW_VERSION="0.80"
PERL_CR_SMOKER_CURRENT="Test-NewVersion-0.003"
PERL_EXTUTILS_AUTOINSTALL="--defaultdeps"
PERL_MM_USE_DEFAULT="1"
PERL_USE_UNSAFE_INC="1"
@INC:
/home/foo/perl5/perlbrew/perls/perl-5.26.1/lib/site_perl/5.26.1/OpenBSD.amd64-openbsd
/home/foo/perl5/perlbrew/perls/perl-5.26.1/lib/site_perl/5.26.1
/home/foo/perl5/perlbrew/perls/perl-5.26.1/lib/5.26.1/OpenBSD.amd64-openbsd
/home/foo/perl5/perlbrew/perls/perl-5.26.1/lib/5.26.1
.