Report for Test-ParallelSubtest-0.05

Back
From: metabase:user:c5d8ed3c-9413-11e3-9500-9628c7c7991c
Subject: PASS Test-ParallelSubtest-0.05 v5.16.3 FreeBSD
Date: 2014-03-17T21:46:08Z

This distribution has been tested as part of the CPAN Testers
project, supporting the Perl programming language.  See
http://wiki.cpantesters.org/ for more information or email
questions to cpan-testers-discuss@perl.org


--
Dear Nick Cleaton,

This is a computer-generated report for Test-ParallelSubtest-0.05
on perl 5.16.3, created by CPAN-Reporter-1.2006.

Thank you for uploading your work to CPAN.  Congratulations!
All tests were successful.

Sections of this report:

    * Tester comments
    * Program output
    * Prerequisites
    * Environment and other context

------------------------------
TESTER COMMENTS
------------------------------

Additional comments from tester:

this report is from an automated smoke testing program
and was not reviewed by a human for accuracy

------------------------------
PROGRAM OUTPUT
------------------------------

Output from './Build test':

t/basic.t ................... ok
t/bg_subtest_wait.t ......... ok
t/child-limits.t ............ ok
t/exceptions.t .............. ok
t/forbid-fork.t ............. ok
t/max_parallel.t ............ ok
t/nested-fork.t ............. ok
t/no-bg_subtest.t ........... ok
t/no-pipe.t ................. ok
t/skip_all.t ................ ok
t/strange-test-names.t ...... ok
t/tests-in-parent-before.t .. ok
t/todo-blocks.t ............. ok
t/with-subtest.t ............ ok
All tests successful.
Files=14, Tests=571, 40 wallclock secs ( 0.11 usr  0.05 sys + 18.30 cusr 13.42 csys = 31.88 CPU)
Result: PASS

------------------------------
PREREQUISITES
------------------------------

Prerequisite modules loaded:

requires:

    Module                Need     Have    
    --------------------- -------- --------
    Carp                  0        1.32    
    IO::WrapTie           0        2.110   
    perl                  5.006001 5.016003
    POSIX                 0        1.30    
    Sub::Prepend          0        0.01    
    TAP::Parser           0        3.23    
    Test::Builder         0.94     1.001002
    Tie::FileHandle::Base 0        0.1     

build_requires:

    Module                Need     Have    
    --------------------- -------- --------
    Config                0        0       
    Test::Builder         0.94     1.001002
    Test::Cmd             0        1.05    
    Test::Differences     0        0.61    
    Test::Exception       0        0.32    
    Test::More            0.94     1.001002

configure_requires:

    Module                Need     Have    
    --------------------- -------- --------
    ExtUtils::MakeMaker   0        6.6302  


------------------------------
ENVIRONMENT AND OTHER CONTEXT
------------------------------

Environment variables:

    AUTOMATED_TESTING = 1
    PATH = /sbin:/bin:/usr/sbin:/usr/bin:/usr/games:/usr/local/sbin:/usr/local/bin:/root/bin
    PERL5LIB = /home/cpan/.cpan/build/Tie-FileHandle-Base-0.1-AUjDSi/blib/arch:/home/cpan/.cpan/build/Tie-FileHandle-Base-0.1-AUjDSi/blib/lib:/home/cpan/.cpan/build/Sub-Prepend-0.01-BK9Cap/blib/arch:/home/cpan/.cpan/build/Sub-Prepend-0.01-BK9Cap/blib/lib:/home/cpan/.cpan/build/Text-Diff-1.41-V16ohs/blib/arch:/home/cpan/.cpan/build/Text-Diff-1.41-V16ohs/blib/lib:/home/cpan/.cpan/build/Test-Differences-0.61-09iZZp/blib/arch:/home/cpan/.cpan/build/Test-Differences-0.61-09iZZp/blib/lib:/home/cpan/.cpan/build/Test-Cmd-1.05-zcN_K5/blib/arch:/home/cpan/.cpan/build/Test-Cmd-1.05-zcN_K5/blib/lib:/home/cpan/.cpan/build/IO-stringy-2.110-zBnLB3/blib/arch:/home/cpan/.cpan/build/IO-stringy-2.110-zBnLB3/blib/lib
    PERL5OPT = 
    PERL5_CPANPLUS_IS_RUNNING = 36931
    PERL5_CPAN_IS_RUNNING = 36931
    PERL5_CPAN_IS_RUNNING_IN_RECURSION = 34622,36931
    PERL_CR_SMOKER_CURRENT = Test-ParallelSubtest-0.05
    PERL_EXTUTILS_AUTOINSTALL = --defaultdeps
    PERL_MM_USE_DEFAULT = 1
    SHELL = /bin/sh
    TERM = screen

Perl special variables (and OS-specific diagnostics, for MSWin32):

    $^X = /usr/local/bin/perl5
    $UID/$EUID = 1001 / 1001
    $GID = 1001 1001
    $EGID = 1001 1001

Perl module toolchain versions installed:

    Module              Have    
    ------------------- --------
    CPAN                1.9800  
    CPAN::Meta          2.133380
    Cwd                 3.40    
    ExtUtils::CBuilder  0.280206
    ExtUtils::Command   1.17    
    ExtUtils::Install   1.58    
    ExtUtils::MakeMaker 6.6302  
    ExtUtils::Manifest  1.61    
    ExtUtils::ParseXS   3.16    
    File::Spec          3.40    
    JSON                2.90    
    JSON::PP            2.27200 
    Module::Build       0.39_01 
    Module::Signature   0.73    
    Parse::CPAN::Meta   1.4404  
    Test::Harness       3.23    
    Test::More          1.001002
    YAML                0.87    
    YAML::Syck          n/a     
    version             0.99    


--

Summary of my perl5 (revision 5 version 16 subversion 3) configuration:
   
  Platform:
    osname=freebsd, osvers=9.1-release-p10, archname=amd64-freebsd-thread-multi
    uname='freebsd 91amd64-default-job-16 9.1-release-p10 freebsd 9.1-release-p10 amd64 '
    config_args='-sde -Dprefix=/usr/local -Darchlib=/usr/local/lib/perl5/5.16/mach -Dprivlib=/usr/local/lib/perl5/5.16 -Dman3dir=/usr/local/lib/perl5/5.16/perl/man/man3 -Dman1dir=/usr/local/man/man1 -Dsitearch=/usr/local/lib/perl5/site_perl/5.16/mach -Dsitelib=/usr/local/lib/perl5/site_perl/5.16 -Dscriptdir=/usr/local/bin -Dsiteman3dir=/usr/local/lib/perl5/5.16/man/man3 -Dsiteman1dir=/usr/local/man/man1 -Ui_malloc -Ui_iconv -Uinstallusrbinperl -Dcc=cc -Duseshrplib -Dinc_version_list=none -Dccflags=-DAPPLLIB_EXP="/usr/local/lib/perl5/5.16/BSDPAN" -Doptimize=-O2 -pipe -fno-strict-aliasing -Ui_gdbm -Dusethreads=y -Dusemymalloc=n -Duse64bitint'
    hint=recommended, useposix=true, d_sigaction=define
    useithreads=define, usemultiplicity=define
    useperlio=define, d_sfio=undef, uselargefiles=define, usesocks=undef
    use64bitint=define, use64bitall=define, uselongdouble=undef
    usemymalloc=n, bincompat5005=undef
  Compiler:
    cc='cc', ccflags ='-DAPPLLIB_EXP="/usr/local/lib/perl5/5.16/BSDPAN" -DHAS_FPSETMASK -DHAS_FLOATINGPOINT_H -fno-strict-aliasing -pipe -fstack-protector -I/usr/local/include',
    optimize='-O2 -pipe -fno-strict-aliasing',
    cppflags='-DAPPLLIB_EXP="/usr/local/lib/perl5/5.16/BSDPAN" -DHAS_FPSETMASK -DHAS_FLOATINGPOINT_H -fno-strict-aliasing -pipe -fstack-protector -I/usr/local/include'
    ccversion='', gccversion='4.2.1 20070831 patched [FreeBSD]', gccosandvers=''
    intsize=4, longsize=8, ptrsize=8, doublesize=8, byteorder=12345678
    d_longlong=define, longlongsize=8, d_longdbl=define, longdblsize=16
    ivtype='long', ivsize=8, nvtype='double', nvsize=8, Off_t='off_t', lseeksize=8
    alignbytes=8, prototype=define
  Linker and Libraries:
    ld='cc', ldflags ='-pthread -Wl,-E  -fstack-protector -L/usr/local/lib'
    libpth=/usr/lib /usr/local/lib
    libs=-lm -lcrypt -lutil
    perllibs=-lm -lcrypt -lutil
    libc=, so=so, useshrplib=true, libperl=libperl.so
    gnulibc_version=''
  Dynamic Linking:
    dlsrc=dl_dlopen.xs, dlext=so, d_dlsymun=undef, ccdlflags='  -Wl,-R/usr/local/lib/perl5/5.16/mach/CORE'
    cccdlflags='-DPIC -fPIC', lddlflags='-shared  -L/usr/local/lib -fstack-protector'


Characteristics of this binary (from libperl): 
  Compile-time options: HAS_TIMES MULTIPLICITY PERLIO_LAYERS
                        PERL_DONT_CREATE_GVSV PERL_IMPLICIT_CONTEXT
                        PERL_MALLOC_WRAP PERL_PRESERVE_IVUV USE_64_BIT_ALL
                        USE_64_BIT_INT USE_ITHREADS USE_LARGE_FILES
                        USE_LOCALE USE_LOCALE_COLLATE USE_LOCALE_CTYPE
                        USE_LOCALE_NUMERIC USE_PERLIO USE_PERL_ATOF
                        USE_REENTRANT_API
  Built under freebsd
  Compiled at Feb 19 2014 21:15:06
  %ENV:
    PERL5LIB="/home/cpan/.cpan/build/Tie-FileHandle-Base-0.1-AUjDSi/blib/arch:/home/cpan/.cpan/build/Tie-FileHandle-Base-0.1-AUjDSi/blib/lib:/home/cpan/.cpan/build/Sub-Prepend-0.01-BK9Cap/blib/arch:/home/cpan/.cpan/build/Sub-Prepend-0.01-BK9Cap/blib/lib:/home/cpan/.cpan/build/Text-Diff-1.41-V16ohs/blib/arch:/home/cpan/.cpan/build/Text-Diff-1.41-V16ohs/blib/lib:/home/cpan/.cpan/build/Test-Differences-0.61-09iZZp/blib/arch:/home/cpan/.cpan/build/Test-Differences-0.61-09iZZp/blib/lib:/home/cpan/.cpan/build/Test-Cmd-1.05-zcN_K5/blib/arch:/home/cpan/.cpan/build/Test-Cmd-1.05-zcN_K5/blib/lib:/home/cpan/.cpan/build/IO-stringy-2.110-zBnLB3/blib/arch:/home/cpan/.cpan/build/IO-stringy-2.110-zBnLB3/blib/lib"
    PERL5OPT=""
    PERL5_CPANPLUS_IS_RUNNING="36931"
    PERL5_CPAN_IS_RUNNING="36931"
    PERL5_CPAN_IS_RUNNING_IN_RECURSION="34622,36931"
    PERL_CR_SMOKER_CURRENT="Test-ParallelSubtest-0.05"
    PERL_EXTUTILS_AUTOINSTALL="--defaultdeps"
    PERL_MM_USE_DEFAULT="1"
  @INC:
    /home/cpan/.cpan/build/Tie-FileHandle-Base-0.1-AUjDSi/blib/arch
    /home/cpan/.cpan/build/Tie-FileHandle-Base-0.1-AUjDSi/blib/lib
    /home/cpan/.cpan/build/Sub-Prepend-0.01-BK9Cap/blib/arch
    /home/cpan/.cpan/build/Sub-Prepend-0.01-BK9Cap/blib/lib
    /home/cpan/.cpan/build/Text-Diff-1.41-V16ohs/blib/arch
    /home/cpan/.cpan/build/Text-Diff-1.41-V16ohs/blib/lib
    /home/cpan/.cpan/build/Test-Differences-0.61-09iZZp/blib/arch
    /home/cpan/.cpan/build/Test-Differences-0.61-09iZZp/blib/lib
    /home/cpan/.cpan/build/Test-Cmd-1.05-zcN_K5/blib/arch
    /home/cpan/.cpan/build/Test-Cmd-1.05-zcN_K5/blib/lib
    /home/cpan/.cpan/build/IO-stringy-2.110-zBnLB3/blib/arch
    /home/cpan/.cpan/build/IO-stringy-2.110-zBnLB3/blib/lib
    /usr/local/lib/perl5/5.16/BSDPAN
    /usr/local/lib/perl5/site_perl/5.16/mach
    /usr/local/lib/perl5/site_perl/5.16
    /usr/local/lib/perl5/5.16/mach
    /usr/local/lib/perl5/5.16
    .