Chart-Clicker v2.90 Perl 5 v5.32.1 x86_64-linux
- Status
- Pass
- From
- Slaven Rezić
- Dist
-
Chart-Clicker v2.90
- Platform
- Perl 5 v5.32.1 x86_64-linux
- Date
- 2021-03-14 23:54:00
- ID
- 8c74d6f4-8520-11eb-a7b0-c36a1f24ea8f
This distribution has been tested as part of the CPAN Testers
project, supporting the Perl programming language. See
http://wiki.cpantesters.org/ for more information or email
questions to cpan-testers-discuss@perl.org
--
Dear Cory G Watson,
This is a computer-generated report for Chart-Clicker-2.90
on perl 5.32.1, created by CPAN-Reporter-1.2018.
Thank you for uploading your work to CPAN. Congratulations!
All tests were successful.
Sections of this report:
* Tester comments
* Program output
* Prerequisites
* Environment and other context
------------------------------
TESTER COMMENTS
------------------------------
Additional comments from tester:
none provided
------------------------------
PROGRAM OUTPUT
------------------------------
Output from '/usr/bin/make test':
PERL_DL_NONLAZY=1 "/opt/perl-5.32.1/bin/perl" "-MExtUtils::Command::MM" "-MTest::Harness" "-e" "undef *Test::Harness::Switches; test_harness(0, 'blib/lib', 'blib/arch')" t/*.t t/series/*.t t/xt/*.t
t/add-data.t .................... ok
t/author-pod-syntax.t ........... skipped: these tests are for testing by the author
t/author-synopsis.t ............. skipped: these tests are for testing by the author
t/axis-datetime.t ............... ok
t/axis-division-rounded.t ....... ok
t/axis.t ........................ ok
t/basic.t ....................... ok
t/context.t ..................... ok
t/data-dataset.t ................ ok
t/data-marker.t ................. ok
t/data-range.t .................. ok
t/datetime.t .................... ok
t/decoration-color_allocator.t .. ok
t/decoration-glass.t ............ ok
t/decoration-grid.t ............. ok
t/decoration-legend.t ........... ok
t/decoration-markeroverlay.t .... ok
t/decoration-plot.t ............. ok
t/decoration.t .................. ok
t/drawing-colorallocator.t ...... ok
t/example.t ..................... ok
t/invisible.t ................... ok
t/renderer-area.t ............... ok
t/renderer-bar.t ................ ok
t/renderer-base.t ............... ok
t/renderer-bubble.t ............. ok
t/renderer-candlestick.t ........ ok
t/renderer-line.t ............... ok
t/renderer-pie.t ................ ok
t/renderer-point.t .............. ok
t/same-axes-ctx.t ............... ok
t/series/highlow.t .............. ok
t/series/series.t ............... ok
t/series/size.t ................. ok
t/simple-ctx.t .................. ok
t/xt/pod.t ...................... ok
All tests successful.
Files=36, Tests=341, 17 wallclock secs ( 0.08 usr 0.19 sys + 15.69 cusr 1.62 csys = 17.58 CPU)
Result: PASS
------------------------------
PREREQUISITES
------------------------------
Prerequisite modules loaded:
requires:
Module Need Have
-------------------------------------------- ---- --------
Carp 0 1.50
Class::Load 0 0.25
Color::Scheme 0 1.07
constant 0 1.33
DateTime 0 1.54
DateTime::Set 0 0.3900
English 0 1.11
Geometry::Primitive::Arc 0 0
Geometry::Primitive::Circle 0 0
Geometry::Primitive::Point 0 0
Graphics::Color::RGB 0 0.31
Graphics::Primitive::Border 0 0
Graphics::Primitive::Brush 0 0
Graphics::Primitive::Canvas 0 0
Graphics::Primitive::Component 0 0
Graphics::Primitive::Container 0 0
Graphics::Primitive::Driver::Cairo 0 0.47
Graphics::Primitive::Font 0 0
Graphics::Primitive::Insets 0 0
Graphics::Primitive::Operation::Fill 0 0
Graphics::Primitive::Operation::Stroke 0 0
Graphics::Primitive::Oriented 0 0
Graphics::Primitive::Paint::Gradient::Linear 0 0
Graphics::Primitive::Paint::Gradient::Radial 0 0
Graphics::Primitive::Paint::Solid 0 0
Graphics::Primitive::Path 0 0
Graphics::Primitive::TextBox 0 0
Layout::Manager::Absolute 0 0
Layout::Manager::Axis 0 0
Layout::Manager::Compass 0 0
Layout::Manager::Flow 0 0
Layout::Manager::Grid 0 0
Layout::Manager::Single 0 0
List::Util 0 1.55
Math::Trig 0 1.23
Moose 0 2.2014
Moose::Role 0 2.2014
Moose::Util 0 2.2014
Moose::Util::TypeConstraints 0 2.2014
POSIX 0 1.94
Scalar::Util 0 1.55
strict 0 1.11
warnings 0 1.47
build_requires:
Module Need Have
-------------------------------------------- ---- --------
ExtUtils::MakeMaker 0 7.44
Test::Exception 0 0.43
Test::Fatal 0 0.016
Test::More 0 1.302183
configure_requires:
Module Need Have
-------------------------------------------- ---- --------
ExtUtils::MakeMaker 0 7.44
------------------------------
ENVIRONMENT AND OTHER CONTEXT
------------------------------
Environment variables:
LANG = C
PATH = /usr/local/bin:/usr/bin:/bin:/usr/local/sbin:/usr/sbin:/sbin:/home/eserte/bin/linux-gnu:/home/eserte/bin/sh:/home/eserte/bin:/home/eserte/bin/pistachio-perl/bin:/usr/games:/home/eserte/devel:/home/eserte/src/srezic-misc/scripts
PERL5LIB =
PERL5OPT =
PERL5_CPANPLUS_IS_RUNNING = 11137
PERL5_CPAN_IS_RUNNING = 11137
PERL5_CPAN_IS_RUNNING_IN_RECURSION = 27802,11137
PERLDOC = -MPod::Perldoc::ToTextOverstrike
PERL_BATCH = yes
PERL_CANARY_STABILITY_NOPROMPT = 1
PERL_CPAN_REPORTER_CONFIG = /var/tmp/cpansmoker-1001/2021031422/cpanreporter_000_config.ini
PERL_EXTUTILS_AUTOINSTALL = --defaultdeps
PERL_USE_UNSAFE_INC = 1
PISTACHIO_PERL_MANAGER = 1
SHELL = /usr/bin/zsh
TERM = screen
TMPDIR = /var/tmp/cpansmoker-1001/2021031422
Perl special variables (and OS-specific diagnostics, for MSWin32):
$^X = /opt/perl-5.32.1/bin/perl
$UID/$EUID = 1001 / 1001
$GID = 1001 114 1001
$EGID = 1001 114 1001
Perl module toolchain versions installed:
Module Have
------------------- --------
CPAN 2.27
CPAN::Meta 2.150010
Cwd 3.78
ExtUtils::CBuilder 0.280234
ExtUtils::Command 7.44
ExtUtils::Install 2.14
ExtUtils::MakeMaker 7.44
ExtUtils::Manifest 1.72
ExtUtils::ParseXS 3.40
File::Spec 3.78
JSON n/a
JSON::PP 4.04
Module::Build 0.4231
Module::Signature n/a
Parse::CPAN::Meta 2.150010
Test::Harness 3.42
Test::More 1.302183
YAML 1.30
YAML::Syck 1.34
version 0.9924
--
Summary of my perl5 (revision 5 version 32 subversion 1) configuration:
Platform:
osname=linux
osvers=4.15.0-136-generic
archname=x86_64-linux
uname='linux eserte 4.15.0-136-generic #140-ubuntu smp thu jan 28 05:20:47 utc 2021 x86_64 gnulinux '
config_args='-ds -e -Dprefix=/opt/perl-5.32.1 -Dcf_email=srezic@cpan.org'
hint=previous
useposix=true
d_sigaction=define
useithreads=undef
usemultiplicity=undef
use64bitint=define
use64bitall=define
uselongdouble=undef
usemymalloc=n
default_inc_excludes_dot=define
bincompat5005=undef
Compiler:
cc='cc'
ccflags ='-fwrapv -fno-strict-aliasing -pipe -fstack-protector-strong -I/usr/local/include -D_LARGEFILE_SOURCE -D_FILE_OFFSET_BITS=64 -D_FORTIFY_SOURCE=2'
optimize='-O2'
cppflags='-fwrapv -fno-strict-aliasing -pipe -fstack-protector-strong -I/usr/local/include'
ccversion=''
gccversion='8.3.0'
gccosandvers=''
intsize=4
longsize=8
ptrsize=8
doublesize=8
byteorder=12345678
doublekind=3
d_longlong=define
longlongsize=8
d_longdbl=define
longdblsize=16
longdblkind=3
ivtype='long'
ivsize=8
nvtype='double'
nvsize=8
Off_t='off_t'
lseeksize=8
alignbytes=8
prototype=define
Linker and Libraries:
ld='cc'
ldflags =' -fstack-protector-strong -L/usr/local/lib'
libpth=/usr/local/lib /usr/lib/gcc/x86_64-linux-gnu/8/include-fixed /usr/include/x86_64-linux-gnu /usr/lib /lib/x86_64-linux-gnu /lib/../lib /usr/lib/x86_64-linux-gnu /usr/lib/../lib /lib /usr/local/lib /usr/lib/gcc/x86_64-linux-gnu/8/include-fixed /usr/include/x86_64-linux-gnu /usr/lib
libs=-lpthread -lnsl -ldl -lm -lcrypt -lutil -lc
perllibs=-lpthread -lnsl -ldl -lm -lcrypt -lutil -lc
libc=libc-2.28.so
so=so
useshrplib=false
libperl=libperl.a
gnulibc_version='2.28'
Dynamic Linking:
dlsrc=dl_dlopen.xs
dlext=so
d_dlsymun=undef
ccdlflags='-Wl,-E'
cccdlflags='-fPIC'
lddlflags='-shared -O2 -L/usr/local/lib -fstack-protector-strong'
Characteristics of this binary (from libperl):
Compile-time options:
HAS_TIMES
PERLIO_LAYERS
PERL_COPY_ON_WRITE
PERL_DONT_CREATE_GVSV
PERL_MALLOC_WRAP
PERL_OP_PARENT
PERL_PRESERVE_IVUV
USE_64_BIT_ALL
USE_64_BIT_INT
USE_LARGE_FILES
USE_LOCALE
USE_LOCALE_COLLATE
USE_LOCALE_CTYPE
USE_LOCALE_NUMERIC
USE_LOCALE_TIME
USE_PERLIO
USE_PERL_ATOF
Built under linux
Compiled at Mar 14 2021 22:25:20
%ENV:
PERL5LIB=""
PERL5OPT=""
PERL5_CPANPLUS_IS_RUNNING="11137"
PERL5_CPAN_IS_RUNNING="11137"
PERL5_CPAN_IS_RUNNING_IN_RECURSION="27802,11137"
PERLDOC="-MPod::Perldoc::ToTextOverstrike"
PERL_BATCH="yes"
PERL_CANARY_STABILITY_NOPROMPT="1"
PERL_CPAN_REPORTER_CONFIG="/var/tmp/cpansmoker-1001/2021031422/cpanreporter_000_config.ini"
PERL_EXTUTILS_AUTOINSTALL="--defaultdeps"
PERL_USE_UNSAFE_INC="1"
@INC:
/opt/perl-5.32.1/lib/site_perl/5.32.1/x86_64-linux
/opt/perl-5.32.1/lib/site_perl/5.32.1
/opt/perl-5.32.1/lib/5.32.1/x86_64-linux
/opt/perl-5.32.1/lib/5.32.1
.