Back
From: metabase:user:314402c4-2aae-11df-837a-5e0a49663a4f
Subject: PASS String-Truncate-1.100600 v5.16.1 FreeBSD
Date: 2013-03-24T12:15:42Z
This distribution has been tested as part of the CPAN Testers
project, supporting the Perl programming language. See
http://wiki.cpantesters.org/ for more information or email
questions to cpan-testers-discuss@perl.org
--
Dear Ricardo SIGNES,
This is a computer-generated report for String-Truncate-1.100600
on perl 5.16.1, created by CPAN-Reporter-1.2006.
Thank you for uploading your work to CPAN. Congratulations!
All tests were successful.
Sections of this report:
* Tester comments
* Program output
* Prerequisites
* Environment and other context
------------------------------
TESTER COMMENTS
------------------------------
Additional comments from tester:
none provided
------------------------------
PROGRAM OUTPUT
------------------------------
Output from '/usr/bin/make test':
PERL_DL_NONLAZY=1 /usr/perl5.16.1d/bin/perl5.16.1 "-MExtUtils::Command::MM" "-e" "test_harness(0, 'blib/lib', 'blib/arch')" t/*.t
t/basic.t ............... ok
t/boilerplate.t ......... ok
t/ends.t ................ ok
t/exports.t ............. ok
t/release-pod-syntax.t .. skipped: these tests are for release candidate testing
All tests successful.
Files=5, Tests=67, 1 wallclock secs ( 0.07 usr 0.02 sys + 0.39 cusr 0.08 csys = 0.55 CPU)
Result: PASS
------------------------------
PREREQUISITES
------------------------------
Prerequisite modules loaded:
requires:
Module Need Have
------------------- ----- -------
Carp 0 1.26
Sub::Exporter 0.953 0.984
Sub::Exporter::Util 0 0.984
Sub::Install 0.03 0.926
build_requires:
Module Need Have
------------------- ----- -------
Test::More 0.96 0.98
configure_requires:
Module Need Have
------------------- ----- -------
ExtUtils::MakeMaker 6.31 6.63_02
------------------------------
ENVIRONMENT AND OTHER CONTEXT
------------------------------
Environment variables:
DBIC_NO_WARN_BAD_PERL = 1
LC_ALL = de_DE.ISO8859-1
MYPERLDIR = /usr/perl5.17.10d
MYPERLVER = 5.17.10d
PATH = /usr/local/bin:/usr/X11R6/bin:/usr/X11/bin:/usr/bin:/bin:/usr/local/sbin:/usr/sbin:/sbin:/home/e/eserte/bin/freebsd9.0:/home/e/eserte/bin/sh:/home/e/eserte/bin:/usr/games:/home/e/eserte/devel:/home/e/eserte/src/srezic-misc/scripts
PERL5LIB = /usr/local/src/CPAN/build/Sub-Exporter-ForMethods-0.100050-Kh_IAL/blib/arch:/usr/local/src/CPAN/build/Sub-Exporter-ForMethods-0.100050-Kh_IAL/blib/lib:/usr/local/src/CPAN/build/Pod-Eventual-0.093330-FsXqAC/blib/arch:/usr/local/src/CPAN/build/Pod-Eventual-0.093330-FsXqAC/blib/lib:/usr/local/src/CPAN/build/Mixin-Linewise-0.003-TVFfik/blib/arch:/usr/local/src/CPAN/build/Mixin-Linewise-0.003-TVFfik/blib/lib
PERL5OPT =
PERL5_CPANPLUS_IS_RUNNING = 72798
PERL5_CPAN_IS_RUNNING = 72798
PERL5_CPAN_IS_RUNNING_IN_RECURSION = 63861,72798
PERLDOC = -MPod::Perldoc::ToTextOverstrike
PERL_BATCH = yes
PERL_CPAN_REPORTER_CONFIG = /var/tmp/cpansmoker-1000/hjGU_Fj1lG_config.ini
PERL_EXTUTILS_AUTOINSTALL = --defaultdeps
PERL_HTML_DISPLAY_CLASS = HTML::Display::Mozilla
SHELL = /usr/local/bin/zsh
STDPERL = perl
TERM = xterm
TMPDIR = /var/tmp/cpansmoker-1000
Perl special variables (and OS-specific diagnostics, for MSWin32):
$^X = /usr/perl5.16.1d/bin/perl5.16.1
$UID/$EUID = 1000 / 1000
$GID = 1000 1000 0 5 920 1023 1024
$EGID = 1000 1000 0 5 920 1023 1024
Perl module toolchain versions installed:
Module Have
------------------- --------
CPAN 1.9800
CPAN::Meta 2.120921
Cwd 3.40
ExtUtils::CBuilder 0.280206
ExtUtils::Command 1.17
ExtUtils::Install 1.58
ExtUtils::MakeMaker 6.63_02
ExtUtils::Manifest 1.61
ExtUtils::ParseXS 3.16
File::Spec 3.40
JSON 2.53
JSON::PP 2.27200
Module::Build 0.4003
Module::Signature n/a
Parse::CPAN::Meta 1.4404
Test::Harness 3.23
Test::More 0.98
YAML 0.84
YAML::Syck 1.22
version 0.99
--
Summary of my perl5 (revision 5 version 16 subversion 1) configuration:
Platform:
osname=freebsd, osvers=9.0-release, archname=amd64-freebsd
uname='freebsd cvrsnica.herceg.de 9.0-release freebsd 9.0-release #0: tue jan 3 07:46:30 utc 2012 root@farrell.cse.buffalo.edu:usrobjusrsrcsysgeneric amd64 '
config_args='-Doptimize=-g3 -ggdb -DPERL_DEBUGGING_MSTATS -Dprefix=/usr/perl5.16.1d -Dusemymalloc=y -D cc=ccache cc -Dgccansipedantic -de'
hint=recommended, useposix=true, d_sigaction=define
useithreads=undef, usemultiplicity=undef
useperlio=define, d_sfio=undef, uselargefiles=define, usesocks=undef
use64bitint=define, use64bitall=define, uselongdouble=undef
usemymalloc=y, bincompat5005=undef
Compiler:
cc='ccache cc', ccflags ='-DHAS_FPSETMASK -DHAS_FLOATINGPOINT_H -fno-strict-aliasing -pipe -fstack-protector -I/usr/local/include',
optimize='-g3 -ggdb -DPERL_DEBUGGING_MSTATS',
cppflags='-DHAS_FPSETMASK -DHAS_FLOATINGPOINT_H -fno-strict-aliasing -pipe -fstack-protector -I/usr/local/include'
ccversion='', gccversion='4.2.1 20070831 patched [FreeBSD]', gccosandvers=''
intsize=4, longsize=8, ptrsize=8, doublesize=8, byteorder=12345678
d_longlong=define, longlongsize=8, d_longdbl=define, longdblsize=16
ivtype='long', ivsize=8, nvtype='double', nvsize=8, Off_t='off_t', lseeksize=8
alignbytes=8, prototype=define
Linker and Libraries:
ld='ccache cc', ldflags ='-Wl,-E -fstack-protector -L/usr/local/lib'
libpth=/usr/lib /usr/local/lib
libs=-lgdbm -lm -lcrypt -lutil -lc
perllibs=-lm -lcrypt -lutil -lc
libc=, so=so, useshrplib=false, libperl=libperl.a
gnulibc_version=''
Dynamic Linking:
dlsrc=dl_dlopen.xs, dlext=so, d_dlsymun=undef, ccdlflags=' '
cccdlflags='-DPIC -fPIC', lddlflags='-shared -L/usr/local/lib -fstack-protector'
Characteristics of this binary (from libperl):
Compile-time options: HAS_TIMES MYMALLOC PERLIO_LAYERS
PERL_DONT_CREATE_GVSV PERL_MALLOC_WRAP
PERL_PRESERVE_IVUV PERL_USE_DEVEL USE_64_BIT_ALL
USE_64_BIT_INT USE_LARGE_FILES USE_LOCALE
USE_LOCALE_COLLATE USE_LOCALE_CTYPE
USE_LOCALE_NUMERIC USE_PERLIO USE_PERL_ATOF
Built under freebsd
Compiled at Aug 23 2012 23:38:43
%ENV:
PERL5LIB="/usr/local/src/CPAN/build/Sub-Exporter-ForMethods-0.100050-Kh_IAL/blib/arch:/usr/local/src/CPAN/build/Sub-Exporter-ForMethods-0.100050-Kh_IAL/blib/lib:/usr/local/src/CPAN/build/Pod-Eventual-0.093330-FsXqAC/blib/arch:/usr/local/src/CPAN/build/Pod-Eventual-0.093330-FsXqAC/blib/lib:/usr/local/src/CPAN/build/Mixin-Linewise-0.003-TVFfik/blib/arch:/usr/local/src/CPAN/build/Mixin-Linewise-0.003-TVFfik/blib/lib"
PERL5OPT=""
PERL5_CPANPLUS_IS_RUNNING="72798"
PERL5_CPAN_IS_RUNNING="72798"
PERL5_CPAN_IS_RUNNING_IN_RECURSION="63861,72798"
PERLDOC="-MPod::Perldoc::ToTextOverstrike"
PERL_BATCH="yes"
PERL_CPAN_REPORTER_CONFIG="/var/tmp/cpansmoker-1000/hjGU_Fj1lG_config.ini"
PERL_EXTUTILS_AUTOINSTALL="--defaultdeps"
PERL_HTML_DISPLAY_CLASS="HTML::Display::Mozilla"
@INC:
/usr/local/src/CPAN/build/Sub-Exporter-ForMethods-0.100050-Kh_IAL/blib/arch
/usr/local/src/CPAN/build/Sub-Exporter-ForMethods-0.100050-Kh_IAL/blib/lib
/usr/local/src/CPAN/build/Pod-Eventual-0.093330-FsXqAC/blib/arch
/usr/local/src/CPAN/build/Pod-Eventual-0.093330-FsXqAC/blib/lib
/usr/local/src/CPAN/build/Mixin-Linewise-0.003-TVFfik/blib/arch
/usr/local/src/CPAN/build/Mixin-Linewise-0.003-TVFfik/blib/lib
/usr/perl5.16.1d/lib/site_perl/5.16.1/amd64-freebsd
/usr/perl5.16.1d/lib/site_perl/5.16.1
/usr/perl5.16.1d/lib/5.16.1/amd64-freebsd
/usr/perl5.16.1d/lib/5.16.1
.