Path-Dispatcher v1.08 Perl 5 v5.34.1 x86_64-linux-ld
- Status
- Pass
- From
- Andreas J. König (ANDK)
- Dist
-
Path-Dispatcher v1.08
- Platform
- Perl 5 v5.34.1 x86_64-linux-ld
- Date
- 2022-04-08 11:03:40
- ID
- 8c532ea8-b72b-11ec-a267-2d97c1b01ee6
This distribution has been tested as part of the CPAN Testers
project, supporting the Perl programming language. See
http://wiki.cpantesters.org/ for more information or email
questions to cpan-testers-discuss@perl.org
--
Dear Karen Etheridge,
This is a computer-generated report for Path-Dispatcher-1.08
on perl 5.34.1, created by CPAN-Reporter-1.2018.
Thank you for uploading your work to CPAN. Congratulations!
All tests were successful.
Sections of this report:
* Tester comments
* Program output
* Prerequisites
* Environment and other context
------------------------------
TESTER COMMENTS
------------------------------
Additional comments from tester:
this report is from an automated smoke testing program
and was not reviewed by a human for accuracy
------------------------------
PROGRAM OUTPUT
------------------------------
Output from '/usr/bin/make test':
PERL_DL_NONLAZY=1 "/tmp/basesmoker-reloperl-Kw7N/bin/perl" "-MExtUtils::Command::MM" "-MTest::Harness" "-e" "undef *Test::Harness::Switches; test_harness(0, 'blib/lib', 'blib/arch')" t/*.t
#
# Versions for all modules listed in MYMETA.json (including optional ones):
#
# === Configure Requires ===
#
# Module Want Have
# ------------------- ----- -----
# ExtUtils::MakeMaker any 7.64
# Module::Build::Tiny 0.034 0.039
#
# === Build Requires ===
#
# Module Want Have
# ------------------- ---- ----
# ExtUtils::MakeMaker any 7.64
#
# === Test Requires ===
#
# Module Want Have
# ---------------- ---- --------
# File::Spec any 3.80
# Module::Metadata any 1.000037
# Test::Fatal any 0.016
# Test::More any 1.302190
# strict any 1.12
# warnings any 1.51
#
# === Test Recommends ===
#
# Module Want Have
# ---------- -------- --------
# CPAN::Meta 2.120900 2.150010
#
# === Runtime Requires ===
#
# Module Want Have
# --------------- ---- --------
# Carp any 1.52
# Moo any 2.005004
# Moo::Role any 2.005004
# MooX::TypeTiny any 0.002003
# Scalar::Util any 1.62
# Try::Tiny any 0.31
# Type::Tiny any 1.012004
# Type::Utils any 1.012004
# Types::Standard any 1.012004
# constant any 1.33
# overload any 1.33
#
# === Other Modules ===
#
# Module Have
# --------------- ------
# Encode 3.17
# File::Temp 0.2311
# JSON::PP 4.07
# Module::Runtime 0.016
# Sub::Name 0.26
# YAML 1.30
# autodie 2.34
#
t/00-report-prereqs.t .......... ok
t/000-compile.t ................ ok
t/001-api.t .................... ok
t/002-rule.t ................... ok
t/003-404.t .................... ok
t/004-run.t .................... ok
t/005-multi-rule.t ............. ok
t/006-abort.t .................. ok
t/007-coderef-matcher.t ........ ok
t/009-args.t ................... ok
t/010-return.t ................. ok
t/011-next-rule.t .............. ok
t/012-under.t .................. ok
t/013-tokens.t ................. ok
t/014-tokens-prefix.t .......... ok
t/015-regex-prefix.t ........... ok
t/017-intersection.t ........... ok
t/018-metadata.t ............... ok
t/019-intersection-metadata.t .. ok
t/022-numbers-undef.t .......... ok
t/023-alternation.t ............ ok
t/024-sequence.t ............... ok
t/025-sequence-custom-rule.t ... ok
t/026-named-captures.t ......... ok
t/027-custom-named-captures.t .. ok
t/030-exceptions.t ............. ok
t/031-structured-match.t ....... ok
t/032-multiple-delimiter.t ..... ok
t/033-chain.t .................. ok
t/100-match-object.t ........... ok
t/200-payload.t ................ ok
t/901-return-values.t .......... ok
t/902-coderef.t ................ ok
All tests successful.
Files=33, Tests=216, 6 wallclock secs ( 0.08 usr 0.11 sys + 4.11 cusr 0.78 csys = 5.08 CPU)
Result: PASS
------------------------------
PREREQUISITES
------------------------------
Prerequisite modules loaded:
requires:
Module Need Have
------------------- -------- --------
Carp 0 1.52
constant 0 1.33
Moo 0 2.005004
Moo::Role 0 2.005004
MooX::TypeTiny 0 0.002003
overload 0 1.33
perl 5.008001 5.034001
Scalar::Util 0 1.62
Try::Tiny 0 0.31
Type::Tiny 0 1.012004
Type::Utils 0 1.012004
Types::Standard 0 1.012004
build_requires:
Module Need Have
------------------- -------- --------
ExtUtils::MakeMaker 0 7.64
File::Spec 0 3.80
Module::Metadata 0 1.000037
strict 0 1.12
Test::Fatal 0 0.016
Test::More 0 1.302190
warnings 0 1.51
configure_requires:
Module Need Have
------------------- -------- --------
ExtUtils::MakeMaker 0 7.64
Module::Build::Tiny 0.034 0.039
perl 5.008001 5.034001
------------------------------
ENVIRONMENT AND OTHER CONTEXT
------------------------------
Environment variables:
AUTOMATED_TESTING = 1
LANG = C
PATH = /home/sand/.nix-profile/bin:/home/sand/bin:/usr/local/bin:/home/sand/.nix-profile/bin:/usr/bin:/bin:/usr/games:/usr/local/perl/bin:/usr/X11/bin:/sbin:/usr/sbin
PERL5LIB =
PERL5OPT =
PERL5_CPANPLUS_IS_RUNNING = 19172
PERL5_CPAN_IS_RUNNING = 19172
PERL_CANARY_STABILITY_NOPROMPT = 1
PERL_MM_USE_DEFAULT = 1
PERL_USE_UNSAFE_INC = 1
SHELL = /usr/bin/zsh
TERM = screen
Perl special variables (and OS-specific diagnostics, for MSWin32):
$^X = /tmp/basesmoker-reloperl-Kw7N/bin/perl
$UID/$EUID = 1005 / 1005
$GID = 1005 1005
$EGID = 1005 1005
Perl module toolchain versions installed:
Module Have
------------------- --------
CPAN 2.34
CPAN::Meta 2.150010
Cwd 3.80
ExtUtils::CBuilder 0.280236
ExtUtils::Command 7.64
ExtUtils::Install 2.20
ExtUtils::MakeMaker 7.64
ExtUtils::Manifest 1.73
ExtUtils::ParseXS 3.43
File::Spec 3.80
JSON 4.05
JSON::PP 4.07
Module::Build 0.4231
Module::Signature 0.88
Parse::CPAN::Meta 2.150010
Test::Harness 3.43
Test::More 1.302190
YAML 1.30
YAML::Syck 1.34
version 0.9929
--
Summary of my perl5 (revision 5 version 34 subversion 1) configuration:
Commit id: 1181cf72936404b890ef41362f533fe2c2626f9b
Platform:
osname=linux
osvers=4.9.0-18-amd64
archname=x86_64-linux-ld
uname='linux k93stretch 4.9.0-18-amd64 #1 smp debian 4.9.303-1 (2022-03-07) x86_64 gnulinux '
config_args='-Dprefix=/home/sand/src/perl/repoperls/installed-perls/host/k93stretch/v5.34.1/0cee -Dmyhostname=k93stretch -Dinstallusrbinperl=n -Uversiononly -Dusedevel -des -Ui_db -Dlibswanted=cl pthread socket inet nsl gdbm dbm malloc dl ld sun m crypt sec util c cposix posix ucb BSD gdbm_compat -Uuseithreads -Duselongdouble -DEBUGGING=-g'
hint=recommended
useposix=true
d_sigaction=define
useithreads=undef
usemultiplicity=undef
use64bitint=define
use64bitall=define
uselongdouble=define
usemymalloc=n
default_inc_excludes_dot=define
Compiler:
cc='cc'
ccflags ='-fwrapv -fno-strict-aliasing -pipe -fstack-protector-strong -I/usr/local/include -D_LARGEFILE_SOURCE -D_FILE_OFFSET_BITS=64 -D_FORTIFY_SOURCE=2'
optimize='-O2 -g'
cppflags='-fwrapv -fno-strict-aliasing -pipe -fstack-protector-strong -I/usr/local/include'
ccversion=''
gccversion='6.3.0 20170516'
gccosandvers=''
intsize=4
longsize=8
ptrsize=8
doublesize=8
byteorder=12345678
doublekind=3
d_longlong=define
longlongsize=8
d_longdbl=define
longdblsize=16
longdblkind=3
ivtype='long'
ivsize=8
nvtype='long double'
nvsize=16
Off_t='off_t'
lseeksize=8
alignbytes=16
prototype=define
Linker and Libraries:
ld='cc'
ldflags =' -fstack-protector-strong -L/usr/local/lib'
libpth=/usr/local/lib /usr/lib/x86_64-linux-gnu /usr/lib /lib/x86_64-linux-gnu /lib
libs=-lpthread -lnsl -ldl -lm -lcrypt -lutil -lc
perllibs=-lpthread -lnsl -ldl -lm -lcrypt -lutil -lc
libc=libc-2.24.so
so=so
useshrplib=false
libperl=libperl.a
gnulibc_version='2.24'
Dynamic Linking:
dlsrc=dl_dlopen.xs
dlext=so
d_dlsymun=undef
ccdlflags='-Wl,-E'
cccdlflags='-fPIC'
lddlflags='-shared -O2 -g -L/usr/local/lib -fstack-protector-strong'
Characteristics of this binary (from libperl):
Compile-time options:
HAS_TIMES
PERLIO_LAYERS
PERL_COPY_ON_WRITE
PERL_DONT_CREATE_GVSV
PERL_MALLOC_WRAP
PERL_OP_PARENT
PERL_PRESERVE_IVUV
PERL_USE_DEVEL
USE_64_BIT_ALL
USE_64_BIT_INT
USE_LARGE_FILES
USE_LOCALE
USE_LOCALE_COLLATE
USE_LOCALE_CTYPE
USE_LOCALE_NUMERIC
USE_LOCALE_TIME
USE_LONG_DOUBLE
USE_PERLIO
USE_PERL_ATOF
Built under linux
Compiled at Apr 5 2022 02:40:20
%ENV:
PERL5LIB=""
PERL5OPT=""
PERL5_CPANPLUS_IS_RUNNING="19172"
PERL5_CPAN_IS_RUNNING="19172"
PERL_CANARY_STABILITY_NOPROMPT="1"
PERL_MM_USE_DEFAULT="1"
PERL_USE_UNSAFE_INC="1"
@INC:
/home/sand/src/perl/repoperls/installed-perls/host/k93stretch/v5.34.1/0cee/lib/site_perl/5.34.1/x86_64-linux-ld
/home/sand/src/perl/repoperls/installed-perls/host/k93stretch/v5.34.1/0cee/lib/site_perl/5.34.1
/home/sand/src/perl/repoperls/installed-perls/host/k93stretch/v5.34.1/0cee/lib/5.34.1/x86_64-linux-ld
/home/sand/src/perl/repoperls/installed-perls/host/k93stretch/v5.34.1/0cee/lib/5.34.1
.