Syntax-Feature-Void vv1.6.0 Perl 5 v5.22.2 amd64-freebsd

Status
Pass
From
Slaven Rezić
Dist
Syntax-Feature-Void vv1.6.0
Platform
Perl 5 v5.22.2 amd64-freebsd
Date
2025-01-10 05:12:54
ID
8c3b2cbc-cf11-11ef-954c-1e4b6e8775ea
This distribution has been tested as part of the CPAN Testers
project, supporting the Perl programming language.  See
http://wiki.cpantesters.org/ for more information or email
questions to cpan-testers-discuss@perl.org


--
Dear ikegami,

This is a computer-generated report for Syntax-Feature-Void-v1.6.0
on perl 5.22.2, created by CPAN-Reporter-1.2019.

Thank you for uploading your work to CPAN.  Congratulations!
All tests were successful.

Sections of this report:

    * Tester comments
    * Program output
    * Prerequisites
    * Environment and other context

------------------------------
TESTER COMMENTS
------------------------------

Additional comments from tester:

none provided

------------------------------
PROGRAM OUTPUT
------------------------------

Output from '/usr/bin/make test':

"/usr/perl5.22.2p/bin/perl" -MExtUtils::Command::MM -e 'cp_nonempty' -- Void.bs blib/arch/auto/Syntax/Feature/Void/Void.bs 644
PERL_DL_NONLAZY=1 "/usr/perl5.22.2p/bin/perl" "-MExtUtils::Command::MM" "-MTest::Harness" "-e" "undef *Test::Harness::Switches; test_harness(0, 'blib/lib', 'blib/arch')" t/*.t
# Testing Syntax::Feature::Void v1.6.0
# Using Perl 5.022002
# Carp 1.50
# Config 5.022002
# DynaLoader 1.32
# Exporter 5.78
# Exporter::Heavy 5.78
# Fcntl 1.13
# List::Util 1.68
# POSIX 1.53_01
# PerlIO 1.09
# Scalar::Util 1.68
# Syntax::Feature::Void v1.6.0
# Test::Builder 1.302206
# Test::Builder::Formatter 1.302206
# Test::Builder::Module 1.302206
# Test::Builder::TodoDiag 1.302206
# Test::More 1.302206
# Test2::API 1.302206
# Test2::API::Context 1.302206
# Test2::API::Instance 1.302206
# Test2::API::Stack 1.302206
# Test2::Event 1.302206
# Test2::Event::Bail 1.302206
# Test2::Event::Diag 1.302206
# Test2::Event::Exception 1.302206
# Test2::Event::Fail 1.302206
# Test2::Event::Note 1.302206
# Test2::Event::Ok 1.302206
# Test2::Event::Pass 1.302206
# Test2::Event::Plan 1.302206
# Test2::Event::Skip 1.302206
# Test2::Event::Subtest 1.302206
# Test2::Event::V2 1.302206
# Test2::Event::Waiting 1.302206
# Test2::EventFacet 1.302206
# Test2::EventFacet::About 1.302206
# Test2::EventFacet::Amnesty 1.302206
# Test2::EventFacet::Assert 1.302206
# Test2::EventFacet::Control 1.302206
# Test2::EventFacet::Error 1.302206
# Test2::EventFacet::Hub 1.302206
# Test2::EventFacet::Info 1.302206
# Test2::EventFacet::Meta 1.302206
# Test2::EventFacet::Parent 1.302206
# Test2::EventFacet::Plan 1.302206
# Test2::EventFacet::Trace 1.302206
# Test2::Formatter 1.302206
# Test2::Formatter::TAP 1.302206
# Test2::Hub 1.302206
# Test2::Hub::Interceptor 1.302206
# Test2::Hub::Interceptor::Terminator 1.302206
# Test2::Hub::Subtest 1.302206
# Test2::Util 1.302206
# Test2::Util::ExternalMeta 1.302206
# Test2::Util::Facets2Legacy 1.302206
# Test2::Util::HashBase 1.302206
# Test2::Util::Trace 1.302206
# Tie::Hash 1.05
# Time::HiRes 1.9764
# XSLoader 0.24
# base 2.22
# mro 1.17
# overloading 0.02
# strict 1.09
# vars 1.03
# version 0.9933
# version::regex 0.9933
# version::vxs 0.9933
# warnings 1.34
# warnings::register 1.04
t/00_load.t ................. ok
t/01_devel_mark_check.t ..... skipped: Mark checks are only performed when DEVEL_TESTS=1
t/02_devel_version_check.t .. skipped: Version checks are only performed when DEVEL_TESTS=1
t/03_devel_whitespace.t ..... skipped: Whitespace checks are only performed when DEVEL_TESTS=1
t/04_devel_permissions.t .... skipped: Permission checks are only performed when DEVEL_TESTS=1
t/05_pod.t .................. ok
t/06_devel_pod_coverage.t ... skipped: Pod coverage is only tested when DEVEL_TESTS=1
t/07_basic.t ................ ok
t/08_pragma_a.t ............. ok
t/09_pragma_b.t ............. ok
All tests successful.
Files=10, Tests=18,  1 wallclock secs ( 0.02 usr  0.01 sys +  0.34 cusr  0.23 csys =  0.60 CPU)
Result: PASS

------------------------------
PREREQUISITES
------------------------------

Prerequisite modules loaded:

requires:

    Module              Need  Have    
    ------------------- ----- --------
    perl                5.014 5.022002
    strict              0     1.09    
    syntax              0.004 0.004   
    version             0     0.9933  
    warnings            0     1.34    
    XSLoader            0     0.24    

build_requires:

    Module              Need  Have    
    ------------------- ----- --------
    Test::More          0     1.302206

configure_requires:

    Module              Need  Have    
    ------------------- ----- --------
    ExtUtils::MakeMaker 6.74  7.70    


------------------------------
ENVIRONMENT AND OTHER CONTEXT
------------------------------

Environment variables:

    LC_ALL = de_DE.ISO8859-1
    PATH = /usr/local/bin:/usr/bin:/bin:/usr/local/sbin:/usr/sbin:/sbin:/home/cpansand/bin/freebsd10.3:/home/cpansand/bin/sh:/home/cpansand/bin:/usr/games:/home/cpansand/devel:/home/eserte/src/srezic-misc/scripts
    PERL5LIB = 
    PERL5OPT = 
    PERL5_CPANPLUS_IS_RUNNING = 45505
    PERL5_CPAN_IS_RUNNING = 45505
    PERL5_CPAN_IS_RUNNING_IN_RECURSION = 66295,45505
    PERLDOC = -MPod::Perldoc::ToTextOverstrike
    PERL_BATCH = yes
    PERL_CANARY_STABILITY_NOPROMPT = 1
    PERL_CPAN_REPORTER_CONFIG = /var/tmp/cpansmoker-1023/2025011000/cpanreporter_000_config.ini
    PERL_EXTUTILS_AUTOINSTALL = --defaultdeps
    PERL_USE_UNSAFE_INC = 1
    SHELL = /usr/local/bin/zsh
    TERM = screen
    TMPDIR = /var/tmp/cpansmoker-1023/2025011000

Perl special variables (and OS-specific diagnostics, for MSWin32):

    $^X = /usr/perl5.22.2p/bin/perl
    $UID/$EUID = 1023 / 1023
    $GID = 1023 1023
    $EGID = 1023 1023

Perl module toolchain versions installed:

    Module              Have    
    ------------------- --------
    CPAN                2.37    
    CPAN::Meta          2.150010
    Cwd                 3.75    
    ExtUtils::CBuilder  0.280236
    ExtUtils::Command   7.70    
    ExtUtils::Install   2.22    
    ExtUtils::MakeMaker 7.70    
    ExtUtils::Manifest  1.75    
    ExtUtils::ParseXS   3.51    
    File::Spec          3.75    
    JSON                4.10    
    JSON::PP            4.16    
    Module::Build       0.4234  
    Module::Signature   0.89    
    Parse::CPAN::Meta   2.150010
    Test2               1.302206
    Test::Harness       3.50    
    Test::More          1.302206
    YAML                1.30    
    YAML::Syck          1.34    
    version             0.9933  


--

Summary of my perl5 (revision 5 version 22 subversion 2) configuration:
   
  Platform:
    osname=freebsd, osvers=10.1-release, archname=amd64-freebsd
    uname='freebsd cvrsnica-freebsd-101.herceg.de 10.1-release freebsd 10.1-release #0 r274401: tue nov 11 21:02:49 utc 2014 root@releng1.nyi.freebsd.org:usrobjusrsrcsysgeneric amd64 '
    config_args='-ds -e -Dprefix=/usr/perl5.22.2p -Dcf_email=srezic@cpan.org -Doptimize=-O2 -pipe'
    hint=recommended, useposix=true, d_sigaction=define
    useithreads=undef, usemultiplicity=undef
    use64bitint=define, use64bitall=define, uselongdouble=undef
    usemymalloc=n, bincompat5005=undef
  Compiler:
    cc='cc', ccflags ='-DHAS_FPSETMASK -DHAS_FLOATINGPOINT_H -fno-strict-aliasing -pipe -fstack-protector -I/usr/local/include -D_FORTIFY_SOURCE=2',
    optimize='-O2 -pipe',
    cppflags='-DHAS_FPSETMASK -DHAS_FLOATINGPOINT_H -fno-strict-aliasing -pipe -fstack-protector -I/usr/local/include'
    ccversion='', gccversion='4.2.1 Compatible FreeBSD Clang 3.4.1 (tags/RELEASE_34/dot1-final 208032)', gccosandvers=''
    intsize=4, longsize=8, ptrsize=8, doublesize=8, byteorder=12345678, doublekind=3
    d_longlong=define, longlongsize=8, d_longdbl=define, longdblsize=16, longdblkind=3
    ivtype='long', ivsize=8, nvtype='double', nvsize=8, Off_t='off_t', lseeksize=8
    alignbytes=8, prototype=define
  Linker and Libraries:
    ld='cc', ldflags ='-pthread -Wl,-E  -fstack-protector -L/usr/local/lib'
    libpth=/usr/lib /usr/local/lib /usr/include/clang/3.4.1 /usr/lib
    libs=-lpthread -lgdbm -lm -lcrypt -lutil -lc
    perllibs=-lpthread -lm -lcrypt -lutil -lc
    libc=, so=so, useshrplib=false, libperl=libperl.a
    gnulibc_version=''
  Dynamic Linking:
    dlsrc=dl_dlopen.xs, dlext=so, d_dlsymun=undef, ccdlflags=' '
    cccdlflags='-DPIC -fPIC', lddlflags='-shared  -L/usr/local/lib -fstack-protector'


Characteristics of this binary (from libperl): 
  Compile-time options: HAS_TIMES PERLIO_LAYERS PERL_DONT_CREATE_GVSV
                        PERL_HASH_FUNC_ONE_AT_A_TIME_HARD PERL_MALLOC_WRAP
                        PERL_NEW_COPY_ON_WRITE PERL_PRESERVE_IVUV
                        USE_64_BIT_ALL USE_64_BIT_INT USE_LARGE_FILES
                        USE_LOCALE USE_LOCALE_COLLATE USE_LOCALE_CTYPE
                        USE_LOCALE_NUMERIC USE_LOCALE_TIME USE_PERLIO
                        USE_PERL_ATOF
  Built under freebsd
  Compiled at May 29 2016 23:34:36
  %ENV:
    PERL5LIB=""
    PERL5OPT=""
    PERL5_CPANPLUS_IS_RUNNING="45505"
    PERL5_CPAN_IS_RUNNING="45505"
    PERL5_CPAN_IS_RUNNING_IN_RECURSION="66295,45505"
    PERLDOC="-MPod::Perldoc::ToTextOverstrike"
    PERL_BATCH="yes"
    PERL_CANARY_STABILITY_NOPROMPT="1"
    PERL_CPAN_REPORTER_CONFIG="/var/tmp/cpansmoker-1023/2025011000/cpanreporter_000_config.ini"
    PERL_EXTUTILS_AUTOINSTALL="--defaultdeps"
    PERL_USE_UNSAFE_INC="1"
  @INC:
    /usr/perl5.22.2p/lib/site_perl/5.22.2/amd64-freebsd
    /usr/perl5.22.2p/lib/site_perl/5.22.2
    /usr/perl5.22.2p/lib/5.22.2/amd64-freebsd
    /usr/perl5.22.2p/lib/5.22.2
    .