WWW-Mechanize-Cached v1.56 Perl 5 v5.32.1 i386-openbsd

Status
Pass
From
Alceu Rodrigues de Freitas Junior
Dist
WWW-Mechanize-Cached v1.56
Platform
Perl 5 v5.32.1 i386-openbsd
Date
2022-06-06 03:48:37
ID
8c260092-e54b-11ec-b737-db65ffa5fe2c
This distribution has been tested as part of the CPAN Testers
project, supporting the Perl programming language.  See
http://wiki.cpantesters.org/ for more information or email
questions to cpan-testers-discuss@perl.org


--
Dear Olaf Alders,

This is a computer-generated report for WWW-Mechanize-Cached-1.56
on perl 5.32.1, created by CPAN-Reporter-1.2018.

Thank you for uploading your work to CPAN.  Congratulations!
All tests were successful.

Sections of this report:

    * Tester comments
    * Program output
    * Prerequisites
    * Environment and other context

------------------------------
TESTER COMMENTS
------------------------------

Additional comments from tester:

this report is from an automated smoke testing program
and was not reviewed by a human for accuracy

------------------------------
PROGRAM OUTPUT
------------------------------

Output from '/usr/bin/make test':

PERL_DL_NONLAZY=1 "/usr/bin/perl" "-MExtUtils::Command::MM" "-MTest::Harness" "-e" "undef *Test::Harness::Switches; test_harness(0, 'blib/lib', 'blib/arch')" t/*.t
# 
# Versions for all modules listed in MYMETA.json (including optional ones):
# 
# === Configure Requires ===
# 
#     Module              Want Have
#     ------------------- ---- ----
#     ExtUtils::MakeMaker  any 7.64
# 
# === Build Requires ===
# 
#     Module              Want Have
#     ------------------- ---- ----
#     ExtUtils::MakeMaker  any 7.64
# 
# === Test Requires ===
# 
#     Module                 Want     Have
#     ---------------------- ---- --------
#     CHI                     any     0.61
#     Cache::FileCache        any    undef
#     ExtUtils::MakeMaker     any     7.64
#     File::Spec              any     3.78
#     HTTP::Request           any     6.31
#     HTTP::Response          any     6.31
#     Path::Tiny              any    0.122
#     Test::Fatal             any    0.016
#     Test::More              any 1.302190
#     Test::Needs             any 0.002009
#     Test::RequiresInternet  any     0.05
#     Test::Warnings          any    0.031
#     URI::file               any     5.10
#     constant                any     1.33
#     lib                     any     0.65
#     strict                  any     1.11
# 
# === Test Recommends ===
# 
#     Module         Want     Have
#     ---------- -------- --------
#     CPAN::Meta 2.120900 2.150010
# 
# === Runtime Requires ===
# 
#     Module                           Want     Have
#     ---------------------------- -------- --------
#     Cache::FileCache                  any    undef
#     Carp                              any     1.50
#     Data::Dump                        any     1.25
#     LWP::UserAgent                   6.66     6.66
#     Module::Runtime                   any    0.016
#     Moo                          1.004005 2.004004
#     MooX::Types::MooseLike::Base      any     0.29
#     Storable                         2.21     3.21
#     WWW::Mechanize                    any     2.06
#     namespace::clean                  any     0.27
#     warnings                          any     1.47
# 
# === Runtime Recommends ===
# 
#     Module Want Have
#     ------ ---- ----
#     CHI     any 0.61
# 
t/00-report-prereqs.t ........ ok
t/002-bad-custom-cache.t ..... ok
t/004-cached.t ............... ok
t/005-custom-cache.t ......... ok
t/006-cached-chi.t ........... ok
t/007-clear-cache.t .......... ok
t/007-initialize-warnings.t .. ok
# reversing page order
t/cache_key.t ................ ok
t/cache_ok.t ................. ok
t/default.t .................. ok
t/is_cached.t ................ ok
t/response_cache_ok.t ........ ok
All tests successful.
Files=12, Tests=129, 24 wallclock secs ( 0.07 usr  0.07 sys +  5.86 cusr  2.07 csys =  8.07 CPU)
Result: PASS

------------------------------
PREREQUISITES
------------------------------

Prerequisite modules loaded:

requires:

    Module                       Need     Have    
    ---------------------------- -------- --------
    Cache::FileCache             0        0       
    Carp                         0        1.50    
    Data::Dump                   0        1.25    
    LWP::UserAgent               6.66     6.66    
    Module::Runtime              0        0.016   
    Moo                          1.004005 2.004004
    MooX::Types::MooseLike::Base 0        0.29    
    namespace::clean             0        0.27    
    perl                         5.008    5.032001
    Storable                     2.21     3.21    
    warnings                     0        1.47    
    WWW::Mechanize               0        2.06    

build_requires:

    Module                       Need     Have    
    ---------------------------- -------- --------
    Cache::FileCache             0        0       
    CHI                          0        0.61    
    constant                     0        1.33    
    ExtUtils::MakeMaker          0        7.64    
    File::Spec                   0        3.78    
    HTTP::Request                0        6.31    
    HTTP::Response               0        6.31    
    lib                          0        0.65    
    Path::Tiny                   0        0.122   
    strict                       0        1.11    
    Test::Fatal                  0        0.016   
    Test::More                   0        1.302190
    Test::Needs                  0        0.002009
    Test::RequiresInternet       0        0.05    
    Test::Warnings               0        0.031   
    URI::file                    0        5.10    

configure_requires:

    Module                       Need     Have    
    ---------------------------- -------- --------
    ExtUtils::MakeMaker          0        7.64    
    perl                         5.006    5.032001

opt_requires:

    Module                       Need     Have    
    ---------------------------- -------- --------
    CHI                          0        0.61    

opt_build_requires:

    Module                       Need     Have    
    ---------------------------- -------- --------
    CPAN::Meta                   2.120900 2.150010


------------------------------
ENVIRONMENT AND OTHER CONTEXT
------------------------------

Environment variables:

    AUTOMATED_TESTING = 1
    PATH = /home/goku/perl5/bin:/usr/bin:/bin:/usr/sbin:/sbin:/usr/X11R6/bin:/usr/local/bin:/usr/local/sbin
    PERL5LIB = /home/goku/perl5/lib/perl5
    PERL5OPT = 
    PERL5_CPANPLUS_IS_RUNNING = 14262
    PERL5_CPAN_IS_RUNNING = 14262
    PERL5_CPAN_IS_RUNNING_IN_RECURSION = 82157,14262
    PERL_CR_SMOKER_CURRENT = Catalyst-Model-MetaCPAN-Client-0.02
    PERL_EXTUTILS_AUTOINSTALL = --defaultdeps
    PERL_LOCAL_LIB_ROOT = /home/goku/perl5
    PERL_MB_OPT = --install_base "/home/goku/perl5"
    PERL_MM_OPT = INSTALL_BASE=/home/goku/perl5
    PERL_MM_USE_DEFAULT = 1
    PERL_USE_UNSAFE_INC = 1
    SHELL = /bin/ksh
    TERM = xterm-256color

Perl special variables (and OS-specific diagnostics, for MSWin32):

    $^X = /usr/bin/perl
    $UID/$EUID = 1001 / 1001
    $GID = 1002 1002 1001
    $EGID = 1002 1002 1001

Perl module toolchain versions installed:

    Module              Have    
    ------------------- --------
    CPAN                2.34    
    CPAN::Meta          2.150010
    Cwd                 3.78    
    ExtUtils::CBuilder  0.280236
    ExtUtils::Command   7.64    
    ExtUtils::Install   2.14    
    ExtUtils::MakeMaker 7.64    
    ExtUtils::Manifest  1.72    
    ExtUtils::ParseXS   3.40    
    File::Spec          3.78    
    JSON                4.06    
    JSON::PP            4.04    
    Module::Build       0.4231  
    Module::Signature   n/a     
    Parse::CPAN::Meta   2.150010
    Test::Harness       3.44    
    Test::More          1.302190
    YAML                1.30    
    YAML::Syck          1.34    
    version             0.9924  


--

Summary of my perl5 (revision 5 version 32 subversion 1) configuration:
   
  Platform:
    osname=openbsd
    osvers=7.1
    archname=i386-openbsd
    uname='openbsd'
    config_args='-dse -Dopenbsd_distribution=defined -Dmksymlinks'
    hint=recommended
    useposix=true
    d_sigaction=define
    useithreads=undef
    usemultiplicity=undef
    use64bitint=undef
    use64bitall=undef
    uselongdouble=undef
    usemymalloc=n
    default_inc_excludes_dot=define
    bincompat5005=undef
  Compiler:
    cc='cc'
    ccflags ='-DNO_LOCALE_NUMERIC -DNO_LOCALE_COLLATE -fno-strict-aliasing -fno-delete-null-pointer-checks -pipe -fstack-protector-strong -I/usr/local/include'
    optimize='-O2'
    cppflags='-DBIG_TIME -DNO_LOCALE_NUMERIC -DNO_LOCALE_COLLATE -fno-strict-aliasing -fno-delete-null-pointer-checks -pipe -fstack-protector-strong -I/usr/local/include'
    ccversion=''
    gccversion='OpenBSD Clang 13.0.0'
    gccosandvers=''
    intsize=4
    longsize=4
    ptrsize=4
    doublesize=8
    byteorder=1234
    doublekind=3
    d_longlong=define
    longlongsize=8
    d_longdbl=define
    longdblsize=12
    longdblkind=3
    ivtype='long'
    ivsize=4
    nvtype='double'
    nvsize=8
    Off_t='off_t'
    lseeksize=8
    alignbytes=4
    prototype=define
  Linker and Libraries:
    ld='cc'
    ldflags ='-Wl,-E  -fstack-protector-strong -L/usr/local/lib'
    libpth=/usr/lib /usr/lib/clang/13.0.0/lib /usr/lib
    libs=-lm -lc
    perllibs=-lm -lc
    libc=/usr/lib/libc.so.96.1
    so=so
    useshrplib=true
    libperl=libperl.so.22.0
    gnulibc_version=''
  Dynamic Linking:
    dlsrc=dl_dlopen.xs
    dlext=so
    d_dlsymun=undef
    ccdlflags='-Wl,-R/usr/libdata/perl5/i386-openbsd/CORE'
    cccdlflags='-DPIC -fpic '
    lddlflags='-shared -fpic  -fstack-protector-strong -L/usr/local/lib'


Characteristics of this binary (from libperl): 
  Compile-time options:
    HAS_TIMES
    PERLIO_LAYERS
    PERL_COPY_ON_WRITE
    PERL_DONT_CREATE_GVSV
    PERL_MALLOC_WRAP
    PERL_OP_PARENT
    PERL_PRESERVE_IVUV
    USE_LARGE_FILES
    USE_LOCALE
    USE_LOCALE_CTYPE
    USE_LOCALE_TIME
    USE_PERLIO
    USE_PERL_ATOF
  Built under openbsd
  %ENV:
    PERL5LIB="/home/goku/perl5/lib/perl5"
    PERL5OPT=""
    PERL5_CPANPLUS_IS_RUNNING="14262"
    PERL5_CPAN_IS_RUNNING="14262"
    PERL5_CPAN_IS_RUNNING_IN_RECURSION="82157,14262"
    PERL_CR_SMOKER_CURRENT="Catalyst-Model-MetaCPAN-Client-0.02"
    PERL_EXTUTILS_AUTOINSTALL="--defaultdeps"
    PERL_LOCAL_LIB_ROOT="/home/goku/perl5"
    PERL_MB_OPT="--install_base "/home/goku/perl5""
    PERL_MM_OPT="INSTALL_BASE=/home/goku/perl5"
    PERL_MM_USE_DEFAULT="1"
    PERL_USE_UNSAFE_INC="1"
  @INC:
    /home/goku/perl5/lib/perl5/i386-openbsd
    /home/goku/perl5/lib/perl5
    /usr/local/libdata/perl5/site_perl/i386-openbsd
    /usr/local/libdata/perl5/site_perl
    /usr/libdata/perl5/i386-openbsd
    /usr/libdata/perl5
    .