Back
From: metabase:user:322078bc-2aae-11df-837a-5e0a49663a4f
Subject: PASS HTML-FormatExternal-19 v5.12.0 GNU/Linux
Date: 2012-01-25T18:22:31Z
This distribution has been tested as part of the CPAN Testers
project, supporting the Perl programming language. See
http://wiki.cpantesters.org/ for more information or email
questions to cpan-testers-discuss@perl.org
--
Dear KRYDE,
This is a computer-generated error report created automatically by
CPANPLUS, version 0.9116. Testers personal comments may appear
at the end of this report.
MAKE TEST passed: PERL_DL_NONLAZY=1 /home/cpan/pit/thr/perl-5.12.0/bin/perl "-MExtUtils::Command::MM" "-e" "test_harness(0, 'blib/lib', 'blib/arch')" t/*.t
t/Elinks.t .......... ok
# HTML::FormatText::Elinks
# HTML::FormatText::Elinks program_full_version $VAR1 = undef;
# HTML::FormatText::Elinks program_version $VAR1 = undef;
# HTML::FormatText::Html2text
# HTML::FormatText::Html2text program_full_version $VAR1 = undef;
# HTML::FormatText::Html2text program_version $VAR1 = undef;
# HTML::FormatText::Html2text _have_ascii() no
# HTML::FormatText::Links
# HTML::FormatText::Links program_full_version $VAR1 = 'Links 2.3pre1
# ';
# HTML::FormatText::Links program_version $VAR1 = '2.3pre1';
# HTML::FormatText::Links _have_html_margin() yes
# $output = "123 567 9012\nabc def ghij\n";
# HTML::FormatText::Lynx
# HTML::FormatText::Lynx program_full_version $VAR1 = 'Lynx Version 2.8.7rel.1 (05 Jul 2009)
# libwww-FM 2.14, SSL-MM 1.4.1, OpenSSL 0.9.8n, ncurses 5.7.20081102(wide)
# Built on linux-gnu Feb 11 2010 19:56:53
#
# Copyrights held by the Lynx Developers Group,
# the University of Kansas, CERN, and other contributors.
# Distributed under the GNU General Public License (Version 2).
# See http://lynx.isc.org/ and the online help for more information.
#
# See http://www.openssl.org/ for information about OpenSSL.
# ';
# HTML::FormatText::Lynx program_version $VAR1 = '2.8.7rel.1';
# HTML::FormatText::Lynx _have_nomargins() yes
# $output = "123 567 9012\nabc def ghij\n\n";
# HTML::FormatText::Netrik
# HTML::FormatText::Netrik program_full_version $VAR1 = undef;
# HTML::FormatText::Netrik program_version $VAR1 = undef;
# HTML::FormatText::W3m
# HTML::FormatText::W3m program_full_version $VAR1 = undef;
# HTML::FormatText::W3m program_version $VAR1 = undef;
# HTML::FormatText::Zen
# HTML::FormatText::Zen program_full_version $VAR1 = undef;
# HTML::FormatText::Zen program_version $VAR1 = undef;
t/FormatExternal.t .. ok
t/Links.t ........... ok
All tests successful.
Files=3, Tests=233, 1 wallclock secs ( 0.05 usr 0.01 sys + 0.25 cusr 0.10 csys = 0.41 CPU)
Result: PASS
[MSG] [Wed Jan 25 18:21:44 2012] Sending test report for 'HTML-FormatExternal-19'
PREREQUISITES:
Here is a list of prerequisites you specified and versions we
managed to load:
Module Name Have Want
Encode 2.39 0
ExtUtils::MakeMaker 6.62 0
File::Temp 0.22 0.18
Perl6::Slurp 0.03 0
Test::More 0.98 0
Perl module toolchain versions installed:
Module Name Have
CPANPLUS 0.9116
CPANPLUS::Dist::Build 0.60
Cwd 3.33
ExtUtils::CBuilder 0.280202
ExtUtils::Command 1.16
ExtUtils::Install 1.55
ExtUtils::MakeMaker 6.62
ExtUtils::Manifest 1.60
ExtUtils::ParseXS 3.11
File::Spec 3.33
Module::Build 0.3800
Test::Harness 3.23
Test::More 0.98
version 0.95
******************************** NOTE ********************************
The comments above are created mechanically, possibly without manual
checking by the sender. As there are many people performing automatic
tests on each upload to CPAN, it is likely that you will receive
identical messages about the same problem.
If you believe that the message is mistaken, please reply to the first
one with correction and/or additional informations, and do not take
it personally. We appreciate your patience. :)
**********************************************************************
Additional comments:
This report was machine-generated by CPANPLUS::Dist::YACSmoke 0.66.
Powered by minismokebox version 0.54
------------------------------
ENVIRONMENT AND OTHER CONTEXT
------------------------------
Environment variables:
AUTOMATED_TESTING = 1
LANG = en_US
LC_COLLATE = C
PATH = /usr/local/bin:/usr/bin:/bin:/usr/games:/usr/lib64/java/bin:/usr/lib64/qt/bin:/usr/share/texmf/bin:.
PERL5LIB = :/home/cpan/pit/thr/conf/perl-5.12.0/.cpanplus/5.12.0/build/Perl6-Export-0.07/blib/lib:/home/cpan/pit/thr/conf/perl-5.12.0/.cpanplus/5.12.0/build/Perl6-Export-0.07/blib/arch:/home/cpan/pit/thr/conf/perl-5.12.0/.cpanplus/5.12.0/build/Perl6-Slurp-0.03/blib/lib:/home/cpan/pit/thr/conf/perl-5.12.0/.cpanplus/5.12.0/build/Perl6-Slurp-0.03/blib/arch:/home/cpan/pit/thr/conf/perl-5.12.0/.cpanplus/5.12.0/build/HTML-FormatExternal-19/blib/lib:/home/cpan/pit/thr/conf/perl-5.12.0/.cpanplus/5.12.0/build/HTML-FormatExternal-19/blib/arch
PERL5_CPANPLUS_IS_RUNNING = 31677
PERL5_CPANPLUS_IS_VERSION = 0.9116
PERL5_MINISMOKEBOX = 0.54
PERL5_YACSMOKE_BASE = /home/cpan/pit/thr/conf/perl-5.12.0
PERL_EXTUTILS_AUTOINSTALL = --defaultdeps
PERL_MM_USE_DEFAULT = 1
SHELL = /bin/bash
TERM = screen
Perl special variables (and OS-specific diagnostics, for MSWin32):
Perl: $^X = /home/cpan/pit/thr/perl-5.12.0/bin/perl
UID: $< = 1001
EUID: $> = 1001
GID: $( = 100 100
EGID: $) = 100 100
-------------------------------
--
Summary of my perl5 (revision 5 version 12 subversion 0) configuration:
Platform:
osname=linux, osvers=2.6.33.4, archname=x86_64-linux-thread-multi
uname='linux slack64 2.6.33.4 #3 smp wed may 12 23:13:09 cdt 2010 x86_64 intel(r) xeon(r) cpu e5520 @ 2.27ghz genuineintel gnulinux '
config_args='-des -Dprefix=/home/cpan/pit/thr/perl-5.12.0 -Dusethreads'
hint=recommended, useposix=true, d_sigaction=define
useithreads=define, usemultiplicity=define
useperlio=define, d_sfio=undef, uselargefiles=define, usesocks=undef
use64bitint=define, use64bitall=define, uselongdouble=undef
usemymalloc=n, bincompat5005=undef
Compiler:
cc='cc', ccflags ='-D_REENTRANT -D_GNU_SOURCE -fno-strict-aliasing -pipe -fstack-protector -I/usr/local/include -D_LARGEFILE_SOURCE -D_FILE_OFFSET_BITS=64',
optimize='-O2',
cppflags='-D_REENTRANT -D_GNU_SOURCE -fno-strict-aliasing -pipe -fstack-protector -I/usr/local/include'
ccversion='', gccversion='4.4.4', gccosandvers=''
intsize=4, longsize=8, ptrsize=8, doublesize=8, byteorder=12345678
d_longlong=define, longlongsize=8, d_longdbl=define, longdblsize=16
ivtype='long', ivsize=8, nvtype='double', nvsize=8, Off_t='off_t', lseeksize=8
alignbytes=8, prototype=define
Linker and Libraries:
ld='cc', ldflags =' -fstack-protector -L/usr/local/lib'
libpth=/usr/local/lib /lib /usr/lib /lib64 /usr/lib64 /usr/local/lib64
libs=-lnsl -lgdbm -ldb -ldl -lm -lcrypt -lutil -lpthread -lc
perllibs=-lnsl -ldl -lm -lcrypt -lutil -lpthread -lc
libc=, so=so, useshrplib=false, libperl=libperl.a
gnulibc_version='2.11.1'
Dynamic Linking:
dlsrc=dl_dlopen.xs, dlext=so, d_dlsymun=undef, ccdlflags='-Wl,-E'
cccdlflags='-fPIC', lddlflags='-shared -O2 -L/usr/local/lib -fstack-protector'
Characteristics of this binary (from libperl):
Compile-time options: MULTIPLICITY PERL_DONT_CREATE_GVSV
PERL_IMPLICIT_CONTEXT PERL_MALLOC_WRAP USE_64_BIT_ALL
USE_64_BIT_INT USE_ITHREADS USE_LARGE_FILES
USE_PERLIO USE_PERL_ATOF USE_REENTRANT_API
Built under linux
Compiled at Feb 15 2011 15:36:35
%ENV:
PERL5LIB=":/home/cpan/pit/thr/conf/perl-5.12.0/.cpanplus/5.12.0/build/Perl6-Export-0.07/blib/lib:/home/cpan/pit/thr/conf/perl-5.12.0/.cpanplus/5.12.0/build/Perl6-Export-0.07/blib/arch:/home/cpan/pit/thr/conf/perl-5.12.0/.cpanplus/5.12.0/build/Perl6-Slurp-0.03/blib/lib:/home/cpan/pit/thr/conf/perl-5.12.0/.cpanplus/5.12.0/build/Perl6-Slurp-0.03/blib/arch:/home/cpan/pit/thr/conf/perl-5.12.0/.cpanplus/5.12.0/build/HTML-FormatExternal-19/blib/lib:/home/cpan/pit/thr/conf/perl-5.12.0/.cpanplus/5.12.0/build/HTML-FormatExternal-19/blib/arch"
PERL5_CPANPLUS_IS_RUNNING="31677"
PERL5_CPANPLUS_IS_VERSION="0.9116"
PERL5_MINISMOKEBOX="0.54"
PERL5_YACSMOKE_BASE="/home/cpan/pit/thr/conf/perl-5.12.0"
PERL_EXTUTILS_AUTOINSTALL="--defaultdeps"
PERL_MM_USE_DEFAULT="1"
@INC:
/home/cpan/pit/thr/conf/perl-5.12.0/.cpanplus/5.12.0/build/Perl6-Export-0.07/blib/lib
/home/cpan/pit/thr/conf/perl-5.12.0/.cpanplus/5.12.0/build/Perl6-Export-0.07/blib/arch
/home/cpan/pit/thr/conf/perl-5.12.0/.cpanplus/5.12.0/build/Perl6-Slurp-0.03/blib/lib
/home/cpan/pit/thr/conf/perl-5.12.0/.cpanplus/5.12.0/build/Perl6-Slurp-0.03/blib/arch
/home/cpan/pit/thr/conf/perl-5.12.0/.cpanplus/5.12.0/build/HTML-FormatExternal-19/blib/lib
/home/cpan/pit/thr/conf/perl-5.12.0/.cpanplus/5.12.0/build/HTML-FormatExternal-19/blib/arch
/home/cpan/pit/thr/perl-5.12.0/lib/site_perl/5.12.0/x86_64-linux-thread-multi
/home/cpan/pit/thr/perl-5.12.0/lib/site_perl/5.12.0
/home/cpan/pit/thr/perl-5.12.0/lib/5.12.0/x86_64-linux-thread-multi
/home/cpan/pit/thr/perl-5.12.0/lib/5.12.0
.