Report for File-Find-Object-Rule-MMagic-v0.0.4

Back
From: metabase:user:58c66572-6c8d-1014-999c-ac003c5145ae
Subject: PASS File-Find-Object-Rule-MMagic-v0.0.4 v5.16.0 
Date: 2014-02-04T05:15:26Z

This distribution has been tested as part of the CPAN Testers
project, supporting the Perl programming language.  See
http://wiki.cpantesters.org/ for more information or email
questions to cpan-testers-discuss@perl.org


--
Dear Shlomi Fish,

This is a computer-generated report for File-Find-Object-Rule-MMagic-v0.0.4
on perl 5.16.0, created by CPAN-Reporter-1.2006.

Thank you for uploading your work to CPAN.  Congratulations!
All tests were successful.

Sections of this report:

    * Tester comments
    * Program output
    * Prerequisites
    * Environment and other context

------------------------------
TESTER COMMENTS
------------------------------

Additional comments from tester:

this report is from an automated smoke testing program
and was not reviewed by a human for accuracy

------------------------------
PROGRAM OUTPUT
------------------------------

Output from 'C:\strawberry\perl\bin\perl.exe ./Build test':

t\File-Find-Object-Rule-MMagic.t .. ok
t\cpan-changes.t .................. skipped: Test::CPAN::Changes required for this test
t\pod-coverage.t .................. skipped: Test::Pod::Coverage 1.04 required for testing POD coverage
t\pod.t ........................... ok
t\style-trailing-space.t .......... skipped: Test::TrailingSpace required for trailing space test.
All tests successful.
Files=5, Tests=2,  1 wallclock secs ( 0.11 usr +  0.03 sys =  0.14 CPU)
Result: PASS

------------------------------
PREREQUISITES
------------------------------

Prerequisite modules loaded:

requires:

    Module                   Need  Have    
    ------------------------ ----- --------
    File::Find::Object::Rule 0     0.0304  
    File::MMagic             0     1.30    
    parent                   0     0.225   
    perl                     5.008 5.016000
    strict                   0     1.07    
    Text::Glob               0     0.09    
    vars                     0     1.02    
    warnings                 0     1.13    

build_requires:

    Module                   Need  Have    
    ------------------------ ----- --------
    Test::More               0     0.98    

configure_requires:

    Module                   Need  Have    
    ------------------------ ----- --------
    Module::Build            0.36  0.40    


------------------------------
ENVIRONMENT AND OTHER CONTEXT
------------------------------

Environment variables:

    AUTOMATED_TESTING = 1
    COMSPEC = C:\Windows\system32\cmd.exe
    NUMBER_OF_PROCESSORS = 4
    PATH = %CommonProgramFiles%\Microsoft Shared\Windows Live;C:\Program Files (x86)\NVIDIA Corporation\PhysX\Common;C:\Program Files (x86)\MiKTeX 2.9\miktex\bin;C:\Windows\system32;C:\Windows;C:\Windows\System32\Wbem;C:\Windows\System32\WindowsPowerShell\v1.0\;c:\Program Files (x86)\Microsoft SQL Server\100\Tools\Binn\;c:\Program Files\Microsoft SQL Server\100\Tools\Binn\;c:\Program Files\Microsoft SQL Server\100\DTS\Binn\;c:\Windows\Microsoft.NET\Framework\v4.0.30319;C:\strawberry\c\bin;C:\strawberry\perl\site\bin;C:\strawberry\perl\bin;C:\Program Files (x86)\Git\cmd;C:\Program Files (x86)\Git\bin;C:\Program Files\Common Files\Microsoft Shared\Windows Live
    PERL5LIB = C:\strawberry\cpan\build\File-Find-Object-Rule-0.0304-Z8Nk7h/blib/arch;C:\strawberry\cpan\build\File-Find-Object-Rule-0.0304-Z8Nk7h/blib/lib;C:\strawberry\cpan\build\File-Find-Object-v0.2.9-O7ALO4/blib/arch;C:\strawberry\cpan\build\File-Find-Object-v0.2.9-O7ALO4/blib/lib;C:\strawberry\cpan\build\Class-XSAccessor-1.19-c9CgyM/blib/arch;C:\strawberry\cpan\build\Class-XSAccessor-1.19-c9CgyM/blib/lib;C:\strawberry\cpan\build\File-MMagic-1.30-Vrm7Ek/blib/arch;C:\strawberry\cpan\build\File-MMagic-1.30-Vrm7Ek/blib/lib
    PERL5OPT = 
    PERL5_CPANPLUS_IS_RUNNING = 6464
    PERL5_CPAN_IS_RUNNING = 6464
    PERL5_CPAN_IS_RUNNING_IN_RECURSION = 1892,6464
    PERL_CR_SMOKER_CURRENT = File-Find-Object-Rule-MMagic-v0.0.4
    PERL_EXTUTILS_AUTOINSTALL = --defaultdeps
    PERL_JSON_BACKEND = JSON::XS
    PERL_MM_USE_DEFAULT = 1
    PERL_YAML_BACKEND = YAML
    PROCESSOR_IDENTIFIER = AMD64 Family 16 Model 5 Stepping 3, AuthenticAMD
    TEMP = C:\Users\Jeremy\AppData\Local\Temp
    TERM = dumb

Perl special variables (and OS-specific diagnostics, for MSWin32):

    $^X = C:\strawberry\perl\bin\perl.exe
    $UID/$EUID = 0 / 0
    $GID = 0
    $EGID = 0
    Win32::GetOSName = Win7
    Win32::GetOSVersion = Service Pack 1, 6, 1, 7601, 2, 1, 0, 768, 1
    Win32::FsType = NTFS
    Win32::IsAdminUser = 1

Perl module toolchain versions installed:

    Module              Have    
    ------------------- --------
    CPAN                1.9800  
    CPAN::Meta          2.120921
    Cwd                 3.39_02 
    ExtUtils::CBuilder  0.280206
    ExtUtils::Command   1.17    
    ExtUtils::Install   1.58    
    ExtUtils::MakeMaker 6.63_02 
    ExtUtils::Manifest  1.61    
    ExtUtils::ParseXS   3.16    
    File::Spec          3.39_02 
    JSON                2.53    
    JSON::PP            2.27200 
    Module::Build       0.40    
    Module::Signature   n/a     
    Parse::CPAN::Meta   1.4404  
    Test::Harness       3.23    
    Test::More          0.98    
    YAML                0.81    
    YAML::Syck          1.20    
    version             0.99    


--

Summary of my perl5 (revision 5 version 16 subversion 0) configuration:
   
  Platform:
    osname=MSWin32, osvers=4.0, archname=MSWin32-x64-multi-thread
    uname='Win32 strawberry-perl 5.16.0.1 #1 Tue May 22 13:24:11 2012 x64'
    config_args='undef'
    hint=recommended, useposix=true, d_sigaction=undef
    useithreads=define, usemultiplicity=define
    useperlio=define, d_sfio=undef, uselargefiles=define, usesocks=undef
    use64bitint=define, use64bitall=undef, uselongdouble=undef
    usemymalloc=n, bincompat5005=undef
  Compiler:
    cc='gcc', ccflags =' -s -O2 -DWIN32 -DWIN64 -DCONSERVATIVE  -DPERL_TEXTMODE_SCRIPTS -DPERL_IMPLICIT_CONTEXT -DPERL_IMPLICIT_SYS -fno-strict-aliasing -mms-bitfields',
    optimize='-s -O2',
    cppflags='-DWIN32'
    ccversion='', gccversion='4.6.3', gccosandvers=''
    intsize=4, longsize=4, ptrsize=8, doublesize=8, byteorder=12345678
    d_longlong=define, longlongsize=8, d_longdbl=define, longdblsize=12
    ivtype='long long', ivsize=8, nvtype='double', nvsize=8, Off_t='long long', lseeksize=8
    alignbytes=8, prototype=define
  Linker and Libraries:
    ld='g++', ldflags ='-s -L"C:\strawberry\perl\lib\CORE" -L"C:\strawberry\c\lib"'
    libpth=C:\strawberry\c\lib C:\strawberry\c\x86_64-w64-mingw32\lib
    libs=-lmoldname -lkernel32 -luser32 -lgdi32 -lwinspool -lcomdlg32 -ladvapi32 -lshell32 -lole32 -loleaut32 -lnetapi32 -luuid -lws2_32 -lmpr -lwinmm -lversion -lodbc32 -lodbccp32 -lcomctl32
    perllibs=-lmoldname -lkernel32 -luser32 -lgdi32 -lwinspool -lcomdlg32 -ladvapi32 -lshell32 -lole32 -loleaut32 -lnetapi32 -luuid -lws2_32 -lmpr -lwinmm -lversion -lodbc32 -lodbccp32 -lcomctl32
    libc=, so=dll, useshrplib=true, libperl=libperl516.a
    gnulibc_version=''
  Dynamic Linking:
    dlsrc=dl_win32.xs, dlext=dll, d_dlsymun=undef, ccdlflags=' '
    cccdlflags=' ', lddlflags='-mdll -s -L"C:\strawberry\perl\lib\CORE" -L"C:\strawberry\c\lib"'


Characteristics of this binary (from libperl): 
  Compile-time options: HAS_TIMES HAVE_INTERP_INTERN MULTIPLICITY
                        PERLIO_LAYERS PERL_DONT_CREATE_GVSV
                        PERL_IMPLICIT_CONTEXT PERL_IMPLICIT_SYS
                        PERL_MALLOC_WRAP PERL_PRESERVE_IVUV PL_OP_SLAB_ALLOC
                        USE_64_BIT_INT USE_ITHREADS USE_LARGE_FILES
                        USE_LOCALE USE_LOCALE_COLLATE USE_LOCALE_CTYPE
                        USE_LOCALE_NUMERIC USE_PERLIO USE_PERL_ATOF
  Built under MSWin32
  Compiled at May 22 2012 13:30:50
  %ENV:
    PERL5LIB="C:\strawberry\cpan\build\File-Find-Object-Rule-0.0304-Z8Nk7h/blib/arch;C:\strawberry\cpan\build\File-Find-Object-Rule-0.0304-Z8Nk7h/blib/lib;C:\strawberry\cpan\build\File-Find-Object-v0.2.9-O7ALO4/blib/arch;C:\strawberry\cpan\build\File-Find-Object-v0.2.9-O7ALO4/blib/lib;C:\strawberry\cpan\build\Class-XSAccessor-1.19-c9CgyM/blib/arch;C:\strawberry\cpan\build\Class-XSAccessor-1.19-c9CgyM/blib/lib;C:\strawberry\cpan\build\File-MMagic-1.30-Vrm7Ek/blib/arch;C:\strawberry\cpan\build\File-MMagic-1.30-Vrm7Ek/blib/lib"
    PERL5_CPANPLUS_IS_RUNNING="6464"
    PERL5_CPAN_IS_RUNNING="6464"
    PERL5_CPAN_IS_RUNNING_IN_RECURSION="1892,6464"
    PERL_CR_SMOKER_CURRENT="File-Find-Object-Rule-MMagic-v0.0.4"
    PERL_EXTUTILS_AUTOINSTALL="--defaultdeps"
    PERL_JSON_BACKEND="JSON::XS"
    PERL_MM_USE_DEFAULT="1"
    PERL_YAML_BACKEND="YAML"
  @INC:
    C:\strawberry\cpan\build\File-Find-Object-Rule-0.0304-Z8Nk7h/blib/arch
    C:\strawberry\cpan\build\File-Find-Object-Rule-0.0304-Z8Nk7h/blib/lib
    C:\strawberry\cpan\build\File-Find-Object-v0.2.9-O7ALO4/blib/arch
    C:\strawberry\cpan\build\File-Find-Object-v0.2.9-O7ALO4/blib/lib
    C:\strawberry\cpan\build\Class-XSAccessor-1.19-c9CgyM/blib/arch
    C:\strawberry\cpan\build\Class-XSAccessor-1.19-c9CgyM/blib/lib
    C:\strawberry\cpan\build\File-MMagic-1.30-Vrm7Ek/blib/arch
    C:\strawberry\cpan\build\File-MMagic-1.30-Vrm7Ek/blib/lib
    C:/strawberry/perl/site/lib
    C:/strawberry/perl/vendor/lib
    C:/strawberry/perl/lib
    .