Report for Class-MOP-1.08

Back
From: metabase:user:c67a24a6-bd9b-11df-8cde-36a50c2f696f
Subject: PASS Class-MOP-1.08 v5.8.8 GNU/Linux
Date: 2010-09-19T22:09:15Z

This distribution has been tested as part of the CPAN Testers
project, supporting the Perl programming language.  See
http://wiki.cpantesters.org/ for more information or email
questions to cpan-testers-discuss@perl.org


--
Dear Dave Rolsky,

This is a computer-generated report for Class-MOP-1.08
on perl 5.8.8, created by CPAN-Reporter-1.1801.

Thank you for uploading your work to CPAN.  Congratulations!
All tests were successful.

Sections of this report:

    * Tester comments
    * Program output
    * Prerequisites
    * Environment and other context

------------------------------
TESTER COMMENTS
------------------------------

Additional comments from tester:

none provided

------------------------------
PROGRAM OUTPUT
------------------------------

Output from '/usr/bin/make test':

/workinghost1/Local/Ix86/Linux/Perl/bin/perl "-Iinc" "-MModule::Install::ExtraTests" "-e" "Module::Install::ExtraTests::__harness('Test::Harness', 0, 'xt/author', '', '', 0, 'blib/lib', 'blib/arch')" t/*.t
t/000_load.t .............................. ok
t/001_basic.t ............................. ok
t/002_class_precedence_list.t ............. ok
t/003_methods.t ........................... ok
t/004_advanced_methods.t .................. ok
t/005_attributes.t ........................ ok
t/006_new_and_clone_metaclasses.t ......... ok
t/010_self_introspection.t ................ ok
t/011_create_class.t ...................... ok
t/012_package_variables.t ................. ok
t/013_add_attribute_alternate.t ........... ok
t/014_attribute_introspection.t ........... ok
t/015_metaclass_inheritance.t ............. ok
t/016_class_errors_and_edge_cases.t ....... ok
t/017_add_method_modifier.t ............... ok
t/018_anon_class.t ........................ ok
t/019_anon_class_keep_alive.t ............. ok
t/020_attribute.t ......................... ok
t/021_attribute_errors_and_edge_cases.t ... ok
t/022_attribute_duplication.t ............. ok
t/023_attribute_get_read_write.t .......... ok
t/024_attribute_initializer.t ............. ok
t/025_attribute_non_alpha_name.t .......... ok
t/030_method.t ............................ ok
t/031_method_modifiers.t .................. ok
t/032_universal_methods.t ................. ok
t/040_metaclass.t ......................... ok
t/041_metaclass_incompatibility.t ......... ok
t/042_metaclass_incompatibility_dyn.t ..... ok
t/043_instance_metaclass_incompat.t ....... ok
t/044_instance_metaclass_incompat_dyn.t ... ok
t/045_metaclass_loads_classes.t ........... ok
t/046_rebless_instance.t .................. ok
t/047_rebless_with_extra_params.t ......... ok
t/048_anon_class_create_init.t ............ ok
t/049_metaclass_reinitialize.t ............ ok
t/050_scala_style_mixin_composition.t ..... skipped: Test requires module 'SUPER' but it's not found
t/060_instance.t .......................... ok
t/061_instance_inline.t ................... ok
t/062_custom_instance.t ................... ok
t/070_immutable_metaclass.t ............... ok
t/071_immutable_w_custom_metaclass.t ...... ok
t/072_immutable_w_constructors.t .......... ok
t/073_make_mutable.t ...................... ok
t/074_immutable_custom_trait.t ............ ok
t/080_meta_package.t ...................... ok
t/081_meta_package_extension.t ............ ok
t/082_get_code_info.t ..................... ok
t/083_load_class.t ........................ ok
t/085_load_class_gvstash_detect_bug.t ..... ok
t/086_rebless_instance_away.t ............. ok
t/087_subclasses.t ........................ ok
t/100_BinaryTree_test.t ................... ok
t/101_InstanceCountingClass_test.t ........ ok
t/102_InsideOutClass_test.t ............... ok
t/103_Perl6Attribute_test.t ............... ok
t/104_AttributesWithHistory_test.t ........ ok
t/105_ClassEncapsulatedAttributes_test.t .. ok
t/106_LazyClass_test.t .................... ok
t/107_C3MethodDispatchOrder_test.t ........ ok
t/108_ArrayBasedStorage_test.t ............ ok
t/200_Class_C3_compatibility.t ............ ok
t/300_random_eval_bug.t ................... ok
t/301_RT_27329_fix.t ...................... ok
t/302_modify_parent_method.t .............. ok
t/303_RT_39001_fix.t ...................... ok
t/304_constant_codeinfo.t ................. ok
t/305_RT_41255.t .......................... ok
t/306_rebless_overload.t .................. ok
t/307_null_stash.t ........................ ok
t/308_insertion_order.t ................... ok
t/309_subname.t ........................... ok
t/310_inline_structor.t ................... ok
t/311_inline_and_dollar_at.t .............. ok
t/312_anon_class_leak.t ................... skipped: Test requires module 'Test::LeakTrace' but it's not found
t/313_before_after_dollar_under.t ......... ok
t/314_class_is_pristine.t ................. ok
t/315_magic.t ............................. ok
t/316_numeric_defaults.t .................. ok
t/500_deprecated.t ........................ ok
All tests successful.
Files=80, Tests=2460,  9 wallclock secs ( 0.34 usr  0.07 sys +  7.87 cusr  0.79 csys =  9.07 CPU)
Result: PASS

------------------------------
PREREQUISITES
------------------------------

Prerequisite modules loaded:

requires:

    Module                      Need Have 
    --------------------------- ---- -----
    Carp                        0    1.04 
    Data::OptList               0    0.106
    Devel::GlobalDestruction    0    0.02 
    ExtUtils::MakeMaker         6.42 6.56 
    File::Spec                  0    3.31 
    List::MoreUtils             0.12 0.22 
    MRO::Compat                 0.05 0.11 
    Package::DeprecationManager 0.04 0.04 
    Package::Stash              0    0.05 
    Scalar::Util                1.18 1.23 
    Sub::Name                   0.04 0.04 
    Task::Weaken                0    1.03 
    Test::Exception             0.27 0.29 
    Test::More                  0.88 0.94 
    Test::Requires              0.05 0.05 
    Try::Tiny                   0.02 0.06 

configure_requires:

    Module                      Need Have 
    --------------------------- ---- -----
    ExtUtils::MakeMaker         6.42 6.56 


------------------------------
ENVIRONMENT AND OTHER CONTEXT
------------------------------

Environment variables:

    LANG = en_GB.UTF-8
    PATH = /usr/kerberos/sbin:/usr/kerberos/bin:/usr/local/sbin:/usr/local/bin:/sbin:/bin:/usr/sbin:/usr/bin:/usr/X11R6/bin:/root/bin
    PERL5LIB = 
    PERL5OPT = 
    PERL5_CPANPLUS_IS_RUNNING = 32494
    PERL5_CPAN_IS_RUNNING = 32494
    SHELL = /bin/bash
    TERM = xterm

Perl special variables (and OS-specific diagnostics, for MSWin32):

    $^X = /workinghost1/Local/Ix86/Linux/Perl/bin/perl
    $UID/$EUID = 0 / 0
    $GID = 0 10 6 4 3 2 1 0
    $EGID = 0 10 6 4 3 2 1 0

Perl module toolchain versions installed:

    Module              Have  
    ------------------- ------
    CPAN                1.9402
    Cwd                 3.31  
    ExtUtils::CBuilder  0.2703
    ExtUtils::Command   1.16  
    ExtUtils::Install   1.54  
    ExtUtils::MakeMaker 6.56  
    ExtUtils::Manifest  1.58  
    ExtUtils::ParseXS   2.2206
    File::Spec          3.31  
    Module::Build       0.3607
    Module::Signature   0.64  
    Test::Harness       3.21  
    Test::More          0.94  
    YAML                0.71  
    YAML::Syck          n/a   
    version             0.82  


--

Summary of my perl5 (revision 5 version 8 subversion 8) configuration:
  Platform:
    osname=linux, osvers=2.4.21-47.0.1.elsmp, archname=i686-linux
    uname='linux transtec2 2.4.21-47.0.1.elsmp #1 smp fri oct 13 17:56:20 edt 2006 i686 athlon i386 gnulinux '
    config_args=''
    hint=recommended, useposix=true, d_sigaction=define
    usethreads=undef use5005threads=undef useithreads=undef usemultiplicity=undef
    useperlio=define d_sfio=undef uselargefiles=define usesocks=undef
    use64bitint=undef use64bitall=undef uselongdouble=undef
    usemymalloc=n, bincompat5005=undef
  Compiler:
    cc='cc', ccflags ='-fno-strict-aliasing -pipe -Wdeclaration-after-statement -D_LARGEFILE_SOURCE -D_FILE_OFFSET_BITS=64 -I/usr/include/gdbm',
    optimize='-O2',
    cppflags='-fno-strict-aliasing -pipe -Wdeclaration-after-statement -I/usr/include/gdbm'
    ccversion='', gccversion='3.2.3 20030502 (Red Hat Linux 3.2.3-58)', gccosandvers=''
    intsize=4, longsize=4, ptrsize=4, doublesize=8, byteorder=1234
    d_longlong=define, longlongsize=8, d_longdbl=define, longdblsize=12
    ivtype='long', ivsize=4, nvtype='double', nvsize=8, Off_t='off_t', lseeksize=8
    alignbytes=4, prototype=define
  Linker and Libraries:
    ld='cc', ldflags =''
    libpth=/lib /usr/lib
    libs=-lnsl -lgdbm -ldb -ldl -lm -lcrypt -lutil -lc
    perllibs=-lnsl -ldl -lm -lcrypt -lutil -lc
    libc=/lib/libc-2.3.2.so, so=so, useshrplib=false, libperl=libperl.a
    gnulibc_version='2.3.2'
  Dynamic Linking:
    dlsrc=dl_dlopen.xs, dlext=so, d_dlsymun=undef, ccdlflags='-Wl,-E'
    cccdlflags='-fpic', lddlflags='-shared'


Characteristics of this binary (from libperl): 
  Compile-time options: PERL_MALLOC_WRAP USE_LARGE_FILES USE_PERLIO
  Built under linux
  Compiled at May 26 2007 13:03:01
  %ENV:
    PERL5LIB=""
    PERL5OPT=""
    PERL5_CPANPLUS_IS_RUNNING="32494"
    PERL5_CPAN_IS_RUNNING="32494"
  @INC:
    /Local/Ix86/Linux/Perl/lib/perl5/5.8.8/i686-linux
    /Local/Ix86/Linux/Perl/lib/perl5/5.8.8
    /Local/Ix86/Linux/Perl/lib/perl5/site_perl/5.8.8/i686-linux
    /Local/Ix86/Linux/Perl/lib/perl5/site_perl/5.8.8
    /Local/Ix86/Linux/Perl/lib/perl5/site_perl
    .