Acme-MetaSyntactic v1.015 Perl 5 v5.35.11 amd64-freebsd-thread-multi
- Status
- Pass
- From
- Carlos Guevara
- Dist
-
Acme-MetaSyntactic v1.015
- Platform
- Perl 5 v5.35.11 amd64-freebsd-thread-multi
- Date
- 2022-04-10 14:07:22
- ID
- 8a57c566-b8d7-11ec-8fc2-f857193fe5be
This distribution has been tested as part of the CPAN Testers
project, supporting the Perl programming language. See
http://wiki.cpantesters.org/ for more information or email
questions to cpan-testers-discuss@perl.org
--
Dear Philippe Bruhat (BooK),
This is a computer-generated report for Acme-MetaSyntactic-1.015
on perl 5.35.11, created by CPAN-Reporter-1.2018.
Thank you for uploading your work to CPAN. Congratulations!
All tests were successful.
Sections of this report:
* Tester comments
* Program output
* Prerequisites
* Environment and other context
------------------------------
TESTER COMMENTS
------------------------------
Additional comments from tester:
this report is from an automated smoke testing program
and was not reviewed by a human for accuracy
------------------------------
PROGRAM OUTPUT
------------------------------
Output from '/usr/bin/make test':
PERL_DL_NONLAZY=1 "/usr/home/cpan/bin/perl-blead/bin/perl5.35.11" "-MExtUtils::Command::MM" "-MTest::Harness" "-e" "undef *Test::Harness::Switches; test_harness(0, 'blib/lib', 'blib/arch')" t/*.t
t/00-compile.t .......... ok
#
# Versions for all modules listed in MYMETA.json (including optional ones):
#
# === Configure Requires ===
#
# Module Want Have
# ------------------- ---- ----
# ExtUtils::MakeMaker any 7.64
#
# === Build Requires ===
#
# Module Want Have
# ------------------- ---- ----
# ExtUtils::MakeMaker any 7.64
#
# === Test Requires ===
#
# Module Want Have
# --------------------- ---- --------
# Cwd any 3.84
# ExtUtils::MakeMaker any 7.64
# File::Find any 1.40
# File::Spec any 3.84
# File::Spec::Functions any 3.84
# IO::Handle any 1.48
# IPC::Open3 any 1.22
# Test::More any 1.302190
# lib any 0.65
#
# === Test Recommends ===
#
# Module Want Have
# ---------- -------- --------
# CPAN::Meta 2.120900 2.150010
#
# === Runtime Requires ===
#
# Module Want Have
# --------------------- ---- --------
# Carp any 1.52
# File::Basename any 2.85
# File::Glob any 1.37
# File::Spec any 3.84
# Getopt::Long any 2.52
# LWP::UserAgent any 6.62
# List::Util any 1.62
# Test::Builder::Module any 1.302190
# Win32::Locale any 0.04
# base any 2.27
# strict any 1.12
# warnings any 1.58
#
t/00-report-prereqs.t ... ok
# Tested Acme::MetaSyntactic 1.015, Perl 5.035011, /usr/home/cpan/bin/perl-blead/bin/perl5.35.11
t/00load.t .............. ok
t/05class.t ............. ok
t/07data.t .............. ok
t/10meta.t .............. ok
t/11namespace.t ......... ok
t/12fail.t .............. ok
t/12live.t .............. ok
t/15func.t .............. ok
t/16import.t ............ ok
t/20theme.t ............. ok
t/29meta.t .............. ok
t/30list.t .............. ok
t/31any.t ............... ok
t/32multi.t ............. ok
t/33locale.t ............ ok
t/33locale_territory.t .. ok
t/33locale_win32.t ...... ok
t/34data.t .............. ok
Failed to get content at fail (400 URL must be absolute at t/35remote.t line 89.
t/35remote.t ............ ok
Failed to get content at fail (400 URL must be absolute at t/35remote2.t line 47.
t/35remote2.t ........... ok
t/40inc.t ............... ok
t/50usecase.t ........... ok
t/author-pod-syntax.t ... skipped: these tests are for testing by the author
t/release-distmeta.t .... skipped: these tests are for release candidate testing
All tests successful.
Files=26, Tests=257, 6 wallclock secs ( 0.12 usr 0.06 sys + 3.86 cusr 1.70 csys = 5.74 CPU)
Result: PASS
------------------------------
PREREQUISITES
------------------------------
Prerequisite modules loaded:
requires:
Module Need Have
--------------------- ----- --------
base 0 2.27
Carp 0 1.52
File::Basename 0 2.85
File::Glob 0 1.37
File::Spec 0 3.84
Getopt::Long 0 2.52
List::Util 0 1.62
LWP::UserAgent 0 6.62
perl 5.006 5.035011
strict 0 1.12
Test::Builder::Module 0 1.302190
warnings 0 1.58
Win32::Locale 0 0.04
build_requires:
Module Need Have
--------------------- ----- --------
Cwd 0 3.84
ExtUtils::MakeMaker 0 7.64
File::Find 0 1.40
File::Spec 0 3.84
File::Spec::Functions 0 3.84
IO::Handle 0 1.48
IPC::Open3 0 1.22
lib 0 0.65
Test::More 0 1.302190
configure_requires:
Module Need Have
--------------------- ----- --------
ExtUtils::MakeMaker 0 7.64
------------------------------
ENVIRONMENT AND OTHER CONTEXT
------------------------------
Environment variables:
AUTOMATED_TESTING = 1
DATE_MANIP_TEST_DM5 = 1
LC_ALL = C
NONINTERACTIVE_TESTING = 1
PATH = /home/cpan/bin/perl-blead/bin:/home/cpan/bin:/sbin:/bin:/usr/sbin:/usr/bin:/usr/local/sbin:/usr/local/bin:/home/cpan/bin
PERL5LIB =
PERL5OPT =
PERL5_CPANPLUS_IS_RUNNING = 88743
PERL5_CPAN_IS_RUNNING = 88743
PERL_MM_USE_DEFAULT = 1
PERL_USE_UNSAFE_INC = 1
PERL_VERSION = blead
SHELL = /usr/local/bin/bash
TERM = screen
TMPDIR = /home/cpan/tmp
Perl special variables (and OS-specific diagnostics, for MSWin32):
$^X = /usr/home/cpan/bin/perl-blead/bin/perl5.35.11
$UID/$EUID = 1002 / 1002
$GID = 1002 1002
$EGID = 1002 1002
Perl module toolchain versions installed:
Module Have
------------------- --------
CPAN 2.33
CPAN::Meta 2.150010
Cwd 3.84
ExtUtils::CBuilder 0.280236
ExtUtils::Command 7.64
ExtUtils::Install 2.20
ExtUtils::MakeMaker 7.64
ExtUtils::Manifest 1.73
ExtUtils::ParseXS 3.45
File::Spec 3.84
JSON 4.05
JSON::PP 4.07
Module::Build 0.4231
Module::Signature n/a
Parse::CPAN::Meta 2.150010
Test::Harness 3.43
Test::More 1.302190
YAML 1.30
YAML::Syck 1.34
version 0.9929
--
Summary of my perl5 (revision 5 version 35 subversion 11) configuration:
Commit id: bb5e773d6fb68865d8e2c5a392215c27c7b49636
Platform:
osname=freebsd
osvers=12.3-release-p5
archname=amd64-freebsd-thread-multi
uname='freebsd cjg-freebsd12 12.3-release-p5 freebsd 12.3-release-p5 generic amd64 '
config_args='-des -Dprefix=~/bin/perl-blead -Dscriptdir=~/bin/perl-blead/bin -Dusedevel -Duse64bitall -Duseithreads'
hint=recommended
useposix=true
d_sigaction=define
useithreads=define
usemultiplicity=define
use64bitint=define
use64bitall=define
uselongdouble=undef
usemymalloc=n
default_inc_excludes_dot=define
Compiler:
cc='cc'
ccflags ='-DHAS_FPSETMASK -DHAS_FLOATINGPOINT_H -fno-strict-aliasing -pipe -fstack-protector-strong -I/usr/local/include'
optimize='-O2'
cppflags='-DHAS_FPSETMASK -DHAS_FLOATINGPOINT_H -fno-strict-aliasing -pipe -fstack-protector-strong -I/usr/local/include'
ccversion=''
gccversion='FreeBSD Clang 10.0.1 (git@github.com:llvm/llvm-project.git llvmorg-10.0.1-0-gef32c611aa2)'
gccosandvers=''
intsize=4
longsize=8
ptrsize=8
doublesize=8
byteorder=12345678
doublekind=3
d_longlong=define
longlongsize=8
d_longdbl=define
longdblsize=16
longdblkind=3
ivtype='long'
ivsize=8
nvtype='double'
nvsize=8
Off_t='off_t'
lseeksize=8
alignbytes=8
prototype=define
Linker and Libraries:
ld='cc'
ldflags ='-pthread -Wl,-E -fstack-protector-strong -L/usr/local/lib'
libpth=/usr/lib /usr/local/lib /usr/lib/clang/10.0.1/lib
libs=-lpthread -ldl -lm -lcrypt -lutil
perllibs=-lpthread -ldl -lm -lcrypt -lutil
libc=
so=so
useshrplib=false
libperl=libperl.a
gnulibc_version=''
Dynamic Linking:
dlsrc=dl_dlopen.xs
dlext=so
d_dlsymun=undef
ccdlflags=' '
cccdlflags='-DPIC -fPIC'
lddlflags='-shared -L/usr/local/lib -fstack-protector-strong'
Characteristics of this binary (from libperl):
Compile-time options:
HAS_TIMES
MULTIPLICITY
PERLIO_LAYERS
PERL_COPY_ON_WRITE
PERL_DONT_CREATE_GVSV
PERL_MALLOC_WRAP
PERL_OP_PARENT
PERL_PRESERVE_IVUV
PERL_USE_DEVEL
USE_64_BIT_ALL
USE_64_BIT_INT
USE_ITHREADS
USE_LARGE_FILES
USE_LOCALE
USE_LOCALE_COLLATE
USE_LOCALE_CTYPE
USE_LOCALE_NUMERIC
USE_LOCALE_TIME
USE_PERLIO
USE_PERL_ATOF
USE_REENTRANT_API
USE_THREAD_SAFE_LOCALE
Built under freebsd
Compiled at Apr 9 2022 23:11:26
%ENV:
PERL5LIB=""
PERL5OPT=""
PERL5_CPANPLUS_IS_RUNNING="88743"
PERL5_CPAN_IS_RUNNING="88743"
PERL_MM_USE_DEFAULT="1"
PERL_USE_UNSAFE_INC="1"
PERL_VERSION="blead"
@INC:
/home/cpan/bin/perl-blead/lib/site_perl/5.35.11/amd64-freebsd-thread-multi
/home/cpan/bin/perl-blead/lib/site_perl/5.35.11
/home/cpan/bin/perl-blead/lib/5.35.11/amd64-freebsd-thread-multi
/home/cpan/bin/perl-blead/lib/5.35.11
.